BEGIN:VCALENDAR
VERSION:2.0
PRODID:-//ChamberMaster//Event Calendar 2.0//EN
METHOD:PUBLISH
X-PUBLISHED-TTL:P3D
REFRESH-INTERVAL:P3D
CALSCALE:GREGORIAN
BEGIN:VEVENT
DTSTART:20201111T190000Z
DTEND:20201111T200000Z
X-MICROSOFT-CDO-ALLDAYEVENT:FALSE
SUMMARY:From Whiteboards to the Cloud: Why Contractors Are Choosing to Digitize Workforce Management
DESCRIPTION:Speakers: TJ Baggett\, Corna Kokosing\; John Olofsson\, DPR Construction\; Ben Schultz\, LaborChart\n\nModerator: Maggie Murphy\, ABC National \n\n \n\nThis webinar will feature innovative contractors who have successfully digitized their workforce management procedures and revamped their organization's staff by moving to cloud-based management tools. By adopting these tools and protocols\, contractors can enable efficient use of their workforces\, increase accurate forecasting\, improve project margins and experience a reduction in delays due to labor shortages.\n\n \n\nRegister today.
X-ALT-DESC;FMTTYPE=text/html:<strong><span style="color:black\;"><span style="font-family:arial\,sans-serif\;"><span style="font-size:12.0pt\;">Speakers: </span></span></span></strong><span style="color:black\;"><span style="font-family:arial\,sans-serif\;"><span style="font-size:12.0pt\;">TJ Baggett\, Corna Kokosing\; John Olofsson\, DPR Construction\; Ben Schultz\, LaborChart</span></span></span><br />\n<strong><span style="color:black\;"><span style="font-family:arial\,sans-serif\;"><span style="font-size:12.0pt\;">Moderator:</span></span></span></strong><span style="color:black\;"><span style="font-family:arial\,sans-serif\;"><span style="font-size:12.0pt\;"> Maggie Murphy\, ABC National </span></span></span><br />\n&nbsp\;<br />\n<span style="color:black\;"><span style="font-family:arial\,sans-serif\;"><span style="font-size:12.0pt\;">This webinar will feature innovative contractors who have successfully digitized their workforce management procedures and revamped their organization&rsquo\;s staff by moving to cloud-based management tools. By adopting these tools and protocols\, contractors can enable efficient use of their workforces\, increase accurate forecasting\, improve project margins and experience a reduction in delays due to labor shortages.</span></span></span><br />\n&nbsp\;<br />\n<span style="color:#403F42\;"><span style="font-family:arial\,sans-serif\;"><span style="font-size:9.0pt\;"><a href="http://r20.rs6.net/tn.jsp?f=001ZizGWE3MA5TBnwv9cNegDH6HIVO20R9mK2pN7TBdyKA2A8iw_TK5E6ER9oasdsx4zAQHrqcxv1P4Qv6j-rKhgZWoEuJ3RD1UuNu2FPJE6CRQiEBs1hEICXur5t05Db7UUXts2uEn8BXV1OFaImu6gRtRKDRfKbnQjvdqlaQtcrDYuvf4XlIx4iliDpPIEaVv3hPJlckGtmgQYS0vsGkl7AAGsjaelTcB&amp\;c=L0owhvnW5I0OY_qurVVQxAaccHuq7MG3rFcCXSExDgbccrzuEoRIhA==&amp\;ch=tUj-JOjoC69Qrg9nEgXZvpZHOsLj_pOjvZJbhkg5JhYJbN-e5PofOw==" target="_blank"><span style="color:#09A3BA\;"><span style="font-size:12.0pt\;">Register today.</span></span></a></span></span></span>
LOCATION:
UID:e.9143.897
SEQUENCE:3
DTSTAMP:20260425T151807Z
URL:https://business.abcnalabama.org/events/details/from-whiteboards-to-the-cloud-why-contractors-are-choosing-to-digitize-workforce-management-897
END:VEVENT

END:VCALENDAR
