BEGIN:VCALENDAR
VERSION:2.0
PRODID:-//ChamberMaster//Event Calendar 2.0//EN
METHOD:PUBLISH
X-PUBLISHED-TTL:P3D
REFRESH-INTERVAL:P3D
CALSCALE:GREGORIAN
BEGIN:VEVENT
DTSTART:20240425T150000Z
DTEND:20240425T160000Z
X-MICROSOFT-CDO-ALLDAYEVENT:FALSE
SUMMARY:Heat Stress: Understanding the Basics
DESCRIPTION:Heat Stress: Understanding the Basics\n		\n		\n			Please join us for a free webinar on Heat Stress: Understanding the Basics.\n\n			DATE:  April 25\, 2024\n\n			TIME: 10:00 am -11:00 am CT\n\n			Register Now!\n\n			After registering\, you will receive a confirmation email containing information about joining the meeting. Thank you!\n\n			DESCRIPTION:\n\n			Heat stress is a major area of concern for most employers.  It affects the well-being of your employees and production rates and is a major OSHA compliance issue.\n\n			In this webinar\, we will discuss the practical issues.  Signs and symptoms\, prevention and response.  A means of developing a plan that is proactive and understandable. \n\n			Webinar Instructor:\n\n			Randy M. Easterling\n\n			Randy M. Easterling is the Safety Program Supervisor for OSH Consultation for the University of Alabama Safe State Program. He has a graduate of the University of Alabama at Birmingham's Industrial Hygiene Program with the degree of Master of Science in Public Health.  He is a Certified Industrial Hygienist and Certified Safety Professional. Mr. Easterling is a Full Member of the American Industrial Hygiene Association and serves on their Governmental Affairs\, Training\, and Conference Committees.  He is a Professional Member of the American Society of Safety Professionals.  He is the Past President of the Alabama Chapter. He is the 2020 Region IV Safety Professional of the Year for ASSP and the 2017 Safety Professional of the Year for the Alabama Chapter.        \n\n			Mr. Easterling serves on the Board of Advisors for the Deep South Center which includes the graduate safety and industrial hygiene programs at Auburn University and UAB.
X-ALT-DESC;FMTTYPE=text/html:<table border="0" cellpadding="0" cellspacing="0" style="width:100.0%\;border-collapse:collapse\;" width="100%">\n	<tbody>\n		<tr>\n			<td style="padding:.25in 0in 0in 0in\;"><span style="color:#333333\;"><span style="font-family:verdana\,sans-serif\;"><span style="font-size:13.5pt\;">Heat Stress: Understanding the Basics</span></span></span></td>\n		</tr>\n		<tr>\n			<td style="padding:12.0pt 0in 0in 0in\;"><span style="color:#333333\;"><span style="font-family:verdana\,sans-serif\;">Please join us for a free webinar on Heat Stress: Understanding the Basics.</span></span><br />\n			<strong><span style="color:#333333\;"><span style="font-family:verdana\,sans-serif\;">DATE:</span></span></strong><span style="color:#333333\;"><span style="font-family:verdana\,sans-serif\;">&nbsp\; April 25\, 2024</span></span><br />\n			<strong><span style="color:#333333\;"><span style="font-family:verdana\,sans-serif\;">TIME:</span></span></strong><span style="color:#333333\;"><span style="font-family:verdana\,sans-serif\;"> 10:00 am -11:00 am CT</span></span><br />\n			<strong><span style="color:#333333\;"><span style="font-family:helvetica\,sans-serif\;"><a href="https://nam02.safelinks.protection.outlook.com/?url=https%3A%2F%2Fccs2.ua.edu%2Fe%2F893691%2Fster-WN-67AQVlnlQWiwU12TGYAKYg%2F31j8lpc%2F1153693108%2Fh%2FYPKXyMjllikv6i8HkAh9WXT30CZMsuR0H2ACdoio2fc&amp\;data=05%7C02%7Ctiffany%40abcnalabama.org%7Cf818363edfe34366fc2f08dc5ee902c5%7C7860ff22b2264446a50cc64f1b523ec0%7C0%7C0%7C638489602083245140%7CUnknown%7CTWFpbGZsb3d8eyJWIjoiMC4wLjAwMDAiLCJQIjoiV2luMzIiLCJBTiI6Ik1haWwiLCJXVCI6Mn0%3D%7C0%7C%7C%7C&amp\;sdata=UL8ynmvojXA802CQ8U2Ie%2FfYP9%2FNFXkNLbTAnuC%2FfqU%3D&amp\;reserved=0"><span style="font-family:verdana\,sans-serif\;">Register Now!</span></a></span></span></strong><br />\n			<span style="color:#333333\;"><span style="font-family:verdana\,sans-serif\;">After registering\, you will receive a confirmation email containing information about joining the meeting. Thank you!</span></span><br />\n			<strong><span style="color:#333333\;"><span style="font-family:verdana\,sans-serif\;">DESCRIPTION:</span></span></strong><br />\n			<span style="color:#333333\;"><span style="font-family:verdana\,sans-serif\;">Heat stress is a major area of concern for most employers.&nbsp\; It affects the well-being of your employees and production rates and is a major OSHA compliance issue.</span></span><br />\n			<span style="color:#333333\;"><span style="font-family:verdana\,sans-serif\;">In this webinar\, we will discuss the practical issues.&nbsp\; Signs and symptoms\, prevention and response.&nbsp\; A means of developing a plan that is proactive and understandable. </span></span><br />\n			<strong><span style="color:#333333\;"><span style="font-family:verdana\,sans-serif\;">Webinar Instructor:</span></span></strong><br />\n			<span style="color:#333333\;"><span style="font-family:verdana\,sans-serif\;">Randy M. Easterling</span></span><br />\n			<span style="color:#333333\;"><span style="font-family:verdana\,sans-serif\;">Randy M. Easterling is the Safety Program Supervisor for OSH Consultation for the University of Alabama Safe State Program. He has a graduate of the University of Alabama at Birmingham&rsquo\;s Industrial Hygiene Program with the degree of Master of Science in Public Health.&nbsp\; He is a Certified Industrial Hygienist and Certified Safety Professional. Mr. Easterling is a Full Member of the American Industrial Hygiene Association and serves on their Governmental Affairs\, Training\, and Conference Committees.&nbsp\; He is a Professional Member of the American Society of Safety Professionals.&nbsp\; He is the Past President of the Alabama Chapter. He is the 2020 Region IV Safety Professional of the Year for ASSP and the 2017 Safety Professional of the Year for the Alabama Chapter.&nbsp\;&nbsp\;&nbsp\;&nbsp\;&nbsp\;&nbsp\;&nbsp\; </span></span><br />\n			<span style="color:#333333\;"><span style="font-family:verdana\,sans-serif\;">Mr. Easterling serves on the Board of Advisors for the Deep South Center which includes the graduate safety and industrial hygiene programs at Auburn University and UAB.</span></span></td>\n		</tr>\n	</tbody>\n</table>\n
LOCATION:
UID:e.9143.1190
SEQUENCE:3
DTSTAMP:20260421T200753Z
URL:https://business.abcnalabama.org/events/details/heat-stress-understanding-the-basics-1190
END:VEVENT

END:VCALENDAR
