BEGIN:VCALENDAR
VERSION:2.0
PRODID:-//ChamberMaster//Event Calendar 2.0//EN
METHOD:PUBLISH
X-PUBLISHED-TTL:P3D
REFRESH-INTERVAL:P3D
CALSCALE:GREGORIAN
BEGIN:VEVENT
DTSTART:20201014T170000Z
DTEND:20201014T180000Z
X-MICROSOFT-CDO-ALLDAYEVENT:FALSE
SUMMARY:Latest Updates on DOL's COVID-19 Paid Leave and Other Hot Topics
DESCRIPTION:Date: Wednesday\, Oct. 14\n\nTime: 1 p.m. EDT\n\nSpeaker: Maury Baskin\, Littler Mendelson P.C.\n\n \n\nOn Aug. 3\, an Obama-appointed federal judge in New York nullified key sections of the U.S. Department of Labor's rules governing paid leave under the Families First Coronavirus Response Act. Following the court decision\, on Sept. 11\, the DOL revised its guidance that restricted paid leave during layoffs and furloughs\, required employer consent to paid intermittent leave and required employees to provide documentation before taking leave. ABC General Counsel Maury Baskin will discuss how the revised FFCRA guidance impacts construction contractors and chapters.\n\n \n\nRegister today.
X-ALT-DESC;FMTTYPE=text/html:<strong><span style="color:black\;"><span style="font-family:arial\,sans-serif\;"><span style="font-size:12.0pt\;">Date:</span></span></span></strong><span style="color:black\;"><span style="font-family:arial\,sans-serif\;"><span style="font-size:12.0pt\;">&nbsp\;Wednesday\, Oct. 14</span></span></span><br />\n<strong><span style="color:black\;"><span style="font-family:arial\,sans-serif\;"><span style="font-size:12.0pt\;">Time:</span></span></span></strong><span style="color:black\;"><span style="font-family:arial\,sans-serif\;"><span style="font-size:12.0pt\;">&nbsp\;1 p.m. EDT</span></span></span><br />\n<strong><span style="color:black\;"><span style="font-family:arial\,sans-serif\;"><span style="font-size:12.0pt\;">Speaker: </span></span></span></strong><span style="color:black\;"><span style="font-family:arial\,sans-serif\;"><span style="font-size:12.0pt\;">Maury Baskin\, Littler Mendelson P.C.</span></span></span><br />\n&nbsp\;<br />\n<span style="color:black\;"><span style="font-family:arial\,sans-serif\;"><span style="font-size:12.0pt\;">On Aug. 3\, an Obama-appointed federal judge in New York nullified key sections of the U.S. Department of Labor&rsquo\;s rules governing paid leave under the Families First Coronavirus Response Act. Following the court decision\, on Sept. 11\, the DOL revised its guidance that restricted paid leave during layoffs and furloughs\, required employer consent to paid intermittent leave and required employees to provide documentation before taking leave. ABC General Counsel Maury Baskin will discuss how the revised FFCRA guidance impacts construction contractors and chapters.</span></span></span><br />\n&nbsp\;<br />\n<span style="color:#403F42\;"><span style="font-family:arial\,sans-serif\;"><span style="font-size:9.0pt\;"><a href="http://r20.rs6.net/tn.jsp?f=00118JdyvG8nWq6nCNPLrMnmalnzaU977GVqfXYgyqhyOOKKhJKdsxlgEVy01tBmRYrdngRluQCQnX1nwchZBWA6aKllXUw51Yn8e8IQIo6gJ867MonVvOneepctd0LK-FODtoD4vc8PLSOm9qT5z_ytM7-d76rTrJOH8ssSnSpDtjU8eZcOhFRumzoU5VEXkel0ssbr4-uWK0Rvc2thCD1wg==&amp\;c=8367cwGrl0YggiSrZwcx1L9OScp5wwagF_0QZ8G_TlELyj-KF9EfKA==&amp\;ch=TYwhbMSHCjHuBHojy7iP8Isr0-VVtnvflqA2_xhpijemOadmKrHwlQ==" target="_blank"><span style="color:#09A3BA\;"><span style="font-size:12.0pt\;">Register today.</span></span></a></span></span></span>
LOCATION:
UID:e.9143.887
SEQUENCE:3
DTSTAMP:20260425T140248Z
URL:https://business.abcnalabama.org/events/details/latest-updates-on-dol-s-covid-19-paid-leave-and-other-hot-topics-887
END:VEVENT

END:VCALENDAR
