BEGIN:VCALENDAR
VERSION:2.0
PRODID:-//ChamberMaster//Event Calendar 2.0//EN
METHOD:PUBLISH
X-PUBLISHED-TTL:P3D
REFRESH-INTERVAL:P3D
CALSCALE:GREGORIAN
BEGIN:VEVENT
DTSTART:20200807T153000Z
DTEND:20200807T163000Z
X-MICROSOFT-CDO-ALLDAYEVENT:FALSE
SUMMARY:Littler's Friday Webinar Series
DESCRIPTION:Session Title:\n			COVID-19 in the Workplace: Recent Developments and Compliance Challenges\n		\n		\n			Speakers:\n			Bruce J. Sarchet\, Littler Mendelson P.C.\; Kayla K. Cox\, Littler Mendelson P.C.\;\n		\n		\n		\n	\n\n\n\n\nWEBINAR DESCRIPTION\n\n*Hosted by Littler Mendelson P.C.* Login information will be provided to the participants the day before the webinar.\n\nIt has become apparent that COVID-19 is going to dominate employment and labor law issues for the foreseeable future. On Friday\, April 3\, Littler's Sacramento office presented a webinar on dealing with COVID-19 in the workplace. More than 500 attendees generated over 100 questions\, and we were unable to answer all of them in the allotted time. Plus\, the laws relating to the pandemic are changing virtually every day.\n\n\n\nTherefore\, to address evolving labor and employment law challenges\, Littler has decided to host COVID-19 webinars on the first Friday of each month. The series is designed so that business leaders\, human resources professionals and in-house counsel can stay current with the best thinking that Littler has to offer during the crisis.\n\n\n\nEach session will begin with a 30-minute update on recent legal developments\, including practical suggestions and strategic thinking for responding to new COVID-19 challenges\, followed by a 30-minute to an "open microphone" session to answer your questions.\n\n\n	\n		\n			Date:\n			Friday\, August 7\, 2020\n			 \n		\n		\n			Time:\n			11:30 a.m. EDT\n		\n		\n			Length:\n			60 minutes
X-ALT-DESC;FMTTYPE=text/html:<table style="box-sizing: inherit\; color: rgb(83\, 83\, 83)\; font-family: Calibri\, Helvetica\, Arial\, sans-serif\; font-size: 14px\; border-collapse: collapse\; width: 673px\;">\n	<tbody style="box-sizing: inherit\;">\n		<tr style="box-sizing: inherit\;">\n			<td style="box-sizing: inherit\; vertical-align: top\;"><span style="box-sizing: inherit\; margin: 0px\; padding: 0px\; border: 0px\; font-style: inherit\; font-variant: inherit\; font-weight: bolder\; font-stretch: inherit\; font-size: inherit\; line-height: inherit\; font-family: inherit\; vertical-align: baseline\;"><span style="box-sizing: inherit\; margin: 0px\; padding: 0px\; border: 0px\; font-style: inherit\; font-variant: inherit\; font-weight: inherit\; font-stretch: inherit\; font-size: inherit\; line-height: inherit\; font-family: Calibri\; vertical-align: baseline\; color: rgb(128\, 128\, 128)\;">Session Title:</span></span></td>\n			<td style="box-sizing: inherit\; width: 504px\; vertical-align: top\;">COVID-19 in the Workplace: Recent Developments and Compliance Challenges</td>\n		</tr>\n		<tr style="box-sizing: inherit\;">\n			<td style="box-sizing: inherit\; vertical-align: top\;"><span style="box-sizing: inherit\; margin: 0px\; padding: 0px\; border: 0px\; font-style: inherit\; font-variant: inherit\; font-weight: bolder\; font-stretch: inherit\; font-size: inherit\; line-height: inherit\; font-family: inherit\; vertical-align: baseline\;"><span style="box-sizing: inherit\; margin: 0px\; padding: 0px\; border: 0px\; font-style: inherit\; font-variant: inherit\; font-weight: inherit\; font-stretch: inherit\; font-size: inherit\; line-height: inherit\; font-family: Calibri\; vertical-align: baseline\; color: rgb(128\, 128\, 128)\;">Speakers:</span></span></td>\n			<td style="box-sizing: inherit\; width: 504px\; vertical-align: top\;">Bruce J. Sarchet\, Littler Mendelson P.C.\; Kayla K. Cox\, Littler Mendelson P.C.\;</td>\n		</tr>\n		<tr style="box-sizing: inherit\;">\n		</tr>\n	</tbody>\n</table>\n\n<p style="box-sizing: inherit\; margin: 0px 0px 1rem\; padding: 0px\; border: 0px\; font-variant-numeric: inherit\; font-variant-east-asian: inherit\; font-stretch: inherit\; font-size: 14px\; line-height: inherit\; font-family: Calibri\, Helvetica\, Arial\, sans-serif\; vertical-align: baseline\; color: rgb(83\, 83\, 83)\;"><br style="box-sizing: inherit\;" />\n<span class="Heading2" style="box-sizing: inherit\; margin: 0px 0px 5px\; padding: 0px\; border: 0px\; font-style: inherit\; font-variant: inherit\; font-weight: bold\; font-stretch: inherit\; font-size: inherit\; line-height: inherit\; vertical-align: baseline\; text-transform: uppercase\; color: rgb(128\, 128\, 128)\;">WEBINAR DESCRIPTION</span><br style="box-sizing: inherit\;" />\n<span style="box-sizing: inherit\; margin: 0px\; padding: 0px\; border: 0px\; font: inherit\; vertical-align: baseline\; color: red\;">*Hosted by Littler Mendelson P.C.* Login information will be provided to the participants the day before the webinar.</span></p>\n\n<p style="box-sizing: inherit\; margin: 0px 0px 1rem\; padding: 0px\; border: 0px\; font-variant-numeric: inherit\; font-variant-east-asian: inherit\; font-stretch: inherit\; font-size: 14px\; line-height: inherit\; font-family: Calibri\, Helvetica\, Arial\, sans-serif\; vertical-align: baseline\; color: rgb(83\, 83\, 83)\;">It has become apparent that COVID-19 is going to dominate employment and labor law issues for the foreseeable future. On Friday\, April 3\, Littler&#39\;s Sacramento office presented a webinar on dealing with COVID-19 in the workplace. More than 500 attendees generated over 100 questions\, and we were unable to answer all of them in the allotted time. Plus\, the laws relating to the pandemic are changing virtually every day.</p>\n\n<p style="box-sizing: inherit\; margin: 0px 0px 1rem\; padding: 0px\; border: 0px\; font-variant-numeric: inherit\; font-variant-east-asian: inherit\; font-stretch: inherit\; font-size: 14px\; line-height: inherit\; font-family: Calibri\, Helvetica\, Arial\, sans-serif\; vertical-align: baseline\; color: rgb(83\, 83\, 83)\;"><br style="box-sizing: inherit\;" />\nTherefore\, to address evolving labor and employment law challenges\, Littler has decided to host COVID-19 webinars on the first Friday of each month. The series is designed so that business leaders\, human resources professionals and in-house counsel can stay current with the best thinking that Littler has to offer during the crisis.</p>\n\n<p style="box-sizing: inherit\; margin: 0px 0px 1rem\; padding: 0px\; border: 0px\; font-variant-numeric: inherit\; font-variant-east-asian: inherit\; font-stretch: inherit\; font-size: 14px\; line-height: inherit\; font-family: Calibri\, Helvetica\, Arial\, sans-serif\; vertical-align: baseline\; color: rgb(83\, 83\, 83)\;"><br style="box-sizing: inherit\;" />\nEach session will begin with a 30-minute update on recent legal developments\, including practical suggestions and strategic thinking for responding to new COVID-19 challenges\, followed by a 30-minute to an &ldquo\;open microphone&quot\; session to answer your questions.</p>\n\n<table style="box-sizing: inherit\; color: rgb(83\, 83\, 83)\; font-family: Calibri\, Helvetica\, Arial\, sans-serif\; font-size: 14px\; border-collapse: collapse\; width: 673px\;">\n	<tbody style="box-sizing: inherit\;">\n		<tr style="box-sizing: inherit\;">\n			<td style="box-sizing: inherit\; vertical-align: top\;"><span style="box-sizing: inherit\; margin: 0px\; padding: 0px\; border: 0px\; font-style: inherit\; font-variant: inherit\; font-weight: bolder\; font-stretch: inherit\; font-size: inherit\; line-height: inherit\; font-family: inherit\; vertical-align: baseline\;"><span style="box-sizing: inherit\; margin: 0px\; padding: 0px\; border: 0px\; font-style: inherit\; font-variant: inherit\; font-weight: inherit\; font-stretch: inherit\; font-size: inherit\; line-height: inherit\; font-family: Calibri\; vertical-align: baseline\; color: rgb(128\, 128\, 128)\;">Date:</span></span></td>\n			<td style="box-sizing: inherit\; width: 503px\; vertical-align: top\;">Friday\, August 7\, 2020</td>\n			<td class="Heading6" rowspan="4" style="box-sizing: inherit\; color: rgb(247\, 49\, 54)\; margin: 0px 0px 5px\; font-weight: bold\; text-transform: uppercase\; text-align: right\; vertical-align: top\;">&nbsp\;</td>\n		</tr>\n		<tr style="box-sizing: inherit\;">\n			<td style="box-sizing: inherit\; vertical-align: top\;"><span style="box-sizing: inherit\; margin: 0px\; padding: 0px\; border: 0px\; font-style: inherit\; font-variant: inherit\; font-weight: bolder\; font-stretch: inherit\; font-size: inherit\; line-height: inherit\; font-family: inherit\; vertical-align: baseline\;"><span style="box-sizing: inherit\; margin: 0px\; padding: 0px\; border: 0px\; font-style: inherit\; font-variant: inherit\; font-weight: inherit\; font-stretch: inherit\; font-size: inherit\; line-height: inherit\; font-family: Calibri\; vertical-align: baseline\; color: rgb(128\, 128\, 128)\;">Time:</span></span></td>\n			<td style="box-sizing: inherit\; width: 503px\; vertical-align: top\;">11:30 a.m. EDT</td>\n		</tr>\n		<tr style="box-sizing: inherit\;">\n			<td style="box-sizing: inherit\; vertical-align: top\;"><span style="box-sizing: inherit\; margin: 0px\; padding: 0px\; border: 0px\; font-style: inherit\; font-variant: inherit\; font-weight: bolder\; font-stretch: inherit\; font-size: inherit\; line-height: inherit\; font-family: inherit\; vertical-align: baseline\;"><span style="box-sizing: inherit\; margin: 0px\; padding: 0px\; border: 0px\; font-style: inherit\; font-variant: inherit\; font-weight: inherit\; font-stretch: inherit\; font-size: inherit\; line-height: inherit\; font-family: Calibri\; vertical-align: baseline\; color: rgb(128\, 128\, 128)\;">Length:</span></span></td>\n			<td style="box-sizing: inherit\; width: 503px\; vertical-align: top\;">60 minutes</td>\n		</tr>\n	</tbody>\n</table>\n
LOCATION:
UID:e.9143.866
SEQUENCE:3
DTSTAMP:20260425T112601Z
URL:https://business.abcnalabama.org/events/details/littler-s-friday-webinar-series-866
END:VEVENT

END:VCALENDAR
