BEGIN:VCALENDAR
VERSION:2.0
PRODID:-//ChamberMaster//Event Calendar 2.0//EN
METHOD:PUBLISH
X-PUBLISHED-TTL:P3D
REFRESH-INTERVAL:P3D
CALSCALE:GREGORIAN
BEGIN:VEVENT
DTSTART:20200407T140000Z
DTEND:20200407T150000Z
X-MICROSOFT-CDO-ALLDAYEVENT:FALSE
SUMMARY:Member Call-In: Safety Practices during COVID-19
DESCRIPTION:Tuesday Member Call-in: Safety Procedures during COVID-19\n					\n				\n			\n			\n		\n	\n\n\n \n \n\n\n	\n		\n			\n			\n				\n					\n						We want to give members a chance to connect and have open discussion on how COVID-19 and Gov. Ivey's "stay at home" order are impacting your company's ability to deliver work during this time. Please dial in using the info below to participate. \n\n						 \n\n						We would like to schedule calls like this frequently for members to be able to connect. If there are specific topics you would like to discuss in the future\, please send them to us ahead of time and we will arrange an agenda.\n\n						 \n\n						Tuesday\, April 7 at 9:00 am\n\n						Dial: (256) 290-4459 \n\n						Audio PIN: Email Tiffany@abcnalabama.org for PIN
X-ALT-DESC;FMTTYPE=text/html:<table align="center" border="0" cellpadding="0" cellspacing="0" style="width:100.0%\;border-collapse:collapse\;" width="100%">\n	<tbody>\n		<tr>\n			<td style="width:100.0%\;padding:0in 0in 0in 0in\;vertical-align:top\;">\n			<table border="0" cellpadding="0" cellspacing="0" style="width:100.0%\;border-collapse:collapse\;" width="100%">\n				<tbody>\n					<tr>\n						<td style="padding:7.5pt 15.0pt 7.5pt 15.0pt\;vertical-align:top\;"><strong><span style="color:#BF3F2F\;"><span style="font-family:arial\,sans-serif\;"><span style="font-size:13.5pt\;">Tuesday Member Call-in: Safety Procedures during COVID-19</span></span></span></strong></td>\n					</tr>\n				</tbody>\n			</table>\n			</td>\n		</tr>\n	</tbody>\n</table>\n\n<div style="clear:both\;">&nbsp\;</div>\n&nbsp\;\n\n<table align="center" border="0" cellpadding="0" cellspacing="0" style="width:100.0%\;border-collapse:collapse\;min-width:100%\;" width="100%">\n	<tbody>\n		<tr>\n			<td style="width:100.0%\;padding:0in 0in 0in 0in\;word-wrap:break-word\;vertical-align:top\;">\n			<table border="0" cellpadding="0" cellspacing="0" style="width:100.0%\;border-collapse:collapse\;min-width:100%\;" width="100%">\n				<tbody>\n					<tr>\n						<td style="padding:7.5pt 15.0pt 7.5pt 15.0pt\;vertical-align:top\;"><span style="color:black\;"><span style="font-family:arial\,sans-serif\;"><span style="font-size:12.0pt\;">We want to give members a chance to connect and have open discussion on how COVID-19 and Gov. Ivey&#39\;s &quot\;stay at home&quot\; order are impacting your company&#39\;s ability to deliver work during this time. Please dial in using the info below to participate. </span></span></span><br />\n						&nbsp\;<br />\n						<span style="color:black\;"><span style="font-family:arial\,sans-serif\;"><span style="font-size:12.0pt\;">We would like to schedule calls like this frequently for members to be able to connect. If there are specific topics you would like to discuss in the future\, </span></span></span><span style="color:#403F42\;"><span style="font-family:arial\,sans-serif\;"><span style="font-size:9.0pt\;"><a target="_blank"><span style="color:#09A3BA\;"><span style="font-size:12.0pt\;">please send them to us</span></span></a></span></span></span><span style="color:black\;"><span style="font-family:arial\,sans-serif\;"><span style="font-size:12.0pt\;"> ahead of time and we will arrange an agenda.</span></span></span><br />\n						&nbsp\;<br />\n						<strong><span style="color:black\;"><span style="font-family:arial\,sans-serif\;"><span style="font-size:12.0pt\;">Tuesday\, April 7 at 9:00 am</span></span></span></strong><br />\n						<strong><span style="color:black\;"><span style="font-family:arial\,sans-serif\;"><span style="font-size:12.0pt\;">Dial: (256) 290-4459 </span></span></span></strong><br />\n						<strong><span style="color:black\;"><span style="font-family:arial\,sans-serif\;"><span style="font-size:12.0pt\;">Audio PIN: Email Tiffany@abcnalabama.org for PIN</span></span></span></strong></td>\n					</tr>\n				</tbody>\n			</table>\n			</td>\n		</tr>\n	</tbody>\n</table>\n\n<div style="clear:both\;">&nbsp\;</div>\n
LOCATION:
UID:e.9143.835
SEQUENCE:3
DTSTAMP:20260425T163341Z
URL:https://business.abcnalabama.org/events/details/member-call-in-safety-practices-during-covid-19-835
END:VEVENT

END:VCALENDAR
