BEGIN:VCALENDAR
VERSION:2.0
PRODID:-//ChamberMaster//Event Calendar 2.0//EN
METHOD:PUBLISH
X-PUBLISHED-TTL:P3D
REFRESH-INTERVAL:P3D
CALSCALE:GREGORIAN
BEGIN:VEVENT
DTSTART:20200804T190000Z
DTEND:20200804T200000Z
X-MICROSOFT-CDO-ALLDAYEVENT:FALSE
SUMMARY:New COVID-19 Paid Leave Issues for Employers as the Country Reopens
DESCRIPTION:With the approach of the school year and controversy in many states about whether schools will reopen fully\, partially or not at all\, many construction industry employers are wondering how the different reopening plans will affect their obligations to workers\, including paid and unpaid leave. Since April 1\, the Families First Coronavirus Response Act has required COVID-related paid leave for private-sector employers with fewer than 500 employees\, but a number of school reopening issues remain unclear. ABC General Counsel Maury Baskin will discuss the latest legal developments and practical choices confronting ABC members and chapter staff. Other topics will include remote working generally and the continuing controversies over shutdown/reopening orders in the construction industry.\n\n \n\n \n\nRegister today.
X-ALT-DESC;FMTTYPE=text/html:<span style="color:black\;"><span style="font-family:arial\,sans-serif\;"><span style="font-size:12.0pt\;">With the approach of the school year and controversy in many states about whether schools will reopen fully\, partially or not at all\, many construction industry employers are wondering how the different reopening plans will affect their obligations to workers\, including paid and unpaid leave. Since April 1\, the Families First Coronavirus Response Act has required COVID-related paid leave for private-sector employers with fewer than 500 employees\, but a number of school reopening issues remain unclear. ABC General Counsel Maury Baskin will discuss the latest legal developments and practical choices confronting ABC members and chapter staff. Other topics will include remote working generally and the continuing controversies over shutdown/reopening orders in the construction industry.</span></span></span><br />\n&nbsp\;<br />\n&nbsp\;<br />\n<span style="color:#403F42\;"><span style="font-family:arial\,sans-serif\;"><span style="font-size:9.0pt\;"><a href="http://r20.rs6.net/tn.jsp?f=001qgUsfrhOhOqOgsj-MmGcBCEPzZtgIL-9Fyojuh_bve-8ClUleldJk0cz1fVDzavWIeuUVEr9Nv11-FflT3AbKZd7uqR9oR8RAUzhcTwjpHExJQdZebTMQ9Mj-b4EGhv2KoI-hS44-mQXm2ppyyMK81dR7l1ktG63nJJYDAv9yRjk-8d-D01PAwI-lyUTMu5n1DT5d_Zw3PBIpXgdiv0anA==&amp\;c=ivrFQg2PppkTd06Zy4K7q1F7dVXUUH5X3Gg5NmOQG2NSQMfGHc4tdw==&amp\;ch=tsaMfQrN5fE2kdfVVTI10jzprEmGGswGMmgVWzZNCc1k84--alMWLg==" target="_blank"><span style="color:#09A3BA\;"><span style="font-size:12.0pt\;">Register today.</span></span></a></span></span></span>
LOCATION:
UID:e.9143.868
SEQUENCE:3
DTSTAMP:20260425T112856Z
URL:https://business.abcnalabama.org/events/details/new-covid-19-paid-leave-issues-for-employers-as-the-country-reopens-868
END:VEVENT

END:VCALENDAR
