BEGIN:VCALENDAR
VERSION:2.0
PRODID:-//ChamberMaster//Event Calendar 2.0//EN
METHOD:PUBLISH
X-PUBLISHED-TTL:P3D
REFRESH-INTERVAL:P3D
CALSCALE:GREGORIAN
BEGIN:VEVENT
DTSTART:20201007T190000Z
DTEND:20201007T200000Z
X-MICROSOFT-CDO-ALLDAYEVENT:FALSE
SUMMARY:New Updates on the PRO Act and its Negative Impact on Merit Shop Contractors
DESCRIPTION:Date: Wednesday\, October 7\n\nTime: 2 p.m.\n\nSpeakers: Maury Baskin\, Littler\; Jimmy Greene\, ABC Michigan\; Brett McMahon\, Miller & Long Co.\; Kristen Swearingen\, ABC National \n\nModerator: Ben Brubeck\, ABC National \n\n \n\nWill passage of the ABC-opposed PRO Act put you out of business? Get the latest insights from ABC leaders and experts about the impact of negative legislation targeting employers and threatening employee freedom\, privacy and choice in the workplace.\n\n \n\nRegister today.
X-ALT-DESC;FMTTYPE=text/html:<strong><span style="color:black\;"><span style="font-family:arial\,sans-serif\;"><span style="font-size:12.0pt\;">Date:</span></span></span></strong><span style="color:black\;"><span style="font-family:arial\,sans-serif\;"><span style="font-size:12.0pt\;">&nbsp\;Wednesday\, October 7</span></span></span><br />\n<strong><span style="color:black\;"><span style="font-family:arial\,sans-serif\;"><span style="font-size:12.0pt\;">Time:</span></span></span></strong><span style="color:black\;"><span style="font-family:arial\,sans-serif\;"><span style="font-size:12.0pt\;">&nbsp\;2 p.m.</span></span></span><br />\n<strong><span style="color:black\;"><span style="font-family:arial\,sans-serif\;"><span style="font-size:12.0pt\;">Speakers: </span></span></span></strong><span style="color:black\;"><span style="font-family:arial\,sans-serif\;"><span style="font-size:12.0pt\;">Maury Baskin\, Littler\; Jimmy Greene\, ABC Michigan\; Brett McMahon\, Miller &amp\; Long Co.\; Kristen Swearingen\, ABC National </span></span></span><br />\n<strong><span style="color:black\;"><span style="font-family:arial\,sans-serif\;"><span style="font-size:12.0pt\;">Moderator:</span></span></span></strong><span style="color:black\;"><span style="font-family:arial\,sans-serif\;"><span style="font-size:12.0pt\;"> Ben Brubeck\, ABC National </span></span></span><br />\n&nbsp\;<br />\n<span style="color:#0A0A0A\;"><span style="font-family:arial\,sans-serif\;"><span style="font-size:12.0pt\;">Will passage of the ABC-opposed PRO Act put you out of business? Get the latest insights from ABC leaders and experts about the impact of negative legislation targeting employers and threatening employee freedom\, privacy and choice in the workplace.</span></span></span><br />\n&nbsp\;<br />\n<span style="color:#403F42\;"><span style="font-family:arial\,sans-serif\;"><span style="font-size:9.0pt\;"><a href="http://r20.rs6.net/tn.jsp?f=00177ORmCctYWb8X-fIVXjYmbzp6GiUEd5tSO9ehGsXNBlxnuE6bfw44PSEcE_vh_7heTmCvV4n8y9XMfQW4jzhmP6IQUbgKLCItwj3268kfzLoVx6tP6AAqfFriHJFZ41WTQgvqjvz4v-5VRCphWAe5FrVsuMhkCKcmE0P96PPxU9j2lfqhjb5E_4SpY_xiLlvyfKJe7l-45oQH23A8BEHPQ==&amp\;c=HWqJ5Su_rsyjm9qdSlBZbsIjZfKa3zFdGbMGZzCe0QtuEeIKpSEKxQ==&amp\;ch=ST7wBqsY_0rdU94ZCzogkLVOLfAuLgYzrqZJ2bokWneCLS7VJwyEqA==" target="_blank"><span style="color:#09A3BA\;"><span style="font-size:12.0pt\;">Register today.</span></span></a></span></span></span>
LOCATION:
UID:e.9143.884
SEQUENCE:3
DTSTAMP:20260425T140750Z
URL:https://business.abcnalabama.org/events/details/new-updates-on-the-pro-act-and-its-negative-impact-on-merit-shop-contractors-884
END:VEVENT

END:VCALENDAR
