BEGIN:VCALENDAR
VERSION:2.0
PRODID:-//ChamberMaster//Event Calendar 2.0//EN
METHOD:PUBLISH
X-PUBLISHED-TTL:P3D
REFRESH-INTERVAL:P3D
CALSCALE:GREGORIAN
BEGIN:VEVENT
DTSTART:20260507T120000Z
DTEND:20260508T210000Z
X-MICROSOFT-CDO-ALLDAYEVENT:FALSE
SUMMARY:OSHA 10 Hour Certification
DESCRIPTION:OSHA 10-Hour Certification\n\nMay 7th (7:00am to 4:00pm) *lunch included on Thursday\n\nMay 8th (7:00am to 11:00am)
X-ALT-DESC;FMTTYPE=text/html:OSHA 10-Hour Certification<br />\nMay 7th (7:00am to 4:00pm)&nbsp\;*lunch included on Thursday<br />\nMay 8th (7:00am to 11:00am)<br />\n&nbsp\;
LOCATION:ABC North Alabama GPS Address: 105 Commerce Cir Madison\, AL 35758
UID:e.9143.1376
SEQUENCE:3
DTSTAMP:20260420T175258Z
URL:https://business.abcnalabama.org/events/details/osha-10-hour-certification-05-07-2026-1376
END:VEVENT

END:VCALENDAR
