BEGIN:VCALENDAR
VERSION:2.0
PRODID:-//ChamberMaster//Event Calendar 2.0//EN
METHOD:PUBLISH
X-PUBLISHED-TTL:P3D
REFRESH-INTERVAL:P3D
CALSCALE:GREGORIAN
BEGIN:VEVENT
DTSTART:20201029T130000Z
DTEND:20201030T210000Z
X-MICROSOFT-CDO-ALLDAYEVENT:FALSE
SUMMARY:OSHA 10-Hour Certification
DESCRIPTION:OSHA 10-Hour Certification\n\nClass begins at 8am each day\n\nLunch provided on first day\n\n\n\nEmail daphne@abcnalabama.org to register.
X-ALT-DESC;FMTTYPE=text/html:OSHA 10-Hour Certification<br />\nClass begins at 8am each day<br />\nLunch provided on first day<br />\n<br />\nEmail daphne@abcnalabama.org to register.&nbsp\;&nbsp\;&nbsp\;&nbsp\;
LOCATION:ABC Office 107 Commerce Circle Madison\, AL 35758
UID:e.9143.886
SEQUENCE:3
DTSTAMP:20260425T135930Z
URL:https://business.abcnalabama.org/events/details/osha-10-hour-certification-886
END:VEVENT

END:VCALENDAR
