BEGIN:VCALENDAR
VERSION:2.0
PRODID:-//ChamberMaster//Event Calendar 2.0//EN
METHOD:PUBLISH
X-PUBLISHED-TTL:P3D
REFRESH-INTERVAL:P3D
CALSCALE:GREGORIAN
BEGIN:VEVENT
DTSTART:20190917T130000Z
DTEND:20190920T210000Z
X-MICROSOFT-CDO-ALLDAYEVENT:FALSE
SUMMARY:OSHA 30 Hour Certification
DESCRIPTION:OSHA 30 Hour Certification course will take place Tuesday\, Sept. 17 through Friday\, Sept. 20 from 8:00 a.m. to 4:00 p.m. each day. If a participant already has OSHA 10 Hour Certification\, please let us know upon registration as attendance will not be required for a portion of this training. Lunch will be provided each day.
X-ALT-DESC;FMTTYPE=text/html:OSHA 30 Hour Certification course will take place Tuesday\, Sept. 17 through Friday\,&nbsp\;Sept. 20 from 8:00 a.m. to 4:00 p.m. each day. If a participant already has OSHA 10 Hour Certification\, please let us know upon registration as attendance will not be required for a portion of this training. Lunch will be provided each day.
LOCATION:ABC of North Alabama 26670 Success Drive Suite G Madison\, AL 35756
UID:e.9143.785
SEQUENCE:3
DTSTAMP:20260426T014939Z
URL:https://business.abcnalabama.org/events/details/osha-30-hour-certification-785
END:VEVENT

END:VCALENDAR
