BEGIN:VCALENDAR
VERSION:2.0
PRODID:-//ChamberMaster//Event Calendar 2.0//EN
METHOD:PUBLISH
X-PUBLISHED-TTL:P3D
REFRESH-INTERVAL:P3D
CALSCALE:GREGORIAN
BEGIN:VEVENT
DTSTART:20240220T130000Z
DTEND:20240223T220000Z
X-MICROSOFT-CDO-ALLDAYEVENT:FALSE
SUMMARY:OSHA 30-Hr Certification
DESCRIPTION:OSHA 30-Hour Certification\n\nTuesday\, Feb. 20 - Friday\, Feb. 23\n\nLunch provided each day
X-ALT-DESC;FMTTYPE=text/html:<p>OSHA 30-Hour Certification<br />\nTuesday\, Feb. 20 -&nbsp\;Friday\, Feb. 23<br />\nLunch provided each day</p>\n
LOCATION:ABC North Alabama 105 Commerce Cir. Madison\, AL 35758
UID:e.9143.1154
SEQUENCE:3
DTSTAMP:20260421T231552Z
URL:https://business.abcnalabama.org/events/details/osha-30-hr-certification-1154
END:VEVENT

END:VCALENDAR
