BEGIN:VCALENDAR
VERSION:2.0
PRODID:-//ChamberMaster//Event Calendar 2.0//EN
METHOD:PUBLISH
X-PUBLISHED-TTL:P3D
REFRESH-INTERVAL:P3D
CALSCALE:GREGORIAN
BEGIN:VEVENT
DTSTART:20240618T130000Z
DTEND:20240621T210000Z
X-MICROSOFT-CDO-ALLDAYEVENT:FALSE
SUMMARY:OSHA 30-Hr Certification
DESCRIPTION:OSHA 30-Hour Certification\n\nTuesday\, June 18 - Friday\, June 21\n\nLunch provided each day
X-ALT-DESC;FMTTYPE=text/html:<p>OSHA 30-Hour Certification<br />\nTuesday\, June 18 -&nbsp\;Friday\, June 21<br />\nLunch provided each day</p>\n
LOCATION:ABC North Alabama 105 Commerce Cir. Madison\, AL 35758
UID:e.9143.1155
SEQUENCE:3
DTSTAMP:20260421T184152Z
URL:https://business.abcnalabama.org/events/details/osha-30-hr-certification-1155
END:VEVENT

END:VCALENDAR
