BEGIN:VCALENDAR
VERSION:2.0
PRODID:-//ChamberMaster//Event Calendar 2.0//EN
METHOD:PUBLISH
X-PUBLISHED-TTL:P3D
REFRESH-INTERVAL:P3D
CALSCALE:GREGORIAN
BEGIN:VEVENT
DTSTART:20240917T120000Z
DTEND:20240920T210000Z
X-MICROSOFT-CDO-ALLDAYEVENT:FALSE
SUMMARY:OSHA 30-Hr Certification
DESCRIPTION:OSHA 30-Hour Certification\n\nTuesday\, Sept. 17 - Friday\, Sept. 20\n\nLunch provided each day
X-ALT-DESC;FMTTYPE=text/html:<p>OSHA 30-Hour Certification<br />\nTuesday\, Sept. 17 -&nbsp\;Friday\, Sept. 20<br />\nLunch provided each day</p>\n
LOCATION:JSI\, Inc. 3311 9th Ave. Huntsville\, AL
UID:e.9143.1156
SEQUENCE:3
DTSTAMP:20260421T125432Z
URL:https://business.abcnalabama.org/events/details/osha-30-hr-certification-1156
END:VEVENT

END:VCALENDAR
