BEGIN:VCALENDAR
VERSION:2.0
PRODID:-//ChamberMaster//Event Calendar 2.0//EN
METHOD:PUBLISH
X-PUBLISHED-TTL:P3D
REFRESH-INTERVAL:P3D
CALSCALE:GREGORIAN
BEGIN:VEVENT
DTSTART;VALUE=DATE:20231002
DTEND;VALUE=DATE:20231006
TRANSP:TRANSPARENT
X-MICROSOFT-CDO-ALLDAYEVENT:TRUE
SUMMARY:OSHA 501 Trainer Course in General Industry
DESCRIPTION:STOP!! Have you been approved to attend this class? If not\, you cannot register without the necessary code you receive once you are approved to attend.\n\nPrerequisites: Students must have completed the 511 OS&H Standards course within the past seven years and have five years of general industry safety and health responsibility in your current or previous jobs. Click here to download the form from our website to submit verification of prerequisites.\n\nThis four day course is designed for individuals interested in teaching the 10 and 30 hour general industry safety and health Outreach Training Program to their employees and other interested groups. Using OSHA General Industry Standards as a guide\, special emphasis is placed on those topics required in the 10 and 30 hour programs as well as those which are most hazardous. Students are briefed on effective instructional approaches and use of visual aids and handouts. This course allows the student to become a trainer in the OSHA Outreach Training Program\, to conduct both 10 and 30 hour General Industry Outreach classes\, and to issue cards to participants after verifying course completion.\n\nStudents who wish to participate as Authorized Outreach trainers in the OSHA Outreach Training Program must prepare a presentation on an assigned OSHA General Industry Outreach Training Program topic individually or as part of a group and successfully pass a written exam at the end of the course.\n\n\n\nRegister Here
X-ALT-DESC;FMTTYPE=text/html:<p style="color: rgb(0\, 0\, 0)\; font-family: Montserrat\, &quot\;Open Sans&quot\;\, sans-serif\, arial\; font-size: 13.008px\;"><b>STOP!! Have you been approved to attend this class? If not\, you cannot register without the necessary code you receive once you are approved to attend.</b></p>\n\n<p style="color: rgb(0\, 0\, 0)\; font-family: Montserrat\, &quot\;Open Sans&quot\;\, sans-serif\, arial\; font-size: 13.008px\;"><b>Prerequisites: Students must have completed the 511 OS&amp\;H Standards course within the past seven years and have five years of general industry safety and health responsibility in your current or previous jobs.&nbsp\;<a href="http://uaosha.ccs.ua.edu/VERIFICATION%20OF%20PREREQUISITESform.htm" style="color: rgb(153\, 0\, 0)\; background-color: transparent\; margin-left: 0px\; text-decoration-line: none\; font-size: 0.813rem\; padding-top: 10px\;">Click here to download the form from our website to submit verification of prerequisites.</a></b></p>\n\n<p style="color: rgb(0\, 0\, 0)\; font-family: Montserrat\, &quot\;Open Sans&quot\;\, sans-serif\, arial\; font-size: 13.008px\;">This four day course is designed for individuals interested in teaching the 10 and 30 hour general industry safety and health Outreach Training Program to their employees and other interested groups. Using OSHA General Industry Standards as a guide\, special emphasis is placed on those topics required in the 10 and 30 hour programs as well as those which are most hazardous. Students are briefed on effective instructional approaches and use of visual aids and handouts. This course allows the student to become a trainer in the OSHA Outreach Training Program\, to conduct both 10 and 30 hour General Industry Outreach classes\, and to issue cards to participants after verifying course completion.</p>\n\n<p style="color: rgb(0\, 0\, 0)\; font-family: Montserrat\, &quot\;Open Sans&quot\;\, sans-serif\, arial\; font-size: 13.008px\;">Students who wish to participate as Authorized Outreach trainers in the OSHA Outreach Training Program must prepare a presentation on an assigned OSHA General Industry Outreach Training Program topic individually or as part of a group and successfully pass a written exam at the end of the course.<br />\n<br />\n<a href="https://www.enrole.com/ua/jsp/session.jsp?sessionId=SS-2310-SH0501-07&amp\;courseId=OSHA501GI&amp\;categoryId=10275">Register Here</a></p>\n
LOCATION:ABC North Alabama GPS: 105 Commerce Circle\, Madison AL 35758
UID:e.9143.1093
SEQUENCE:3
DTSTAMP:20260421T082717Z
URL:https://business.abcnalabama.org/events/details/osha-501-trainer-course-in-general-industry-1093
END:VEVENT

END:VCALENDAR
