BEGIN:VCALENDAR
VERSION:2.0
PRODID:-//ChamberMaster//Event Calendar 2.0//EN
METHOD:PUBLISH
X-PUBLISHED-TTL:P3D
REFRESH-INTERVAL:P3D
CALSCALE:GREGORIAN
BEGIN:VEVENT
DTSTART:20200515T170000Z
DTEND:20200515T180000Z
X-MICROSOFT-CDO-ALLDAYEVENT:FALSE
SUMMARY:Paycheck Protection Program Update
DESCRIPTION:ABC Members Only\n\nJoin a panel of construction and legal experts for a continuing discussion and question-and-answer session on the latest guidance available from the Small Business Administration.\n\nABOUT THE PRESENTERS\n\nWith more than 35 years of experience\, Jack Callahan serves as CohnReznick's construction industry leader. He has significant knowledge and experience in construction industry accounting\, corporate taxation and business consulting in the including heavy highway\, general contractors\, construction management\, specialty contractors\, building trades and building supply and equipment companies segments.\n\nTom Greenawalt has more than 26 years of experience in public accounting and works closely with general contractors\, subcontractors\, homebuilders\, real estate owners\, developers and other organizations such as architects\, engineers and suppliers operating in the construction and real estate industries. He provides accounting\, attest\, tax and consulting services tailored to each client's specific goals\, needs and circumstances. In addition\, his knowledge of the GAAP\, tax and operational aspects of the construction and real estate industries allows him to develop solutions and best practices that can produce desired results.\n\nJim Paretti is an experienced management-side employment and labor relations attorney with more than two decades of experience working with federal legislators and policymakers\, including a former speaker of the U.S. House of Representatives\, chairs of the U.S. House Committee on Education and the Workforce and senior level administration officials. Prior to joining Littler\, Jim was chief of staff and senior counsel to the acting chair of the Equal Employment Opportunity Commission.\n\nRegister Now
X-ALT-DESC;FMTTYPE=text/html:<div class="post-content" style="box-sizing: inherit\; margin: 0px\; padding: 0px\; border: 0px\; font-style: normal\; font-variant-ligatures: normal\; font-variant-caps: normal\; font-variant-numeric: inherit\; font-variant-east-asian: inherit\; font-weight: 400\; font-stretch: inherit\; font-size: 14px\; line-height: inherit\; font-family: Calibri\, Helvetica\, Arial\, sans-serif\; vertical-align: baseline\; color: rgb(83\, 83\, 83)\; letter-spacing: normal\; orphans: 2\; text-align: start\; text-indent: 0px\; text-transform: none\; white-space: normal\; widows: 2\; word-spacing: 0px\; -webkit-text-stroke-width: 0px\; background-color: rgb(255\, 255\, 255)\; text-decoration-style: initial\; text-decoration-color: initial\;">\n<p style="box-sizing: inherit\; margin: 0px 0px 1rem\; padding: 0px\; border: 0px\; font-style: inherit\; font-variant: inherit\; font-weight: inherit\; font-stretch: inherit\; font-size: 14px\; line-height: inherit\; font-family: Calibri\, Helvetica\, Arial\, sans-serif\; vertical-align: baseline\; color: rgb(83\, 83\, 83)\;"><span style="box-sizing: inherit\; margin: 0px\; padding: 0px\; border: 0px\; font: inherit\; vertical-align: baseline\; color: red\;">ABC Members Only</span></p>\n\n<p style="box-sizing: inherit\; margin: 0px 0px 1rem\; padding: 0px\; border: 0px\; font-style: inherit\; font-variant: inherit\; font-weight: inherit\; font-stretch: inherit\; font-size: 14px\; line-height: inherit\; font-family: Calibri\, Helvetica\, Arial\, sans-serif\; vertical-align: baseline\; color: rgb(83\, 83\, 83)\;">Join a panel of construction and legal experts for a continuing discussion and question-and-answer session on the latest guidance available from the Small Business Administration.</p>\n\n<p style="box-sizing: inherit\; margin: 0px 0px 1rem\; padding: 0px\; border: 0px\; font-style: inherit\; font-variant: inherit\; font-weight: inherit\; font-stretch: inherit\; font-size: 14px\; line-height: inherit\; font-family: Calibri\, Helvetica\, Arial\, sans-serif\; vertical-align: baseline\; color: rgb(83\, 83\, 83)\;"><span class="Heading2" style="box-sizing: inherit\; margin: 0px 0px 5px\; padding: 0px\; border: 0px\; font-style: inherit\; font-variant: inherit\; font-weight: bold\; font-stretch: inherit\; font-size: inherit\; line-height: inherit\; font-family: Calibri\, Helvetica\, Arial\, sans-serif\; vertical-align: baseline\; text-transform: uppercase\; color: rgb(128\, 128\, 128)\;">ABOUT THE PRESENTERS</span></p>\n\n<p style="box-sizing: inherit\; margin: 0px 0px 1rem\; padding: 0px\; border: 0px\; font-style: inherit\; font-variant: inherit\; font-weight: inherit\; font-stretch: inherit\; font-size: 14px\; line-height: inherit\; font-family: Calibri\, Helvetica\, Arial\, sans-serif\; vertical-align: baseline\; color: rgb(83\, 83\, 83)\;">With more than 35 years of experience\,<span>&nbsp\;</span><strong style="box-sizing: inherit\; margin: 0px\; padding: 0px\; border: 0px\; font-style: inherit\; font-variant: inherit\; font-weight: bolder\; font-stretch: inherit\; font-size: inherit\; line-height: inherit\; font-family: inherit\; vertical-align: baseline\;">Jack Callahan</strong><span>&nbsp\;</span>serves as CohnReznick&#39\;s construction industry leader. He has significant knowledge and experience in construction industry accounting\, corporate taxation and business consulting in the including heavy highway\, general contractors\, construction management\, specialty contractors\, building trades and building supply and equipment companies segments.</p>\n\n<p style="box-sizing: inherit\; margin: 0px 0px 1rem\; padding: 0px\; border: 0px\; font-style: inherit\; font-variant: inherit\; font-weight: inherit\; font-stretch: inherit\; font-size: 14px\; line-height: inherit\; font-family: Calibri\, Helvetica\, Arial\, sans-serif\; vertical-align: baseline\; color: rgb(83\, 83\, 83)\;"><strong style="box-sizing: inherit\; margin: 0px\; padding: 0px\; border: 0px\; font-style: inherit\; font-variant: inherit\; font-weight: bolder\; font-stretch: inherit\; font-size: inherit\; line-height: inherit\; font-family: inherit\; vertical-align: baseline\;">Tom Greenawalt</strong><span>&nbsp\;</span>has more than 26 years of experience in public accounting and works closely with general contractors\, subcontractors\, homebuilders\, real estate owners\, developers and other organizations such as architects\, engineers and suppliers operating in the construction and real estate industries. He provides accounting\, attest\, tax and consulting services tailored to each client&rsquo\;s specific goals\, needs and circumstances. In addition\, his knowledge of the GAAP\, tax and operational aspects of the construction and real estate industries allows him to develop solutions and best practices that can produce desired results.</p>\n\n<p style="box-sizing: inherit\; margin: 0px 0px 1rem\; padding: 0px\; border: 0px\; font-style: inherit\; font-variant: inherit\; font-weight: inherit\; font-stretch: inherit\; font-size: 14px\; line-height: inherit\; font-family: Calibri\, Helvetica\, Arial\, sans-serif\; vertical-align: baseline\; color: rgb(83\, 83\, 83)\;"><strong style="box-sizing: inherit\; margin: 0px\; padding: 0px\; border: 0px\; font-style: inherit\; font-variant: inherit\; font-weight: bolder\; font-stretch: inherit\; font-size: inherit\; line-height: inherit\; font-family: inherit\; vertical-align: baseline\;">Jim Paretti</strong><span>&nbsp\;</span>is an experienced management-side employment and labor relations attorney with more than two decades of experience working with federal legislators and policymakers\, including a former speaker of the U.S. House of Representatives\, chairs of the U.S. House Committee on Education and the Workforce and senior level administration officials. Prior to joining Littler\, Jim was chief of staff and senior counsel to the acting chair of the Equal Employment Opportunity Commission.</p>\n\n<p style="box-sizing: inherit\; margin: 0px 0px 1rem\; padding: 0px\; border: 0px\; font-style: inherit\; font-variant: inherit\; font-weight: inherit\; font-stretch: inherit\; font-size: 14px\; line-height: inherit\; font-family: Calibri\, Helvetica\, Arial\, sans-serif\; vertical-align: baseline\; color: rgb(83\, 83\, 83)\;"><a href="https://abc.org/Education-Training/Academy-Pages/entryid/17508/Default">Register Now</a></p>\n</div>\n
LOCATION:
UID:e.9143.849
SEQUENCE:3
DTSTAMP:20260425T150855Z
URL:https://business.abcnalabama.org/events/details/paycheck-protection-program-update-849
END:VEVENT

END:VCALENDAR
