BEGIN:VCALENDAR
VERSION:2.0
PRODID:-//ChamberMaster//Event Calendar 2.0//EN
METHOD:PUBLISH
X-PUBLISHED-TTL:P3D
REFRESH-INTERVAL:P3D
CALSCALE:GREGORIAN
BEGIN:VEVENT
DTSTART:20200421T190000Z
DTEND:20200421T201500Z
X-MICROSOFT-CDO-ALLDAYEVENT:FALSE
SUMMARY:Planning for Project Shutdown and Remobilization During the Pandemic and Beyond
DESCRIPTION:A panel of fire safety and construction experts will discuss the necessary actions needed to prepare and secure your project from fires and other hazards during a shutdown\, as well as the subsequent remobilization when work begins. The discussion will include the roles and responsibilities of owners\, site safety managers and fire service personnel.\n\n \n\nRegister here: https://register.gotowebinar.com/register/4131565980532017421
X-ALT-DESC;FMTTYPE=text/html:<p><span style="color: rgb(51\, 51\, 51)\; font-family: lato-regular\, HelveticaNeueW01-55Roma\, &quot\;Helvetica Neue&quot\;\, Helvetica\, Arial\, sans-serif\; font-size: 14px\; font-style: normal\; font-variant-ligatures: normal\; font-variant-caps: normal\; font-weight: 400\; letter-spacing: normal\; orphans: 2\; text-align: start\; text-indent: 0px\; text-transform: none\; white-space: pre-wrap\; widows: 2\; word-spacing: 0px\; -webkit-text-stroke-width: 0px\; background-color: rgb(255\, 255\, 255)\; text-decoration-style: initial\; text-decoration-color: initial\; display: inline !important\; float: none\;">A panel of fire safety and construction experts will discuss the necessary actions needed to prepare and secure your project from fires and other hazards during a shutdown\, as well as the subsequent remobilization when work begins. The discussion will include the roles and responsibilities of owners\, site safety managers and fire service personnel.</span></p>\n\n<p>&nbsp\;</p>\n\n<p><span style="color: rgb(51\, 51\, 51)\; font-family: lato-regular\, HelveticaNeueW01-55Roma\, &quot\;Helvetica Neue&quot\;\, Helvetica\, Arial\, sans-serif\; font-size: 14px\; font-style: normal\; font-variant-ligatures: normal\; font-variant-caps: normal\; font-weight: 400\; letter-spacing: normal\; orphans: 2\; text-align: start\; text-indent: 0px\; text-transform: none\; white-space: pre-wrap\; widows: 2\; word-spacing: 0px\; -webkit-text-stroke-width: 0px\; background-color: rgb(255\, 255\, 255)\; text-decoration-style: initial\; text-decoration-color: initial\; display: inline !important\; float: none\;">Register here: </span><a href="https://register.gotowebinar.com/register/4131565980532017421">https://register.gotowebinar.com/register/4131565980532017421</a></p>\n
LOCATION:
UID:e.9143.839
SEQUENCE:3
DTSTAMP:20260425T162811Z
URL:https://business.abcnalabama.org/events/details/planning-for-project-shutdown-and-remobilization-during-the-pandemic-and-beyond-839
END:VEVENT

END:VCALENDAR
