BEGIN:VCALENDAR
VERSION:2.0
PRODID:-//ChamberMaster//Event Calendar 2.0//EN
METHOD:PUBLISH
X-PUBLISHED-TTL:P3D
REFRESH-INTERVAL:P3D
CALSCALE:GREGORIAN
BEGIN:VEVENT
DTSTART:20200805T190000Z
DTEND:20200805T200000Z
X-MICROSOFT-CDO-ALLDAYEVENT:FALSE
SUMMARY:Prevailing Wage Payroll and Fringe Benefits — Using Purpose-built Systems to Enhance Efficiency
DESCRIPTION:Join us as we review ways that leading merit shop government contractors are utilizing technology to save time on payroll and the administration of employee fringe benefit programs. Many employers are still using antiquated systems that are neither designed for the construction industry nor integrated\, forcing staff to manually "re-key" data into multiple systems and interfaces. Learn about how software that has been "purpose-built" for prevailing wage construction eases a variety of administrative challenges\, specifically helping with prevailing wage calculations\, ensuring accuracy of certified payroll reports and unifying fringe benefit contributions and administration. If your firm isn't leveraging software and processes designed to meet multiple jurisdictional requirements (e.g. multiple county prevailing wage rates)\, you are less likely to bid competitively\, stay compliant and be profitable on government funded projects.\n\n \n\n \n\nRegister today.
X-ALT-DESC;FMTTYPE=text/html:<span style="color:black\;"><span style="font-family:arial\,sans-serif\;"><span style="font-size:12.0pt\;">Join us as we review ways that leading merit shop government contractors are utilizing technology to save time on payroll and the administration of employee fringe benefit programs. Many employers are still using antiquated systems that are neither designed for the construction industry nor integrated\, forcing staff to manually &quot\;re-key&quot\; data into multiple systems and interfaces. Learn about how software that has been &ldquo\;purpose-built&rdquo\; for prevailing wage construction eases a variety of administrative challenges\, specifically helping with prevailing wage calculations\, ensuring accuracy of certified payroll reports and unifying fringe benefit contributions and administration. If your firm isn&rsquo\;t leveraging software and processes designed to meet multiple jurisdictional requirements (e.g. multiple county prevailing wage rates)\, you are less likely to bid competitively\, stay compliant and be profitable on government funded projects.</span></span></span><br />\n&nbsp\;<br />\n&nbsp\;<br />\n<span style="color:#403F42\;"><span style="font-family:arial\,sans-serif\;"><span style="font-size:9.0pt\;"><a href="http://r20.rs6.net/tn.jsp?f=001qgUsfrhOhOqOgsj-MmGcBCEPzZtgIL-9Fyojuh_bve-8ClUleldJkyfU2ZZxw_WcwfbXl2YavADF7bxsqebMW7QUZwkKUNRRu-b72uVnCrN2smABLR8EKhuso_9yTLiTITy2l46dLgm-WmkhvkuKfoB3tAaYbVMEJW9axifUJoHLJDPNoIiKQT-osztDpPydf4YkCOm099XoEmFDifGymA==&amp\;c=ivrFQg2PppkTd06Zy4K7q1F7dVXUUH5X3Gg5NmOQG2NSQMfGHc4tdw==&amp\;ch=tsaMfQrN5fE2kdfVVTI10jzprEmGGswGMmgVWzZNCc1k84--alMWLg==" target="_blank"><span style="color:#09A3BA\;"><span style="font-size:12.0pt\;">Register today.</span></span></a></span></span></span>
LOCATION:
UID:e.9143.869
SEQUENCE:3
DTSTAMP:20260425T112802Z
URL:https://business.abcnalabama.org/events/details/prevailing-wage-payroll-and-fringe-benefits-using-purpose-built-systems-to-enhance-efficiency-869
END:VEVENT

END:VCALENDAR
