BEGIN:VCALENDAR
VERSION:2.0
PRODID:-//ChamberMaster//Event Calendar 2.0//EN
METHOD:PUBLISH
X-PUBLISHED-TTL:P3D
REFRESH-INTERVAL:P3D
CALSCALE:GREGORIAN
BEGIN:VEVENT
DTSTART:20200422T190000Z
DTEND:20200422T200000Z
X-MICROSOFT-CDO-ALLDAYEVENT:FALSE
SUMMARY:Preventing Cyberattacks That Target Your Remote Workforce
DESCRIPTION:Preventing Cyberattacks That Target Your Remote Workforce\n		\n		\n			Date: Wednesday\, April 22\n\n			Time: 2 p.m. \n\n			 Speakers: Gary Clevenger MS\, CSP\, RRE\, CNA\; Paul Gouge\, CNA\; Terry Smith\, CNA\n\n			Moderator:  Mike Bellaman\, ABC National\n\n			 \n\n			Cyber criminals often take advantage of significant current events to increase activity. The global pandemic and sudden increase in teleworking has opened the door for bad guys to strike. CNA's risk control experts will offer simple and effective guidance to equip workers with the ability to recognize and defeat an attack.\n\n			 \n\n			Register today.
X-ALT-DESC;FMTTYPE=text/html:<table border="0" cellpadding="0" cellspacing="0" style="width:100.0%\;border-collapse:collapse\;" width="100%">\n	<tbody>\n		<tr>\n			<td style="padding:7.5pt 15.0pt 7.5pt 15.0pt\;vertical-align:top\;"><strong><span style="color:#09A3BA\;"><span style="font-family:arial\,sans-serif\;"><span style="font-size:12.0pt\;">Preventing Cyberattacks That Target Your Remote Workforce</span></span></span></strong></td>\n		</tr>\n		<tr>\n			<td style="padding:7.5pt 15.0pt 7.5pt 15.0pt\;vertical-align:top\;"><strong><span style="color:#0A0A0A\;"><span style="font-family:arial\,sans-serif\;"><span style="font-size:12.0pt\;">Date:</span></span></span></strong><span style="color:#0A0A0A\;"><span style="font-family:arial\,sans-serif\;"><span style="font-size:12.0pt\;"> Wednesday\, April 22</span></span></span><br />\n			<strong><span style="color:#0A0A0A\;"><span style="font-family:arial\,sans-serif\;"><span style="font-size:12.0pt\;">Time:</span></span></span></strong><span style="color:#0A0A0A\;"><span style="font-family:arial\,sans-serif\;"><span style="font-size:12.0pt\;"> 2 p.m.&nbsp\;</span></span></span><br />\n			&#65279\;<strong><span style="color:#0A0A0A\;"><span style="font-family:arial\,sans-serif\;"><span style="font-size:12.0pt\;">Speakers:</span></span></span></strong><span style="color:#0A0A0A\;"><span style="font-family:arial\,sans-serif\;"><span style="font-size:&#10\;"> Gary Clevenger MS\, CSP\, RRE\, CNA\; Paul Gouge\, CNA\; Terry Smith\, CNA</span></span></span><br />\n			<strong><span style="color:#0A0A0A\;"><span style="font-family:arial\,sans-serif\;"><span style="font-size:12.0pt\;">Moderator:&nbsp\;&nbsp\;</span></span></span></strong><span style="color:#0A0A0A\;"><span style="font-family:arial\,sans-serif\;"><span style="font-size:12.0pt\;">Mike Bellaman\, ABC National</span></span></span><br />\n			&nbsp\;<br />\n			<span style="color:#0A0A0A\;"><span style="font-family:arial\,sans-serif\;"><span style="font-size:12.0pt\;">Cyber criminals often take advantage of significant current events to increase activity. The global pandemic and sudden increase in teleworking has opened the door for bad guys to strike. CNA&rsquo\;s risk control experts will offer simple and effective guidance to equip workers with the ability to recognize and defeat an attack.</span></span></span><br />\n			&nbsp\;<br />\n			<span style="color:#403F42\;"><span style="font-family:arial\,sans-serif\;"><span style="font-size:9.0pt\;"><a href="https://register.gotowebinar.com/register/41964366940558605" target="_blank"><span style="color:#09A3BA\;"><span style="font-size:12.0pt\;">Register today.</span></span></a></span></span></span></td>\n		</tr>\n	</tbody>\n</table>\n
LOCATION:
UID:e.9143.843
SEQUENCE:3
DTSTAMP:20260425T162453Z
URL:https://business.abcnalabama.org/events/details/preventing-cyberattacks-that-target-your-remote-workforce-843
END:VEVENT

END:VCALENDAR
