BEGIN:VCALENDAR
VERSION:2.0
PRODID:-//ChamberMaster//Event Calendar 2.0//EN
METHOD:PUBLISH
X-PUBLISHED-TTL:P3D
REFRESH-INTERVAL:P3D
CALSCALE:GREGORIAN
BEGIN:VEVENT
DTSTART:20200423T190000Z
DTEND:20200423T200000Z
X-MICROSOFT-CDO-ALLDAYEVENT:FALSE
SUMMARY:Protecting your Company and Remote Workforce from Cyberthreats
DESCRIPTION:One of the unintended consequences of the coronavirus pandemic is the increase of cybersecurity threats due to the prevalence of remote working. Without the right protections in place\, your company and workforce can be at risk from a wide variety of hackers. Join Nick Espinosa\, cybersecurity and network infrastructure expert and president of Security Fanatics\, as he walks through precautions your company should take to protect itself and your employees. \n\n\n\n \n\nRegister here:\n\nhttps://register.gotowebinar.com/register/513432753841844748
X-ALT-DESC;FMTTYPE=text/html:<div data-active-view="true" data-bind="visible:getWebinarInfo().description" data-view="registration/body/body.description" style="box-sizing: border-box\; overflow-wrap: break-word\; color: rgb(51\, 51\, 51)\; font-family: lato-regular\, &quot\;Helvetica Neue&quot\;\, Helvetica\, Arial\, sans-serif\; font-size: 14px\; font-style: normal\; font-variant-ligatures: normal\; font-variant-caps: normal\; font-weight: 400\; letter-spacing: normal\; orphans: 2\; text-align: start\; text-indent: 0px\; text-transform: none\; white-space: normal\; widows: 2\; word-spacing: 0px\; -webkit-text-stroke-width: 0px\; background-color: rgb(255\, 255\, 255)\; text-decoration-style: initial\; text-decoration-color: initial\;">\n<div class="description trainingDescription" style="box-sizing: border-box\; overflow-wrap: break-word\; font-family: lato-regular\, HelveticaNeueW01-55Roma\, &quot\;Helvetica Neue&quot\;\, Helvetica\, Arial\, sans-serif\;">\n<div class="clearfix" style="box-sizing: border-box\; overflow-wrap: break-word\;"><span class="registration-description" data-bind="expander:{'expandText': moreButtonText()\, 'userCollapseText': lessButtonText()\, 'text':getWebinarInfo().description}" style="box-sizing: border-box\; overflow-wrap: break-word\; white-space: pre-wrap\;">One of the unintended consequences of the coronavirus pandemic is the increase of cybersecurity threats due to the prevalence of remote working. Without the right protections in place\, your company and workforce can be at risk from a wide variety of hackers. Join Nick Espinosa\, cybersecurity and network infrastructure expert and president of Security Fanatics\, as he walks through precautions your company should take to protect itself and your employees. </span></div>\n</div>\n</div>\n\n<div class="questions" data-active-view="true" data-view="registration/body/body.registrationQuestions" style="box-sizing: border-box\; overflow-wrap: break-word\; color: rgb(51\, 51\, 51)\; font-family: lato-regular\, &quot\;Helvetica Neue&quot\;\, Helvetica\, Arial\, sans-serif\; font-size: 14px\; font-style: normal\; font-variant-ligatures: normal\; font-variant-caps: normal\; font-weight: 400\; letter-spacing: normal\; orphans: 2\; text-align: start\; text-indent: 0px\; text-transform: none\; white-space: normal\; widows: 2\; word-spacing: 0px\; -webkit-text-stroke-width: 0px\; background-color: rgb(255\, 255\, 255)\; text-decoration-style: initial\; text-decoration-color: initial\;">&nbsp\;</div>\n\n<p class="questions" data-active-view="true" data-view="registration/body/body.registrationQuestions" style="color: rgb(51\, 51\, 51)\; text-transform: none\; text-indent: 0px\; letter-spacing: normal\; font-family: lato-regular\,&quot\;Helvetica Neue&quot\;\,Helvetica\,Arial\,sans-serif\; font-size: 14px\; font-style: normal\; font-weight: 400\; word-spacing: 0px\; white-space: normal\; box-sizing: border-box\; orphans: 2\; widows: 2\; -webkit-text-stroke-width: 0px\; overflow-wrap: break-word\; background-color: rgb(255\, 255\, 255)\;">Register here:<br />\n<a href="https://register.gotowebinar.com/register/513432753841844748">https://register.gotowebinar.com/register/513432753841844748</a></p>\n
LOCATION:
UID:e.9143.840
SEQUENCE:3
DTSTAMP:20260425T162810Z
URL:https://business.abcnalabama.org/events/details/protecting-your-company-and-remote-workforce-from-cyberthreats-840
END:VEVENT

END:VCALENDAR
