BEGIN:VCALENDAR
VERSION:2.0
PRODID:-//ChamberMaster//Event Calendar 2.0//EN
METHOD:PUBLISH
X-PUBLISHED-TTL:P3D
REFRESH-INTERVAL:P3D
CALSCALE:GREGORIAN
BEGIN:VEVENT
DTSTART:20200512T190000Z
DTEND:20200512T200000Z
X-MICROSOFT-CDO-ALLDAYEVENT:FALSE
SUMMARY:Safety Technology: Innovative Tools to Create a Safer Jobsite During COVID-19 and Beyond
DESCRIPTION:Safety Technology: Innovative Tools to Create a Safer Jobsite During COVID-19 and Beyond\n		\n		\n			Date: Tuesday\, May 12\n\n			Time: 2 p.m.\n\n			 Speakers: Matt Abeles\, ABC National\; Raffi Elchemmas\, Milwaukee Tool\; Bal Guerrero\, United Rentals\; Norty Turner\, United Rentals\; Steve Wiltshire\, ABC National\n\n			 \n\n			New technologies are coming to market at a rapid pace\, and it's hard to evaluate which tools are best for your company. This webinar will explore new jobsite safety tools with industry leaders from Milwaukee Tool and United Rentals that can help you improve worker safety and enhance productivity.\n\n			 \n\n			Register today.
X-ALT-DESC;FMTTYPE=text/html:<table border="0" cellpadding="0" cellspacing="0" style="width:100.0%\;border-collapse:collapse\;" width="100%">\n	<tbody>\n		<tr>\n			<td style="padding:7.5pt 15.0pt 7.5pt 15.0pt\;vertical-align:top\;"><strong><span style="color:#09A3BA\;"><span style="font-family:arial\,sans-serif\;"><span style="font-size:12.0pt\;">Safety Technology: Innovative Tools to Create a Safer Jobsite During COVID-19 and Beyond</span></span></span></strong></td>\n		</tr>\n		<tr>\n			<td style="padding:7.5pt 15.0pt 7.5pt 15.0pt\;vertical-align:top\;"><strong><span style="color:#0A0A0A\;"><span style="font-family:arial\,sans-serif\;"><span style="font-size:12.0pt\;">Date:</span></span></span></strong><span style="color:#0A0A0A\;"><span style="font-family:arial\,sans-serif\;"><span style="font-size:12.0pt\;"> Tuesday\, May 12</span></span></span><br />\n			<strong><span style="color:#0A0A0A\;"><span style="font-family:arial\,sans-serif\;"><span style="font-size:12.0pt\;">Time:</span></span></span></strong><span style="color:#0A0A0A\;"><span style="font-family:arial\,sans-serif\;"><span style="font-size:12.0pt\;"> 2 p.m.</span></span></span><br />\n			&#65279\;<strong><span style="color:#0A0A0A\;"><span style="font-family:arial\,sans-serif\;"><span style="font-size:12.0pt\;">Speakers: </span></span></span></strong><span style="color:#0A0A0A\;"><span style="font-family:arial\,sans-serif\;"><span style="font-size:&#10\;">Matt Abeles\, ABC National\; Raffi Elchemmas\, Milwaukee Tool\; Bal Guerrero\, United Rentals\; Norty Turner\, United Rentals\; Steve Wiltshire\, ABC National</span></span></span><br />\n			&nbsp\;<br />\n			<span style="color:#0A0A0A\;"><span style="font-family:arial\,sans-serif\;"><span style="font-size:12.0pt\;">New technologies are coming to market at a rapid pace\, and it&rsquo\;s hard to evaluate which tools are best for your company. This webinar will explore new jobsite safety tools with industry leaders from Milwaukee Tool and United Rentals that can help you improve worker safety and enhance productivity.</span></span></span><br />\n			&nbsp\;<br />\n			<span style="color:#403F42\;"><span style="font-family:arial\,sans-serif\;"><span style="font-size:9.0pt\;"><a href="http://r20.rs6.net/tn.jsp?f=001XdjgGvRPwUTuOJzoBymqYJPqsVeBAdSr7gqEGxvN_2ahQIxQQFnDKFscW5V5qkeETOzXO2cgVkvhfyJHVjrve7Y-sNbcThuj7JHUaHhIRcIQ67yO_3GcNh9sf4HLNbZ43xizt6QJ42jhMWDOb-RovpajHwVBVH3pjj5mwpyStxmK8_X1BYMzkzMsingo3aKSr-kvD47Xo78=&amp\;c=m7CXofVNqRCPSyitnAZDJpn-m5_-gGZ7tbNNW97fbvUnfmTtKcUTPQ==&amp\;ch=aWiR5NX11JCUwxaLipR5IGPkaA6th1X1VczQDWU1WA_t-cn_AHZaeA==" target="_blank"><span style="color:#09A3BA\;"><span style="font-size:12.0pt\;">Register today.</span></span></a></span></span></span></td>\n		</tr>\n	</tbody>\n</table>\n
LOCATION:
UID:e.9143.845
SEQUENCE:3
DTSTAMP:20260425T151655Z
URL:https://business.abcnalabama.org/events/details/safety-technology-innovative-tools-to-create-a-safer-jobsite-during-covid-19-and-beyond-845
END:VEVENT

END:VCALENDAR
