BEGIN:VCALENDAR
VERSION:2.0
PRODID:-//ChamberMaster//Event Calendar 2.0//EN
METHOD:PUBLISH
X-PUBLISHED-TTL:P3D
REFRESH-INTERVAL:P3D
CALSCALE:GREGORIAN
BEGIN:VEVENT
DTSTART:20200812T190000Z
DTEND:20200812T200000Z
X-MICROSOFT-CDO-ALLDAYEVENT:FALSE
SUMMARY:Six Months In\, What Is the Trajectory of Construction's Recovery from COVID-19?
DESCRIPTION:As the United States begins to recover from its steepest economic downturn in history\, the construction industry is faced with unprecedented levels of uncertainty. ABC Chief Economist Anirban Basu will discuss how that uncertainty and broader macroeconomic conditions have affected the industry to date\, the shape of the recovery to come\, and what factors will determine the construction industry's trajectory over the coming months\, including a deep dive into the results of the August Construction Backlog Indicator and Construction Confidence Index.\n\n \n\nRegister today.
X-ALT-DESC;FMTTYPE=text/html:<span style="color:black\;"><span style="font-family:arial\,sans-serif\;"><span style="font-size:12.0pt\;">As the United States begins to recover from its steepest economic downturn in history\, the construction industry is faced with unprecedented levels of uncertainty. ABC Chief Economist Anirban Basu will discuss how that uncertainty and broader macroeconomic conditions have affected the industry to date\, the shape of the recovery to come\, and what factors will determine the construction industry&#39\;s trajectory over the coming months\, including a deep dive into the results of the August Construction Backlog Indicator and Construction Confidence Index.</span></span></span><br />\n&nbsp\;<br />\n<span style="color:#403F42\;"><span style="font-family:arial\,sans-serif\;"><span style="font-size:9.0pt\;"><a href="http://r20.rs6.net/tn.jsp?f=001qgUsfrhOhOqOgsj-MmGcBCEPzZtgIL-9Fyojuh_bve-8ClUleldJk1OfylKrI_ZR_HXQgTq1U1PKuX6x_SQHMTMT0PEXUjgf_topZ0wHuQlnMDBSxkQip4wC3ZjjATrKfn_IKBEUa0G9V7y4LxwEHJXLRNTBPdPLn02L883rSdZDhrThS9fKpPxC3J6V_h9B46pd8FEqVLWPYlriH7amYQ==&amp\;c=ivrFQg2PppkTd06Zy4K7q1F7dVXUUH5X3Gg5NmOQG2NSQMfGHc4tdw==&amp\;ch=tsaMfQrN5fE2kdfVVTI10jzprEmGGswGMmgVWzZNCc1k84--alMWLg==" target="_blank"><span style="color:#09A3BA\;"><span style="font-size:12.0pt\;">Register today.</span></span></a></span></span></span>
LOCATION:
UID:e.9143.871
SEQUENCE:3
DTSTAMP:20260425T113000Z
URL:https://business.abcnalabama.org/events/details/six-months-in-what-is-the-trajectory-of-construction-s-recovery-from-covid-19-871
END:VEVENT

END:VCALENDAR
