BEGIN:VCALENDAR
VERSION:2.0
PRODID:-//ChamberMaster//Event Calendar 2.0//EN
METHOD:PUBLISH
X-PUBLISHED-TTL:P3D
REFRESH-INTERVAL:P3D
CALSCALE:GREGORIAN
BEGIN:VEVENT
DTSTART:20200923T190000Z
DTEND:20200923T200000Z
X-MICROSOFT-CDO-ALLDAYEVENT:FALSE
SUMMARY:Streamlining Payables During the Pandemic
DESCRIPTION:Date: Wednesday\, September 23\n\nTime: 2 p.m.\n\nSpeakers: Eric Hoffman and Andrew Schimmel\, WEX\; Bobby Waldeck\, Mastercard\n\nModerator: Greg Sizemore\, ABC National \n\n \n\nToday's business environment is forcing companies to look for ways to reduce expenses\, mitigate risks and drive revenue to their bottom line. The WEX and Mastercard team will discuss how the accounts payable landscape is changing regarding the buyer/supplier relationship and changes in the corporate card solutions marketplace\, as well as provide a demo of the Virtual MasterCard application.\n\n \n\nRegister today.
X-ALT-DESC;FMTTYPE=text/html:<strong><span style="color:black\;"><span style="font-family:arial\,sans-serif\;"><span style="font-size:12.0pt\;">Date:</span></span></span></strong><span style="color:black\;"><span style="font-family:arial\,sans-serif\;"><span style="font-size:12.0pt\;">&nbsp\;Wednesday\, September 23</span></span></span><br />\n<strong><span style="color:black\;"><span style="font-family:arial\,sans-serif\;"><span style="font-size:12.0pt\;">Time:</span></span></span></strong><span style="color:black\;"><span style="font-family:arial\,sans-serif\;"><span style="font-size:12.0pt\;">&nbsp\;2 p.m.</span></span></span><br />\n<strong><span style="color:black\;"><span style="font-family:arial\,sans-serif\;"><span style="font-size:12.0pt\;">Speakers:</span></span></span></strong>&nbsp\;<span style="color:#0A0A0A\;"><span style="font-family:arial\,sans-serif\;"><span style="font-size:12.0pt\;">Eric Hoffman and Andrew Schimmel\, WEX\; Bobby Waldeck\, Mastercard</span></span></span><br />\n<strong><span style="color:black\;"><span style="font-family:arial\,sans-serif\;"><span style="font-size:12.0pt\;">Moderator:</span></span></span></strong><span style="color:black\;"><span style="font-family:arial\,sans-serif\;"><span style="font-size:12.0pt\;"> Greg Sizemore\, ABC National </span></span></span><br />\n&nbsp\;<br />\n<span style="color:black\;"><span style="font-family:arial\,sans-serif\;"><span style="font-size:12.0pt\;">Today&rsquo\;s business environment is forcing companies to look for ways to reduce expenses\, mitigate risks and drive revenue to their bottom line. The WEX and Mastercard team will discuss how the accounts payable landscape is changing regarding the buyer/supplier relationship and changes in the corporate card solutions marketplace\, as well as provide a demo of the Virtual MasterCard application.</span></span></span><br />\n&nbsp\;<br />\n<span style="color:#403F42\;"><span style="font-family:arial\,sans-serif\;"><span style="font-size:9.0pt\;"><a href="http://r20.rs6.net/tn.jsp?f=001wtVd4tKYaeQniy6BTKIqaqAa7RvnPjiDwYI4GlXApu9DQkLk4oPZr3wuCLJyvPXmFTcPKq3i2ouwxbGHhGrQOfRxBLyLSdg7BB8TvuRFmCd8rfrt4FupjNbJDiuunqWPvV8hJtLavTpwNIBJzIticN9tRHJkKbktM3OT4BNWqYQk1eflUWjSR289XzK0zPAlMoeD35BDkHtv9topr-4AUw==&amp\;c=947mbhaHi10-Rw3Rxhgp-txZvtiWpGPztNj1T1Vb00p5cYJ22_pWhA==&amp\;ch=u1T733SFYKJec9Vue6WYprHi90TxL4mernRKF8U8jWC_QEc_weICfg==" target="_blank"><span style="color:#09A3BA\;"><span style="font-size:12.0pt\;">Register today.</span></span></a></span></span></span>
LOCATION:
UID:e.9143.878
SEQUENCE:3
DTSTAMP:20260425T125837Z
URL:https://business.abcnalabama.org/events/details/streamlining-payables-during-the-pandemic-878
END:VEVENT

END:VCALENDAR
