BEGIN:VCALENDAR
VERSION:2.0
PRODID:-//ChamberMaster//Event Calendar 2.0//EN
METHOD:PUBLISH
X-PUBLISHED-TTL:P3D
REFRESH-INTERVAL:P3D
CALSCALE:GREGORIAN
BEGIN:VEVENT
DTSTART:20200930T190000Z
DTEND:20200930T200000Z
X-MICROSOFT-CDO-ALLDAYEVENT:FALSE
SUMMARY:Taking a Stand to Raise Awareness and Deploy Suicide Prevention Strategies in Construction
DESCRIPTION:Date: Wednesday\, September 30\n\nTime: 2 p.m.\n\nSpeakers: Mike Bennett\, Cianbro\; Cal Beyer\, CSDZ\, A Holmes Murphy Company\; Dr. Paul Surgenor\, Psychologist\n\nModerator: Greg Sizemore\, ABC National \n\n \n\nA panel of industry\, safety and mental health experts will discuss proactive strategies your organization can take to address suicide prevention on your projects\, including signs and symptoms and available resources your company and your employees can access to ensure a mentally healthy work environment.\n\n \n\nRegister today.
X-ALT-DESC;FMTTYPE=text/html:<strong><span style="color:black\;"><span style="font-family:arial\,sans-serif\;"><span style="font-size:12.0pt\;">Date:</span></span></span></strong><span style="color:black\;"><span style="font-family:arial\,sans-serif\;"><span style="font-size:12.0pt\;">&nbsp\;Wednesday\, September 30</span></span></span><br />\n<strong><span style="color:black\;"><span style="font-family:arial\,sans-serif\;"><span style="font-size:12.0pt\;">Time:</span></span></span></strong><span style="color:black\;"><span style="font-family:arial\,sans-serif\;"><span style="font-size:12.0pt\;">&nbsp\;2 p.m.</span></span></span><br />\n<strong><span style="color:black\;"><span style="font-family:arial\,sans-serif\;"><span style="font-size:12.0pt\;">Speakers: </span></span></span></strong><span style="color:black\;"><span style="font-family:arial\,sans-serif\;"><span style="font-size:12.0pt\;">Mike Bennett\, Cianbro\; Cal Beyer\, CSDZ\, A Holmes Murphy Company\; Dr. Paul Surgenor\, Psychologist</span></span></span><br />\n<strong><span style="color:black\;"><span style="font-family:arial\,sans-serif\;"><span style="font-size:12.0pt\;">Moderator:</span></span></span></strong><span style="color:black\;"><span style="font-family:arial\,sans-serif\;"><span style="font-size:12.0pt\;"> Greg Sizemore\, ABC National </span></span></span><br />\n&nbsp\;<br />\n<span style="color:black\;"><span style="font-family:arial\,sans-serif\;"><span style="font-size:12.0pt\;">A panel of industry\, safety and mental health experts will discuss proactive strategies your organization can take to address suicide prevention on your projects\, including signs and symptoms and available resources your company and your employees can access to ensure a mentally healthy work environment.</span></span></span><br />\n&nbsp\;<br />\n<span style="color:#403F42\;"><span style="font-family:arial\,sans-serif\;"><span style="font-size:9.0pt\;"><a href="http://r20.rs6.net/tn.jsp?f=001wtVd4tKYaeQniy6BTKIqaqAa7RvnPjiDwYI4GlXApu9DQkLk4oPZrw6VdVPTBqJHgrehZbeBysSvqImMZebY0wjtVybKJ0TBH6pgLL5EGo3vMEI2GlzbnY_1B7ZlsEUnG_MexKQjOTU91auKmvkzWljOvvkCfKmJH2YO7kSiEbcQyClOoGu51MGLsdMOjr-2rg0gEPg82Tqh_XGgt-lDsQ==&amp\;c=947mbhaHi10-Rw3Rxhgp-txZvtiWpGPztNj1T1Vb00p5cYJ22_pWhA==&amp\;ch=u1T733SFYKJec9Vue6WYprHi90TxL4mernRKF8U8jWC_QEc_weICfg==" target="_blank"><span style="color:#09A3BA\;"><span style="font-size:12.0pt\;">Register today.</span></span></a></span></span></span>
LOCATION:
UID:e.9143.879
SEQUENCE:3
DTSTAMP:20260425T130411Z
URL:https://business.abcnalabama.org/events/details/taking-a-stand-to-raise-awareness-and-deploy-suicide-prevention-strategies-in-construction-879
END:VEVENT

END:VCALENDAR
