BEGIN:VCALENDAR
VERSION:2.0
PRODID:-//ChamberMaster//Event Calendar 2.0//EN
METHOD:PUBLISH
X-PUBLISHED-TTL:P3D
REFRESH-INTERVAL:P3D
CALSCALE:GREGORIAN
BEGIN:VEVENT
DTSTART:20200916T190000Z
DTEND:20200916T200000Z
X-MICROSOFT-CDO-ALLDAYEVENT:FALSE
SUMMARY:Tech Tool Focus: Estimating and Project Management Made Easy
DESCRIPTION:Date: Wednesday\, September 16\n\nTime: 2 p.m.\n\nSpeakers: Jim Andrews\, SubHQ\; Chandler Brooks\, Procore\; Jeff Gerardi\, ProEst\; Bill Wagner\, Penta\n\nModerator: Matt Abeles\, ABC National \n\n \n\nFrom estimating to project management\, contractors need easy-to-use tools to simplify and automate processes throughout the construction lifecycle. This session focuses on ProEst's estimating and CRM software\; SubHQ's all-in-one project management solution for subcontractors\; Procore's project and resource management software\; and Penta's ERP solution and field construction management tools to improve jobsite efficiency.\n\n \n\nRegister today.
X-ALT-DESC;FMTTYPE=text/html:<strong><span style="color:black\;"><span style="font-family:arial\,sans-serif\;"><span style="font-size:12.0pt\;">Date:</span></span></span></strong><span style="color:black\;"><span style="font-family:arial\,sans-serif\;"><span style="font-size:12.0pt\;">&nbsp\;Wednesday\, September 16</span></span></span><br />\n<strong><span style="color:black\;"><span style="font-family:arial\,sans-serif\;"><span style="font-size:12.0pt\;">Time:</span></span></span></strong><span style="color:black\;"><span style="font-family:arial\,sans-serif\;"><span style="font-size:12.0pt\;">&nbsp\;2 p.m.</span></span></span><br />\n<strong><span style="color:black\;"><span style="font-family:arial\,sans-serif\;"><span style="font-size:12.0pt\;">Speakers:</span></span></span></strong><span style="color:black\;"><span style="font-family:arial\,sans-serif\;"><span style="font-size:12.0pt\;">&nbsp\;Jim Andrews\, SubHQ\; Chandler Brooks\, Procore\; Jeff Gerardi\, ProEst\; Bill Wagner\, Penta</span></span></span><br />\n<strong><span style="color:black\;"><span style="font-family:arial\,sans-serif\;"><span style="font-size:12.0pt\;">Moderator:</span></span></span></strong><span style="color:black\;"><span style="font-family:arial\,sans-serif\;"><span style="font-size:12.0pt\;"> Matt Abeles\, ABC National </span></span></span><br />\n&nbsp\;<br />\n<span style="color:#0A0A0A\;"><span style="font-family:arial\,sans-serif\;"><span style="font-size:12.0pt\;">From estimating to project management\, contractors need easy-to-use tools to simplify and automate processes throughout the construction lifecycle. This session focuses on&nbsp\;ProEst&rsquo\;s&nbsp\;estimating and CRM software\;&nbsp\;SubHQ&rsquo\;s&nbsp\;all-in-one project management solution for subcontractors\;&nbsp\;Procore&rsquo\;s&nbsp\;project and resource management software\; and&nbsp\;Penta&rsquo\;s&nbsp\;ERP solution and field construction management tools to improve jobsite efficiency.</span></span></span><br />\n&nbsp\;<br />\n<span style="color:#403F42\;"><span style="font-family:arial\,sans-serif\;"><span style="font-size:9.0pt\;"><a href="http://r20.rs6.net/tn.jsp?f=00177ORmCctYWb8X-fIVXjYmbzp6GiUEd5tSO9ehGsXNBlxnuE6bfw44JkaGjnmHSJoE-HLAMPyZlpPInzwDSXxe1_5fAz1CB0J0jfyQt40Iy4zer_9H9CbcLmxFlr1B86rI49A6_hsH2HhoDT2IjdR_GYTo6aybKdnDsNyYVHkcq9-M7_Sgutps4o28S2ZBHzBYh7Hvy_0EOk=&amp\;c=HWqJ5Su_rsyjm9qdSlBZbsIjZfKa3zFdGbMGZzCe0QtuEeIKpSEKxQ==&amp\;ch=ST7wBqsY_0rdU94ZCzogkLVOLfAuLgYzrqZJ2bokWneCLS7VJwyEqA==" target="_blank"><span style="color:#09A3BA\;"><span style="font-size:12.0pt\;">Register today.</span></span></a></span></span></span>
LOCATION:
UID:e.9143.882
SEQUENCE:3
DTSTAMP:20260425T124233Z
URL:https://business.abcnalabama.org/events/details/tech-tool-focus-estimating-and-project-management-made-easy-882
END:VEVENT

END:VCALENDAR
