BEGIN:VCALENDAR
VERSION:2.0
PRODID:-//ChamberMaster//Event Calendar 2.0//EN
METHOD:PUBLISH
X-PUBLISHED-TTL:P3D
REFRESH-INTERVAL:P3D
CALSCALE:GREGORIAN
BEGIN:VEVENT
DTSTART:20200915T190000Z
DTEND:20200915T200000Z
X-MICROSOFT-CDO-ALLDAYEVENT:FALSE
SUMMARY:Tech Tool Focus: Improving Safety and Collaboration on the Jobsite
DESCRIPTION:Date: Tuesday\, September 15\n\nTime: 2 p.m. \n\nSpeakers:  Esteban Corrales\, Autodesk\; Cory Davis\, Real Time Risk Solutions\; Peter Grant\, SafeSite\; Chris Jervey\, StructionSite\n\nModerator: Matt Abeles\, ABC National \n\n \n\nLearn about tech tools that put safety first on the jobsite and facilitate collaboration among all stakeholders: Autodesk's software that connects office and field teams\; Real Time Risk Solutions' safety documentation platform\; StructionSite's jobsite monitoring and collaboration solution\; and Safesite's safety management software that digitizes safety documentation for improved safety results.\n\n \n\nRegister today.
X-ALT-DESC;FMTTYPE=text/html:<strong><span style="color:black\;"><span style="font-family:arial\,sans-serif\;"><span style="font-size:12.0pt\;">Date:</span></span></span></strong><span style="color:black\;"><span style="font-family:arial\,sans-serif\;"><span style="font-size:12.0pt\;">&nbsp\;Tuesday\, September 15</span></span></span><br />\n<strong><span style="color:black\;"><span style="font-family:arial\,sans-serif\;"><span style="font-size:12.0pt\;">Time:</span></span></span></strong><span style="color:black\;"><span style="font-family:arial\,sans-serif\;"><span style="font-size:12.0pt\;">&nbsp\;2 p.m.&nbsp\;</span></span></span><br />\n<strong><span style="color:black\;"><span style="font-family:arial\,sans-serif\;"><span style="font-size:12.0pt\;">Speakers:</span></span></span></strong>&nbsp\; <span style="color:black\;"><span style="font-family:arial\,sans-serif\;"><span style="font-size:12.0pt\;">Esteban Corrales\, Autodesk\; Cory Davis\, Real Time Risk Solutions\; Peter Grant\, SafeSite\; Chris Jervey\, StructionSite</span></span></span><br />\n<strong><span style="color:black\;"><span style="font-family:arial\,sans-serif\;"><span style="font-size:12.0pt\;">Moderator:</span></span></span></strong><span style="color:black\;"><span style="font-family:arial\,sans-serif\;"><span style="font-size:12.0pt\;"> Matt Abeles\, ABC National </span></span></span><br />\n&nbsp\;<br />\n<span style="color:black\;"><span style="font-family:arial\,sans-serif\;"><span style="font-size:12.0pt\;">Learn about tech tools that put safety first on the jobsite and facilitate collaboration among all stakeholders: Autodesk&rsquo\;s software that connects office and field teams\; Real Time Risk Solutions&rsquo\; safety documentation platform\; StructionSite&rsquo\;s jobsite monitoring and collaboration solution\; and Safesite&rsquo\;s safety management software that digitizes safety documentation for improved safety results.</span></span></span><br />\n&nbsp\;<br />\n<span style="color:#403F42\;"><span style="font-family:arial\,sans-serif\;"><span style="font-size:9.0pt\;"><a href="http://r20.rs6.net/tn.jsp?f=00177ORmCctYWb8X-fIVXjYmbzp6GiUEd5tSO9ehGsXNBlxnuE6bfw44JkaGjnmHSJo33z6dQtIUPdU8pZ1y1Drbjq7gOwEE0ypWAYe3RUnjcrctPHBqjT-LGjlzh2tn_0xbJMshlB1FaHwZlzDctqMg5JPww75-JQRK6RCLeXGX0_HJ6L1FHW6hfFXSZ69wzOZNITFMxZV8s0=&amp\;c=HWqJ5Su_rsyjm9qdSlBZbsIjZfKa3zFdGbMGZzCe0QtuEeIKpSEKxQ==&amp\;ch=ST7wBqsY_0rdU94ZCzogkLVOLfAuLgYzrqZJ2bokWneCLS7VJwyEqA==" target="_blank"><span style="color:#09A3BA\;"><span style="font-size:12.0pt\;">Register today.</span></span></a></span></span></span>
LOCATION:
UID:e.9143.881
SEQUENCE:3
DTSTAMP:20260425T130122Z
URL:https://business.abcnalabama.org/events/details/tech-tool-focus-improving-safety-and-collaboration-on-the-jobsite-881
END:VEVENT

END:VCALENDAR
