BEGIN:VCALENDAR
VERSION:2.0
PRODID:-//ChamberMaster//Event Calendar 2.0//EN
METHOD:PUBLISH
X-PUBLISHED-TTL:P3D
REFRESH-INTERVAL:P3D
CALSCALE:GREGORIAN
BEGIN:VEVENT
DTSTART:20200922T190000Z
DTEND:20200922T200000Z
X-MICROSOFT-CDO-ALLDAYEVENT:FALSE
SUMMARY:Tech Tool Focus: Labor\, Equipment and Financial Tools to Maximize Productivity
DESCRIPTION:Date: Tuesday\, September 22\n\nTime: 2 p.m.\n\nSpeakers: Christian Anderson\, BuildOps\; Ben Conry\, Flashtract\; Austin Conti\, Tenna\; Dan Maldonado\, myComply\; Alec Thomson\, Rickcast\; Zach Yuzdepski\, myComply\n\nModerator: Matt Abeles\, ABC National \n\n \n\nWorkforce planning\, equipment utilization and construction billing tools keep construction projects operating efficiently and productively. This session focuses on Tenna's IOT solutions for equipment utilization\; MyComply's labor and compliance tracking solution\; Riskcast's platform that manages time tracking\, job costing and productivity\; and billing solutions from Buildops and Flashtract.  \n\n \n\nRegister today.
X-ALT-DESC;FMTTYPE=text/html:<strong><span style="color:black\;"><span style="font-family:arial\,sans-serif\;"><span style="font-size:12.0pt\;">Date:</span></span></span></strong><span style="color:black\;"><span style="font-family:arial\,sans-serif\;"><span style="font-size:12.0pt\;">&nbsp\;Tuesday\, September 22</span></span></span><br />\n<strong><span style="color:black\;"><span style="font-family:arial\,sans-serif\;"><span style="font-size:12.0pt\;">Time:</span></span></span></strong><span style="color:black\;"><span style="font-family:arial\,sans-serif\;"><span style="font-size:12.0pt\;">&nbsp\;2 p.m.</span></span></span><br />\n<strong><span style="color:black\;"><span style="font-family:arial\,sans-serif\;"><span style="font-size:12.0pt\;">Speakers:</span></span></span></strong><span style="color:black\;"><span style="font-family:arial\,sans-serif\;"><span style="font-size:12.0pt\;">&nbsp\;Christian Anderson\, BuildOps\; Ben Conry\, Flashtract\; Austin Conti\, Tenna\; Dan Maldonado\, myComply\; Alec Thomson\, Rickcast\; Zach Yuzdepski\, myComply</span></span></span><br />\n<strong><span style="color:black\;"><span style="font-family:arial\,sans-serif\;"><span style="font-size:12.0pt\;">Moderator:</span></span></span></strong><span style="color:black\;"><span style="font-family:arial\,sans-serif\;"><span style="font-size:12.0pt\;"> Matt Abeles\, ABC National </span></span></span><br />\n&nbsp\;<br />\n<span style="color:#0A0A0A\;"><span style="font-family:arial\,sans-serif\;"><span style="font-size:12.0pt\;">Workforce planning\, equipment utilization and construction billing tools keep construction projects operating efficiently and productively.&nbsp\;This session focuses on&nbsp\;Tenna&rsquo\;s&nbsp\;IOT solutions for equipment utilization\;&nbsp\;MyComply&rsquo\;s labor and compliance tracking solution\;&nbsp\;Riskcast&rsquo\;s&nbsp\;platform that manages time tracking\, job costing and productivity\; and billing solutions from&nbsp\;Buildops&nbsp\;and&nbsp\;Flashtract.&nbsp\;&nbsp\;</span></span></span><br />\n&nbsp\;<br />\n<span style="color:#403F42\;"><span style="font-family:arial\,sans-serif\;"><span style="font-size:9.0pt\;"><a href="http://r20.rs6.net/tn.jsp?f=00177ORmCctYWb8X-fIVXjYmbzp6GiUEd5tSO9ehGsXNBlxnuE6bfw44PSEcE_vh_7hFyW0k7ULPkDTduVCZZPCURuGOxxMDgBoTf1Ff9rBLK4pQkn4Zx8ahOKOP9_-L0Zg_ZueMgS8RkYFO8lCYFllKkzrwKYtDXH_dn7RUNAQFNEmavGdxuivtzs6VY3sVFTbCeprUSpfspA=&amp\;c=HWqJ5Su_rsyjm9qdSlBZbsIjZfKa3zFdGbMGZzCe0QtuEeIKpSEKxQ==&amp\;ch=ST7wBqsY_0rdU94ZCzogkLVOLfAuLgYzrqZJ2bokWneCLS7VJwyEqA==" target="_blank"><span style="color:#09A3BA\;"><span style="font-size:12.0pt\;">Register today.</span></span></a></span></span></span>
LOCATION:
UID:e.9143.883
SEQUENCE:3
DTSTAMP:20260425T142533Z
URL:https://business.abcnalabama.org/events/details/tech-tool-focus-labor-equipment-and-financial-tools-to-maximize-productivity-883
END:VEVENT

END:VCALENDAR
