BEGIN:VCALENDAR
VERSION:2.0
PRODID:-//ChamberMaster//Event Calendar 2.0//EN
METHOD:PUBLISH
X-PUBLISHED-TTL:P3D
REFRESH-INTERVAL:P3D
CALSCALE:GREGORIAN
BEGIN:VEVENT
DTSTART:20201027T190000Z
DTEND:20201027T200000Z
X-MICROSOFT-CDO-ALLDAYEVENT:FALSE
SUMMARY:Technologies With Impact for Equipment Management Professionals
DESCRIPTION:Date: Tuesday\, Oct. 27\n\nTime: 3 p.m. EDT\n\nSpeakers: Dave Bolderoff\, Los Angeles County Sanitation Districts\; Cameron Clark\, Trimble Civil Construction\; Jordan Hodges\, Uptake\; Norty Turner\, United Rentals\; Russ Young\, Tenna\n\nModerator: Matt Abeles\, ABC National\n\n \n\nLeaders from the equipment management and construction industries will discuss challenges facing their businesses and learn how technology can help address them. Learn how tech companies are supporting equipment management professionals to overcome pandemic-related obstacles\; understand emerging trends and strategies for implementing new technologies\; and hear how four industry leaders Tenna\, Trimble\, United Rentals and Uptake are making an impact to manage equipment safely and efficiently.\n\n \n\nRegister today.
X-ALT-DESC;FMTTYPE=text/html:<strong><span style="color:black\;"><span style="font-family:arial\,sans-serif\;"><span style="font-size:12.0pt\;">Date:</span></span></span></strong><span style="color:black\;"><span style="font-family:arial\,sans-serif\;"><span style="font-size:12.0pt\;">&nbsp\;Tuesday\, Oct. 27</span></span></span><br />\n<strong><span style="color:black\;"><span style="font-family:arial\,sans-serif\;"><span style="font-size:12.0pt\;">Time:</span></span></span></strong><span style="color:black\;"><span style="font-family:arial\,sans-serif\;"><span style="font-size:12.0pt\;">&nbsp\;3 p.m. EDT</span></span></span><br />\n<strong><span style="color:black\;"><span style="font-family:arial\,sans-serif\;"><span style="font-size:12.0pt\;">Speakers: </span></span></span></strong><span style="color:black\;"><span style="font-family:arial\,sans-serif\;"><span style="font-size:12.0pt\;">Dave Bolderoff\, Los Angeles County Sanitation Districts\; Cameron Clark\, Trimble Civil Construction\; Jordan Hodges\, Uptake\; Norty Turner\, United Rentals\; Russ Young\, Tenna</span></span></span><br />\n<strong><span style="color:black\;"><span style="font-family:arial\,sans-serif\;"><span style="font-size:12.0pt\;">Moderator:</span></span></span></strong><span style="color:black\;"><span style="font-family:arial\,sans-serif\;"><span style="font-size:12.0pt\;"> Matt Abeles\, ABC National</span></span></span><br />\n&nbsp\;<br />\n<span style="color:black\;"><span style="font-family:arial\,sans-serif\;"><span style="font-size:12.0pt\;">Leaders from the equipment management and construction industries will discuss challenges facing their businesses and learn how technology can help address them. Learn how tech companies are supporting equipment management professionals to overcome pandemic-related obstacles\; understand emerging trends and strategies for implementing new technologies\; and hear how four industry leaders&mdash\;Tenna\, Trimble\, United Rentals and Uptake&mdash\;are making an impact to manage equipment safely and efficiently.</span></span></span><br />\n&nbsp\;<br />\n<span style="color:#403F42\;"><span style="font-family:arial\,sans-serif\;"><span style="font-size:9.0pt\;"><a href="http://r20.rs6.net/tn.jsp?f=00118JdyvG8nWq6nCNPLrMnmalnzaU977GVqfXYgyqhyOOKKhJKdsxlgPkUhrJhRDCkFtAsDhchS_WKg9UqGWwltBBcI2You1pemYiSiafWvGub9aiOfhLU_KYQSwN4PiWFHmmRt9DPmjVw4UD05cYqb1VfqiXFO651YjNNXxuM9ib3Js_diZyGI_LH34--pFGaxI4SbXPHGYM5ePInhQVyvw==&amp\;c=8367cwGrl0YggiSrZwcx1L9OScp5wwagF_0QZ8G_TlELyj-KF9EfKA==&amp\;ch=TYwhbMSHCjHuBHojy7iP8Isr0-VVtnvflqA2_xhpijemOadmKrHwlQ==" target="_blank"><span style="color:#09A3BA\;"><span style="font-size:12.0pt\;">Register today.</span></span></a></span></span></span>
LOCATION:
UID:e.9143.890
SEQUENCE:3
DTSTAMP:20260425T135944Z
URL:https://business.abcnalabama.org/events/details/technologies-with-impact-for-equipment-management-professionals-890
END:VEVENT

END:VCALENDAR
