BEGIN:VCALENDAR
VERSION:2.0
PRODID:-//ChamberMaster//Event Calendar 2.0//EN
METHOD:PUBLISH
X-PUBLISHED-TTL:P3D
REFRESH-INTERVAL:P3D
CALSCALE:GREGORIAN
BEGIN:VEVENT
DTSTART:20201014T190000Z
DTEND:20201014T200000Z
X-MICROSOFT-CDO-ALLDAYEVENT:FALSE
SUMMARY:The Conversation Continues: Developing a Company Culture that Embraces Diversity and Innovation
DESCRIPTION:Date: Wednesday\, Oct. 14\n\nTime: 3 p.m. EDT\n\nSpeakers: Steve Huizinga\, Allied Mechanical\; Sasha Reed\, Procore\n\nModerator: Matt Abeles and Tia Perry\, ABC National\n\n \n\nJoin us for the second webinar focused on the importance of developing a company culture that values diversity and innovation and why embracing technology is essential to recruiting the workforce of the future. Learn how the intersection of culture\, diversity and innovation can help you mentor your company's next generation of leaders and how it will lead to better safety performance\, operational efficiency and job satisfaction.\n\n \n\nRegister today.
X-ALT-DESC;FMTTYPE=text/html:<strong><span style="color:black\;"><span style="font-family:arial\,sans-serif\;"><span style="font-size:12.0pt\;">Date:</span></span></span></strong><span style="color:black\;"><span style="font-family:arial\,sans-serif\;"><span style="font-size:12.0pt\;">&nbsp\;Wednesday\, Oct. 14</span></span></span><br />\n<strong><span style="color:black\;"><span style="font-family:arial\,sans-serif\;"><span style="font-size:12.0pt\;">Time:</span></span></span></strong><span style="color:black\;"><span style="font-family:arial\,sans-serif\;"><span style="font-size:12.0pt\;">&nbsp\;3 p.m. EDT</span></span></span><br />\n<strong><span style="color:black\;"><span style="font-family:arial\,sans-serif\;"><span style="font-size:12.0pt\;">Speakers: </span></span></span></strong><span style="color:black\;"><span style="font-family:arial\,sans-serif\;"><span style="font-size:12.0pt\;">Steve Huizinga\, Allied Mechanical\; Sasha Reed\, Procore</span></span></span><br />\n<strong><span style="color:black\;"><span style="font-family:arial\,sans-serif\;"><span style="font-size:12.0pt\;">Moderator:</span></span></span></strong><span style="color:black\;"><span style="font-family:arial\,sans-serif\;"><span style="font-size:12.0pt\;"> Matt Abeles and Tia Perry\, ABC National</span></span></span><br />\n&nbsp\;<br />\n<span style="color:black\;"><span style="font-family:arial\,sans-serif\;"><span style="font-size:12.0pt\;">Join us for the second webinar focused on the importance of developing a company culture that values diversity and innovation and why embracing technology is essential to recruiting the workforce of the future. Learn how the intersection of culture\, diversity and innovation can help you mentor your company&rsquo\;s next generation of leaders and how it will lead to better safety performance\, operational efficiency and job satisfaction.</span></span></span><br />\n&nbsp\;<br />\n<span style="color:#403F42\;"><span style="font-family:arial\,sans-serif\;"><span style="font-size:9.0pt\;"><a href="http://r20.rs6.net/tn.jsp?f=00118JdyvG8nWq6nCNPLrMnmalnzaU977GVqfXYgyqhyOOKKhJKdsxlgCb9ENba3LdGLJqrZrEn5TCzUJrQyhhy47-kiUmKc3LC3gBer1Ppnye21ZVpqJhyMHnF6ItfzQoDvhZGoGjrAjJptBAU881rHTKT_gwHAIxG4egX3flQrHYc75EjW8OMR0WZwBnNJydq3OI7ED_WQSkJn8IzKuVtDw==&amp\;c=8367cwGrl0YggiSrZwcx1L9OScp5wwagF_0QZ8G_TlELyj-KF9EfKA==&amp\;ch=TYwhbMSHCjHuBHojy7iP8Isr0-VVtnvflqA2_xhpijemOadmKrHwlQ==" target="_blank"><span style="color:#09A3BA\;"><span style="font-size:12.0pt\;">Register today.</span></span></a></span></span></span>
LOCATION:
UID:e.9143.888
SEQUENCE:3
DTSTAMP:20260425T135640Z
URL:https://business.abcnalabama.org/events/details/the-conversation-continues-developing-a-company-culture-that-embraces-diversity-and-innovation-888
END:VEVENT

END:VCALENDAR
