BEGIN:VCALENDAR
VERSION:2.0
PRODID:-//ChamberMaster//Event Calendar 2.0//EN
METHOD:PUBLISH
X-PUBLISHED-TTL:P3D
REFRESH-INTERVAL:P3D
CALSCALE:GREGORIAN
BEGIN:VEVENT
DTSTART:20200429T190000Z
DTEND:20200429T200000Z
X-MICROSOFT-CDO-ALLDAYEVENT:FALSE
SUMMARY:The Impact of New ANSI Standards: What You Need to Know and Do...Now!
DESCRIPTION:The Impact of New ANSI Standards: What You Need to Know and Do...Now!\n		\n		\n			Date: Wednesday\, April 29\n\n			Time: 3 p.m. EDT\n\n			 Speaker: Rick Smith\, JLG Industries \n\n			Moderator: Greg Sizemore\, ABC National\n\n			 \n\n			The ANSI standards that govern the access equipment industry are scheduled to take effect on June 1\, 2020. As we face COVID-19 and navigate its effects on the construction industry\, it is even more crucial to be proactive\, informed and prepared about compliance. Who's affected? Everyone. Rental companies\, equipment owners\, supervisors\, operators and technicians. Review the changes that need to be made in the areas of training\, job site safety and machine selection and be ready to meet the new standards. \n\n			 \n\n			Register today.
X-ALT-DESC;FMTTYPE=text/html:<table border="0" cellpadding="0" cellspacing="0" style="width:100.0%\;border-collapse:collapse\;" width="100%">\n	<tbody>\n		<tr>\n			<td style="padding:7.5pt 15.0pt 7.5pt 15.0pt\;vertical-align:top\;"><strong><span style="color:#09A3BA\;"><span style="font-family:arial\,sans-serif\;"><span style="font-size:12.0pt\;">The Impact of New ANSI Standards: What You Need to Know and Do...Now!</span></span></span></strong></td>\n		</tr>\n		<tr>\n			<td style="padding:7.5pt 15.0pt 7.5pt 15.0pt\;vertical-align:top\;"><strong><span style="color:#0A0A0A\;"><span style="font-family:arial\,sans-serif\;"><span style="font-size:12.0pt\;">Date:</span></span></span></strong><span style="color:#0A0A0A\;"><span style="font-family:arial\,sans-serif\;"><span style="font-size:12.0pt\;"> Wednesday\, April 29</span></span></span><br />\n			<strong><span style="color:#0A0A0A\;"><span style="font-family:arial\,sans-serif\;"><span style="font-size:12.0pt\;">Time:</span></span></span></strong><span style="color:#0A0A0A\;"><span style="font-family:arial\,sans-serif\;"><span style="font-size:12.0pt\;"> 3 p.m. EDT</span></span></span><br />\n			&#65279\;<strong><span style="color:#0A0A0A\;"><span style="font-family:arial\,sans-serif\;"><span style="font-size:12.0pt\;">Speaker: </span></span></span></strong><span style="color:#0A0A0A\;"><span style="font-family:arial\,sans-serif\;"><span style="font-size:&#10\;">Rick Smith\, JLG Industries </span></span></span><br />\n			<strong><span style="color:#0A0A0A\;"><span style="font-family:arial\,sans-serif\;"><span style="font-size:12.0pt\;">Moderator: </span></span></span></strong><span style="color:#0A0A0A\;"><span style="font-family:arial\,sans-serif\;"><span style="font-size:12.0pt\;">Greg Sizemore\, ABC National</span></span></span><br />\n			&nbsp\;<br />\n			<span style="color:#0A0A0A\;"><span style="font-family:arial\,sans-serif\;"><span style="font-size:12.0pt\;">The ANSI standards that govern the access equipment industry are scheduled to take effect on June 1\, 2020. As we face COVID-19 and navigate its effects on the construction industry\, it is even more crucial to be proactive\, informed and prepared about compliance. Who&rsquo\;s affected? Everyone. Rental companies\, equipment owners\, supervisors\, operators and technicians. Review the changes that need to be made in the areas of training\, job site safety and machine selection and be ready to meet the new standards.&nbsp\;</span></span></span><br />\n			&nbsp\;<br />\n			<span style="color:#403F42\;"><span style="font-family:arial\,sans-serif\;"><span style="font-size:9.0pt\;"><a href="https://register.gotowebinar.com/register/4570013834468345100" target="_blank"><span style="color:#09A3BA\;"><span style="font-size:12.0pt\;">Register today.</span></span></a></span></span></span></td>\n		</tr>\n	</tbody>\n</table>\n
LOCATION:
UID:e.9143.844
SEQUENCE:3
DTSTAMP:20260425T163610Z
URL:https://business.abcnalabama.org/events/details/the-impact-of-new-ansi-standards-what-you-need-to-know-and-do-now-844
END:VEVENT

END:VCALENDAR
