BEGIN:VCALENDAR
VERSION:2.0
PRODID:-//ChamberMaster//Event Calendar 2.0//EN
METHOD:PUBLISH
X-PUBLISHED-TTL:P3D
REFRESH-INTERVAL:P3D
CALSCALE:GREGORIAN
BEGIN:VEVENT
DTSTART:20200910T170000Z
DTEND:20200910T180000Z
X-MICROSOFT-CDO-ALLDAYEVENT:FALSE
SUMMARY:The PRO Act and its Negative Impact on Merit Shop Contractors
DESCRIPTION:Date: Thursday\, September 10\n\nTime: 12 p.m.\n\nSpeakers: Maury Baskin\, Littler\; Jimmy Greene\, ABC Michigan\; Brett McMahon\, Miller & Long Co.\; Kristen Swearingen\, ABC National\n\nModerator: Ben Brubeck\, ABC National \n\n \n\nWill passage of the ABC-opposed PRO Act put you out of business? Insights from ABC leaders and experts about the impact of negative legislation targeting employers and threatening employee freedom\, privacy and choice in the workplace.\n\n \n\nRegister today.
X-ALT-DESC;FMTTYPE=text/html:<strong><span style="color:black\;"><span style="font-family:arial\,sans-serif\;"><span style="font-size:12.0pt\;">Date:</span></span></span></strong><span style="color:black\;"><span style="font-family:arial\,sans-serif\;"><span style="font-size:12.0pt\;">&nbsp\;Thursday\, September 10</span></span></span><br />\n<strong><span style="color:black\;"><span style="font-family:arial\,sans-serif\;"><span style="font-size:12.0pt\;">Time:</span></span></span></strong><span style="color:black\;"><span style="font-family:arial\,sans-serif\;"><span style="font-size:12.0pt\;">&nbsp\;12 p.m.</span></span></span><br />\n<strong><span style="color:black\;"><span style="font-family:arial\,sans-serif\;"><span style="font-size:12.0pt\;">Speakers:</span></span></span></strong>&nbsp\;<span style="color:#0A0A0A\;"><span style="font-family:arial\,sans-serif\;"><span style="font-size:12.0pt\;">Maury Baskin\, Littler\; Jimmy Greene\, ABC Michigan\; Brett McMahon\, Miller &amp\; Long Co.\; Kristen Swearingen\, ABC National</span></span></span><br />\n<strong><span style="color:black\;"><span style="font-family:arial\,sans-serif\;"><span style="font-size:12.0pt\;">Moderator:</span></span></span></strong><span style="color:black\;"><span style="font-family:arial\,sans-serif\;"><span style="font-size:12.0pt\;"> Ben Brubeck\, ABC National </span></span></span><br />\n&nbsp\;<br />\n<span style="color:#0A0A0A\;"><span style="font-family:arial\,sans-serif\;"><span style="font-size:12.0pt\;">Will passage of the ABC-opposed PRO Act put you out of business? Insights from ABC leaders and experts about the impact of negative legislation targeting employers and threatening employee freedom\, privacy and choice in the workplace.</span></span></span><br />\n&nbsp\;<br />\n<span style="color:#403F42\;"><span style="font-family:arial\,sans-serif\;"><span style="font-size:9.0pt\;"><a href="http://r20.rs6.net/tn.jsp?f=001wtVd4tKYaeQniy6BTKIqaqAa7RvnPjiDwYI4GlXApu9DQkLk4oPZrw6VdVPTBqJHADSvNX5-QMU1v62D5ytD18KkN4PPA53vzDWtlhtMLTw_kGg1uHXKzIls1SJviTR0hh5jnZDpM41gmUuYgyhMVjvMqvc8k4JJc_G9TreIByFyuXEZwmsrIu_kJ0q-EFy2SAS-7YNZYsLMDNVEEvUS7A==&amp\;c=947mbhaHi10-Rw3Rxhgp-txZvtiWpGPztNj1T1Vb00p5cYJ22_pWhA==&amp\;ch=u1T733SFYKJec9Vue6WYprHi90TxL4mernRKF8U8jWC_QEc_weICfg==" target="_blank"><span style="color:#09A3BA\;"><span style="font-size:12.0pt\;">Register today.</span></span></a></span></span></span>
LOCATION:
UID:e.9143.877
SEQUENCE:3
DTSTAMP:20260425T130235Z
URL:https://business.abcnalabama.org/events/details/the-pro-act-and-its-negative-impact-on-merit-shop-contractors-877
END:VEVENT

END:VCALENDAR
