BEGIN:VCALENDAR
VERSION:2.0
PRODID:-//ChamberMaster//Event Calendar 2.0//EN
METHOD:PUBLISH
X-PUBLISHED-TTL:P3D
REFRESH-INTERVAL:P3D
CALSCALE:GREGORIAN
BEGIN:VEVENT
DTSTART:20240709T180000Z
DTEND:20240709T190000Z
X-MICROSOFT-CDO-ALLDAYEVENT:FALSE
SUMMARY:Updated Safety Best Practices During Public Events
DESCRIPTION:Health and safety are core values for ABC and members. As ABC chapters and members prepare to host media\, lawmakers\, students and/or the general public at an event or jobsite\, watching this updated webinar is a must in that process!
X-ALT-DESC;FMTTYPE=text/html:<p><span style="font-size:13.5pt\;font-family:&quot\;Arial&quot\;\,sans-serif\;color:#1A191A">Health and safety are core values for ABC and members. As ABC chapters and members prepare to host media\, lawmakers\, students and/or the general public at an event or jobsite\, watching this updated webinar is a must in that process!</span><span style="font-size:9.0pt\;font-family:&quot\;Arial&quot\;\,sans-serif\;color:#403F42"><o:p></o:p></span></p>\n
LOCATION:
UID:e.9143.1200
SEQUENCE:3
DTSTAMP:20260421T172424Z
URL:https://business.abcnalabama.org/events/details/updated-safety-best-practices-during-public-events-1200
END:VEVENT

END:VCALENDAR
