BEGIN:VCALENDAR
VERSION:2.0
PRODID:-//ChamberMaster//Event Calendar 2.0//EN
METHOD:PUBLISH
X-PUBLISHED-TTL:P3D
REFRESH-INTERVAL:P3D
CALSCALE:GREGORIAN
BEGIN:VEVENT
DTSTART:20201118T200000Z
DTEND:20201118T210000Z
X-MICROSOFT-CDO-ALLDAYEVENT:FALSE
SUMMARY:Utilizing Technology to Mitigate Risk During COVID-19 and Beyond
DESCRIPTION:Speakers: Peter Grant\, Safesite\; Buddy Henley\, Henley Construction Co. Inc.\; Chris Jervey\, StructionSite\; Corey Rimmer\, ARM\, CRIS\, RRE\, CNA Insurance\n\nModerator: Matt Abeles\, ABC National \n\n \n\nAs we navigate the increasing risks our industry faces as a result of the coronavirus pandemic\, it is crucial to consider how to combat and mitigate the risk contractors face on today's jobsite. Learn how contractors can employ innovative technology to lessen risk and increase profitability and certainty by joining a conversation featuring a member\, a global insurance leader and leading technology providers who have been on the front lines supporting contractors during the pandemic.\n\n \n\nRegister today.
X-ALT-DESC;FMTTYPE=text/html:<strong><span style="color:black\;"><span style="font-family:arial\,sans-serif\;"><span style="font-size:12.0pt\;">Speakers: </span></span></span></strong><span style="color:black\;"><span style="font-family:arial\,sans-serif\;"><span style="font-size:12.0pt\;">Peter Grant\, Safesite\; Buddy Henley\, Henley Construction Co. Inc.\; Chris Jervey\, StructionSite\; Corey Rimmer\, ARM\, CRIS\, RRE\, CNA Insurance</span></span></span><br />\n<strong><span style="color:black\;"><span style="font-family:arial\,sans-serif\;"><span style="font-size:12.0pt\;">Moderator:</span></span></span></strong><span style="color:black\;"><span style="font-family:arial\,sans-serif\;"><span style="font-size:12.0pt\;"> Matt Abeles\, ABC National </span></span></span><br />\n&nbsp\;<br />\n<span style="color:black\;"><span style="font-family:arial\,sans-serif\;"><span style="font-size:12.0pt\;">As we navigate the increasing risks our industry faces as a result of the coronavirus pandemic\, it is crucial to consider how to combat and mitigate the risk contractors face on today&rsquo\;s jobsite. Learn how contractors can employ innovative technology to lessen risk and increase profitability and certainty by joining a conversation featuring a member\, a global insurance leader and leading technology providers who have been on the front lines supporting contractors during the pandemic.</span></span></span><br />\n&nbsp\;<br />\n<span style="color:#403F42\;"><span style="font-family:arial\,sans-serif\;"><span style="font-size:9.0pt\;"><a href="http://r20.rs6.net/tn.jsp?f=001ZizGWE3MA5TBnwv9cNegDH6HIVO20R9mK2pN7TBdyKA2A8iw_TK5E-Tx5JLOdFlG4BoDLj3oag29RJOwnoyZbApTSAvfa9w6Ujg2I7mhrjPTjE6jmwyJHDJ935MEky7xv6bgSYgM6nsEsB-MDuzBmxl4kStqVNidrN0lV2YuSGk3r2iRapOf9mydTueVFUQFnYL9bkZQMXFG3lhuTqxkDemlJ5BXB78U&amp\;c=L0owhvnW5I0OY_qurVVQxAaccHuq7MG3rFcCXSExDgbccrzuEoRIhA==&amp\;ch=tUj-JOjoC69Qrg9nEgXZvpZHOsLj_pOjvZJbhkg5JhYJbN-e5PofOw==" target="_blank"><span style="color:#09A3BA\;"><span style="font-size:12.0pt\;">Register today.</span></span></a></span></span></span>
LOCATION:
UID:e.9143.899
SEQUENCE:3
DTSTAMP:20260425T152225Z
URL:https://business.abcnalabama.org/events/details/utilizing-technology-to-mitigate-risk-during-covid-19-and-beyond-899
END:VEVENT

END:VCALENDAR
