BEGIN:VCALENDAR
VERSION:2.0
PRODID:-//ChamberMaster//Event Calendar 2.0//EN
METHOD:PUBLISH
X-PUBLISHED-TTL:P3D
REFRESH-INTERVAL:P3D
CALSCALE:GREGORIAN
BEGIN:VEVENT
DTSTART:20200415T190000Z
DTEND:20200415T200000Z
X-MICROSOFT-CDO-ALLDAYEVENT:FALSE
SUMMARY:Webinar: Addressing Employee Mental Health During the Pandemic and Beyond
DESCRIPTION:Addressing Employee Mental Health During the Pandemic and Beyond\n		\n		\n			Date: Wednesday\, April 15\n\n			Time: 2 p.m.\n\n			Speakers: Calvin Beyer\, Cobb Strecker Dunphy Zimmerman (CSDZ)\; Gary Clevenger MS\, CSP\, RRE\, CNA\; Kevin Sell\, United Group Services\; Michelle Walker\, SPHR\, SSC Underground\n\n			Moderator: Greg Sizemore\, ABC National \n		\n	\n\n \n\n\n	\n		\n			A panel of industry\, safety and mental health experts will discuss proactive strategies your organization can take to address total human health on your projects\, including signs and symptoms and available resources your company and your employees can access to ensure a mentally healthy work environment.\n\n			 \n\n			Register today.
X-ALT-DESC;FMTTYPE=text/html:<table border="0" cellpadding="0" cellspacing="0" style="width:100.0%\;border-collapse:collapse\;" width="100%">\n	<tbody>\n		<tr>\n			<td style="padding:7.5pt 15.0pt 7.5pt 15.0pt\;vertical-align:top\;"><strong><span style="color:#09A3BA\;"><span style="font-family:arial\,sans-serif\;"><span style="font-size:12.0pt\;">Addressing Employee Mental Health During the Pandemic and Beyond</span></span></span></strong></td>\n		</tr>\n		<tr>\n			<td style="padding:7.5pt 15.0pt 7.5pt 15.0pt\;vertical-align:top\;"><strong><span style="color:#3A3A3A\;"><span style="font-family:arial\,sans-serif\;"><span style="font-size:12.0pt\;">Date:</span></span></span></strong><span style="color:#3A3A3A\;"><span style="font-family:arial\,sans-serif\;"><span style="font-size:12.0pt\;"> Wednesday\, April 15</span></span></span><br />\n			<strong><span style="color:#3A3A3A\;"><span style="font-family:arial\,sans-serif\;"><span style="font-size:12.0pt\;">Time:</span></span></span></strong><span style="color:#3A3A3A\;"><span style="font-family:arial\,sans-serif\;"><span style="font-size:12.0pt\;"> 2 p.m.</span></span></span><br />\n			<strong><span style="color:#3B393C\;"><span style="font-family:arial\,sans-serif\;"><span style="font-size:12.0pt\;">Speakers: </span></span></span></strong><span style="color:#3B393C\;"><span style="font-family:arial\,sans-serif\;"><span style="font-size:12.0pt\;">Calvin Beyer\, Cobb Strecker Dunphy Zimmerman (CSDZ)\; Gary Clevenger MS\, CSP\, RRE\, CNA\; Kevin Sell\, United Group Services\; Michelle Walker\, SPHR\, SSC Underground</span></span></span><br />\n			<strong><span style="color:#3B393C\;"><span style="font-family:arial\,sans-serif\;"><span style="font-size:12.0pt\;">Moderator: </span></span></span></strong><span style="color:#3B393C\;"><span style="font-family:arial\,sans-serif\;"><span style="font-size:12.0pt\;">Greg Sizemore\, ABC National </span></span></span></td>\n		</tr>\n	</tbody>\n</table>\n&nbsp\;\n\n<table border="0" cellpadding="0" cellspacing="0" style="width:100.0%\;border-collapse:collapse\;min-width:100%\;" width="100%">\n	<tbody>\n		<tr>\n			<td style="padding:7.5pt 15.0pt 7.5pt 15.0pt\;word-wrap:break-word\;vertical-align:top\;"><span style="color:#3A3A3A\;"><span style="font-family:arial\,sans-serif\;"><span style="font-size:12.0pt\;">A panel of industry\, safety and mental health experts will discuss proactive strategies your organization can take to address total human health on your projects\, including signs and symptoms and available resources your company and your employees can access to ensure a mentally healthy work environment.</span></span></span><br />\n			&nbsp\;<br />\n			<span style="color:#403F42\;"><span style="font-family:arial\,sans-serif\;"><span style="font-size:9.0pt\;"><a href="http://r20.rs6.net/tn.jsp?f=001CXRWWEgFEu4_106cW0Wjl_ksOe7E6gHqmbH25lHB1UANAcvKbHGv1QDEfANUx7OwWiv02dVl8isorMq30xK4-RBq_bcPRSm9g32jSUoC0Z3yRIFWUry5Vo-z9qewxD39QYYlH52ueTJam5N4wjbsx2V2HlpgN9hn5ArFuYwJpyqlx5qPbFli8GNr9P6RGY-l3Sfx73tDQ7I=&amp\;c=6oGnLnHaqmFZ0fJKvJnEVppzBU4WuBHEs5ukeJNMe-vSpBgsbG4YLg==&amp\;ch=dyVvbClZpfq-aK6XLmpQyENNe8KZfEJ7QadH8rFtlw9IxU9vjoPaIg==" target="_blank"><span style="color:#09A3BA\;"><span style="font-size:12.0pt\;">Register today.</span></span></a></span></span></span></td>\n		</tr>\n	</tbody>\n</table>\n
LOCATION:
UID:e.9143.837
SEQUENCE:3
DTSTAMP:20260425T163024Z
URL:https://business.abcnalabama.org/events/details/webinar-addressing-employee-mental-health-during-the-pandemic-and-beyond-837
END:VEVENT

END:VCALENDAR
