BEGIN:VCALENDAR
VERSION:2.0
PRODID:-//ChamberMaster//Event Calendar 2.0//EN
METHOD:PUBLISH
X-PUBLISHED-TTL:P3D
REFRESH-INTERVAL:P3D
CALSCALE:GREGORIAN
BEGIN:VEVENT
DTSTART:20200403T160000Z
DTEND:20200403T170000Z
X-MICROSOFT-CDO-ALLDAYEVENT:FALSE
SUMMARY:Webinar: Assessing Your Loan Options Under the CARES Act
DESCRIPTION:Assessing Your Loan Options Under the CARES Act\n\nFriday\, April 3\, 11 a.m. \n\n*Hosted by Fox Rothschild LLP\; this is not an ABC webinar*\n\nMany cash-strapped small businesses may find a lifeline in the Coronavirus Aid\, Relief and Economic Security Act (CARES Act)\, the $2.2 trillion economic stimulus act signed by President Trump\, through existing U.S. Small Business Administration (SBA) programs. The CARES Act\, in conjunction with the Coronavirus Economic Stabilization Act (CESA)\, creates new loan programs and loosens some SBA loan program requirements\, with the goal of giving small and mid-sized businesses quick access to funds and enabling companies to retain employees and maintain operations during the crisis. Our panelists will detail the differences between the Economic Injury Disaster Loan Program and the 7(a) Paycheck Protection Program\, explaining which option may best fit a company's needs and strategic objectives\, as well as discuss the requirements for the new loans for companies with more than 500 employees.\n\nRegistration: click here
X-ALT-DESC;FMTTYPE=text/html:<div style="color: black\; font-family:\; font-size: 10pt\; font-style: normal\; font-weight: 700\; margin-left: -0.25in\;">&nbsp\;&nbsp\;&nbsp\;&nbsp\;<b><span new="" style="font-size:10.0pt\;font-family:" times="">Assessing Your Loan Options Under the CARES Act</span></b></div>\n\n<p style="margin-left:.25in"><span style="font-size:10.0pt\;&#10\;font-family:">Friday\, April 3\, 11 a.m.&nbsp\;</span></p>\n\n<p style="margin-top:2.25pt\;margin-right:0in\;margin-bottom:&#10\;2.25pt\;margin-left:.25in\;background:white"><span style="font-size:10.0pt\;&#10\;font-family:">*Hosted by Fox Rothschild LLP\; this is not an ABC webinar*</span></p>\n\n<p style="margin-top:2.25pt\;margin-right:0in\;margin-bottom:&#10\;2.25pt\;margin-left:.25in\;background:white"><span style="font-size:10.0pt\;&#10\;font-family:">Many cash-strapped small businesses may find a lifeline in the Coronavirus Aid\, Relief and Economic Security Act (CARES Act)\, the $2.2 trillion economic stimulus act signed by President Trump\, through existing U.S. Small Business Administration (SBA) programs. The CARES Act\, in conjunction with the Coronavirus Economic Stabilization Act (CESA)\, creates new loan programs and loosens some SBA loan program requirements\, with the goal of giving small and mid-sized businesses quick access to funds and enabling companies to retain employees and maintain operations during the crisis. Our panelists will detail the differences between the Economic Injury Disaster Loan Program and the 7(a) Paycheck Protection Program\, explaining which option may best fit a company&rsquo\;s needs and strategic objectives\, as well as discuss the requirements for the new loans for companies with more than 500 employees.</span></p>\n\n<p style="margin-left:.25in"><b><span style="font-size:&#10\;10.0pt\;font-family:">Registration: <u><font color="#000119"><a href="https://foxrothschild2.webex.com/mw3300/mywebex/default.do?nomenu=true&amp\;siteurl=foxrothschild2&amp\;service=6&amp\;rnd=0.21943103460979008&amp\;main_url=https%3A%2F%2Ffoxrothschild2.webex.com%2Fec3300%2Feventcenter%2Fevent%2FeventAction.do%3FtheAction%3Ddetail%26%26%26EMK%3D4832534b000000040f311f635622148d46aa02d64bbc37ab8a038c2dd833984dff0952656c463ee9%26siteurl%3Dfoxrothschild2%26confViewID%3D157251578269543691%26encryptTicket%3DSDJTSwAAAAQnMr0YKWjqD_DATQf-7iXblrOJ2mJPHo2-4hiiGO6Reg2%26">click her</a>e</font></u></span></b></p>\n
LOCATION:
UID:e.9143.832
SEQUENCE:3
DTSTAMP:20260425T163244Z
URL:https://business.abcnalabama.org/events/details/webinar-assessing-your-loan-options-under-the-cares-act-832
END:VEVENT

END:VCALENDAR
