BEGIN:VCALENDAR
VERSION:2.0
PRODID:-//ChamberMaster//Event Calendar 2.0//EN
METHOD:PUBLISH
X-PUBLISHED-TTL:P3D
REFRESH-INTERVAL:P3D
CALSCALE:GREGORIAN
BEGIN:VEVENT
DTSTART:20200630T190000Z
DTEND:20200630T200000Z
X-MICROSOFT-CDO-ALLDAYEVENT:FALSE
SUMMARY:Webinar: Changes on the Horizon for Multifamily Housing Post-COVID-19
DESCRIPTION:A panel of ABC contractors and NMHC member owner/operators will provide an overview of the construction industry and multifamily housing market. Hear their perspectives on the current conditions affecting the market and the outlook for housing design\, development\, construction and occupancy during the next 12-18 months. In addition\, the group will review the intuitive software and hardware solutions making an impact on the jobsite.\nRegister Now
X-ALT-DESC;FMTTYPE=text/html:<p><span style="font-size:12.0pt\;font-family:&quot\;Arial&quot\;\,sans-serif\;&#10\;mso-fareast-font-family:&quot\;Times New Roman&quot\;\;color:#0A0A0A">A panel of ABC contractors and NMHC member owner/operators will provide an overview of the construction industry and multifamily housing market. Hear their perspectives on the current conditions affecting the market and the outlook for housing design\, development\, construction and occupancy during the next 12-18 months. In addition\, the group will review the intuitive software and hardware solutions making an impact on the jobsite.</span></p>\n<a href="https://abc.org/Education-Training/Academy-Pages/entryid/17760/Default">Register Now</a>
LOCATION:
UID:e.9143.855
SEQUENCE:3
DTSTAMP:20260425T135431Z
URL:https://business.abcnalabama.org/events/details/webinar-changes-on-the-horizon-for-multifamily-housing-post-covid-19-855
END:VEVENT

END:VCALENDAR
