BEGIN:VCALENDAR
VERSION:2.0
PRODID:-//ChamberMaster//Event Calendar 2.0//EN
METHOD:PUBLISH
X-PUBLISHED-TTL:P3D
REFRESH-INTERVAL:P3D
CALSCALE:GREGORIAN
BEGIN:VEVENT
DTSTART:20200407T190000Z
DTEND:20200407T200000Z
X-MICROSOFT-CDO-ALLDAYEVENT:FALSE
SUMMARY:Webinar: Communicating in the COVID-19 Crisis and Beyond : Don't Let 30 Years of Hard Work Get Destroyed in 30 Days
DESCRIPTION:Communicating in the COVID-19 Crisis and Beyond : Don't Let 30 Years of Hard Work Get Destroyed in 30 Days\n		\n		\n			Date: Tuesday\, April 7\n\n			Time: 2 p.m.\n\n			Speaker: Anthony Huey\, Reputation Management LLC\n\n			Moderator: Mike Bellaman\, ABC National \n\n			 \n\n			Join crisis communication expert and international keynote speaker Anthony Huey for this timely and energetic webinar that provides contractors with pragmatic insider tips on communicating clearly during the current coronavirus pandemic and beyond. Learn how to quickly and effectively communicate with critical audiences in a crisis\, including owners\, employees\, subs\, vendors\, partners\, the news media and more.\n\n			 \n\n			Register today.
X-ALT-DESC;FMTTYPE=text/html:<table border="0" cellpadding="0" cellspacing="0" style="width:100.0%\;border-collapse:collapse\;" width="100%">\n	<tbody>\n		<tr>\n			<td style="padding:7.5pt 15.0pt 7.5pt 15.0pt\;vertical-align:top\;"><strong><span style="color:#09A3BA\;"><span style="font-family:arial\,sans-serif\;"><span style="font-size:12.0pt\;">Communicating in the COVID-19 Crisis and Beyond : Don&#39\;t Let 30 Years of Hard Work Get Destroyed in 30 Days</span></span></span></strong></td>\n		</tr>\n		<tr>\n			<td style="padding:7.5pt 15.0pt 7.5pt 15.0pt\;vertical-align:top\;"><strong><span style="color:#4B4B4B\;"><span style="font-family:arial\,sans-serif\;"><span style="font-size:12.0pt\;">Date:</span></span></span></strong><span style="color:#4B4B4B\;"><span style="font-family:arial\,sans-serif\;"><span style="font-size:12.0pt\;"> Tuesday\, April 7</span></span></span><br />\n			<strong><span style="color:#4B4B4B\;"><span style="font-family:arial\,sans-serif\;"><span style="font-size:12.0pt\;">Time:</span></span></span></strong><span style="color:#4B4B4B\;"><span style="font-family:arial\,sans-serif\;"><span style="font-size:12.0pt\;"> 2 p.m.</span></span></span><br />\n			<strong><span style="color:#403F42\;"><span style="font-family:arial\,sans-serif\;"><span style="font-size:12.0pt\;">Speaker: </span></span></span></strong><span style="color:#535353\;"><span style="font-family:arial\,sans-serif\;"><span style="font-size:12.0pt\;">Anthony Huey\, Reputation Management LLC</span></span></span><br />\n			<strong><span style="color:#535353\;"><span style="font-family:arial\,sans-serif\;"><span style="font-size:12.0pt\;">Moderator: </span></span></span></strong><span style="color:#535353\;"><span style="font-family:arial\,sans-serif\;"><span style="font-size:12.0pt\;">Mike Bellaman\, ABC National </span></span></span><br />\n			&nbsp\;<br />\n			<span style="color:#3A3A3A\;"><span style="font-family:arial\,sans-serif\;"><span style="font-size:12.0pt\;">Join crisis communication expert and international keynote speaker Anthony Huey for this timely and energetic webinar that provides contractors with pragmatic insider tips on communicating clearly during the current coronavirus pandemic and beyond. Learn how to quickly and effectively communicate with critical audiences in a crisis\, including owners\, employees\, subs\, vendors\, partners\, the news media and more.</span></span></span><br />\n			&nbsp\;<br />\n			<span style="color:#403F42\;"><span style="font-family:arial\,sans-serif\;"><span style="font-size:9.0pt\;"><a href="http://r20.rs6.net/tn.jsp?f=001CXRWWEgFEu4_106cW0Wjl_ksOe7E6gHqmbH25lHB1UANAcvKbHGv1QDEfANUx7Owbbsi2CWThx7I2-PjEEBFnvcd-pFvvhkSQsqPwYY8ymsZWQLAQH5yHovY56V5VafCXDd2_1BywzBzlq69Ihl-8HiIwffYMWKLcq6m79QRz2W_nz0RjSLqtkk1sroRwHBd5iWzkTIDP9M=&amp\;c=6oGnLnHaqmFZ0fJKvJnEVppzBU4WuBHEs5ukeJNMe-vSpBgsbG4YLg==&amp\;ch=dyVvbClZpfq-aK6XLmpQyENNe8KZfEJ7QadH8rFtlw9IxU9vjoPaIg==" target="_blank"><span style="color:#09A3BA\;"><span style="font-size:12.0pt\;">Register today.</span></span></a></span></span></span></td>\n		</tr>\n	</tbody>\n</table>\n
LOCATION:
UID:e.9143.836
SEQUENCE:3
DTSTAMP:20260425T163040Z
URL:https://business.abcnalabama.org/events/details/webinar-communicating-in-the-covid-19-crisis-and-beyond-don-t-let-30-years-of-hard-work-get-destroyed-in-30-days-836
END:VEVENT

END:VCALENDAR
