BEGIN:VCALENDAR
VERSION:2.0
PRODID:-//ChamberMaster//Event Calendar 2.0//EN
METHOD:PUBLISH
X-PUBLISHED-TTL:P3D
REFRESH-INTERVAL:P3D
CALSCALE:GREGORIAN
BEGIN:VEVENT
DTSTART:20200402T190000Z
DTEND:20200402T200000Z
X-MICROSOFT-CDO-ALLDAYEVENT:FALSE
SUMMARY:Webinar: Contractors and Supply Chain Partners: Thinking and Delivering "Win-Win" Supply Chains
DESCRIPTION:Contractors and Supply Chain Partners: Thinking and Delivering "Win-Win" Supply Chains\n					\n					\n						Date: Thursday\, April 2\n\n						Time: 2 p.m. \n\n						Moderator:  Mike Bellaman\, President and CEO\, ABC National\n\n						 Speakers: Representatives from JLG\, Southwire\, Tradesmen International\, United Rentals and Viewpoint\n					\n				\n			\n			 \n\n			\n				\n					\n						Hear from a panel of ABC's strategic partners about how contractors and supply chain partners can collaborate with a win-win attitude to plan for and execute construction business continuity today\, tomorrow and over the next few months as we battle COVID-19.\n\n						 \n\n						 \n\n						Register today.
X-ALT-DESC;FMTTYPE=text/html:<table align="center" border="0" cellpadding="0" cellspacing="0" style="width:100.0%\;border-collapse:collapse\;" width="100%">\n	<tbody>\n		<tr>\n			<td style="width:100.0%\;background:#F0F0F3\;padding:0in 0in 0in 0in\;vertical-align:top\;">\n			<table border="0" cellpadding="0" cellspacing="0" style="width:100.0%\;border-collapse:collapse\;" width="100%">\n				<tbody>\n					<tr>\n						<td style="padding:7.5pt 15.0pt 7.5pt 15.0pt\;vertical-align:top\;"><strong><span style="color:#09A3BA\;"><span style="font-family:arial\,sans-serif\;"><span style="font-size:12.0pt\;">Contractors and Supply Chain Partners: Thinking and Delivering &quot\;Win-Win&quot\; Supply Chains</span></span></span></strong></td>\n					</tr>\n					<tr>\n						<td style="padding:7.5pt 15.0pt 7.5pt 15.0pt\;vertical-align:top\;"><strong><span style="color:#3A3A3A\;"><span style="font-family:arial\,sans-serif\;"><span style="font-size:12.0pt\;">Date:</span></span></span></strong><span style="color:#3A3A3A\;"><span style="font-family:arial\,sans-serif\;"><span style="font-size:12.0pt\;"> Thursday\, April 2</span></span></span><br />\n						<strong><span style="color:#3A3A3A\;"><span style="font-family:arial\,sans-serif\;"><span style="font-size:12.0pt\;">Time:</span></span></span></strong><span style="color:#3A3A3A\;"><span style="font-family:arial\,sans-serif\;"><span style="font-size:12.0pt\;"> 2 p.m.&nbsp\;</span></span></span><br />\n						<strong><span style="color:#3A3A3A\;"><span style="font-family:arial\,sans-serif\;"><span style="font-size:12.0pt\;">Moderator: </span></span></span></strong><span style="color:#403F42\;"><span style="font-family:arial\,sans-serif\;"><span style="font-size:12.0pt\;">&nbsp\;Mike Bellaman\, President and CEO\, ABC National</span></span></span><br />\n						&#65279\;<strong><span style="color:#3A3A3A\;"><span style="font-family:arial\,sans-serif\;"><span style="font-size:12.0pt\;">Speakers:</span></span></span></strong><span style="color:#3A3A3A\;"><span style="font-family:arial\,sans-serif\;"><span style="font-size:12.0pt\;"> Representatives from JLG\, Southwire\, Tradesmen International\, United Rentals and Viewpoint</span></span></span></td>\n					</tr>\n				</tbody>\n			</table>\n			&nbsp\;\n\n			<table border="0" cellpadding="0" cellspacing="0" style="width:100.0%\;border-collapse:collapse\;min-width:100%\;" width="100%">\n				<tbody>\n					<tr>\n						<td style="padding:7.5pt 15.0pt 7.5pt 15.0pt\;word-wrap:break-word\;vertical-align:top\;"><span style="color:#403F42\;"><span style="font-family:arial\,sans-serif\;"><span style="font-size:12.0pt\;">Hear from a panel of ABC&rsquo\;s strategic partners about how contractors and supply chain partners can collaborate with a win-win attitude to plan for and execute construction business continuity today\, tomorrow and over the next few months as we battle COVID-19.</span></span></span><br />\n						&nbsp\;<br />\n						&nbsp\;<br />\n						<span style="color:#403F42\;"><span style="font-family:arial\,sans-serif\;"><span style="font-size:9.0pt\;"><a href="http://r20.rs6.net/tn.jsp?f=001MFAgq6NKPexOEKYVOiFPwDT_lmZ--nAPcKyl8yJeqdJQdVHT6TUkLdXVTQNchsZf-mihq9wCQ-85lJr4jOmae0tUmMFm4ERLMM8JaRBBt_7frT9Nv4Cl1qpUEvEYiru2FaaYl_GpJdwNC-zF1ugYMmjbjbXOMgsrH_aLQbeXOtIPMaD_wbQI5D0_GBotOciHP8fSi4JEFno=&amp\;c=kBvN61L5Fh3Jf-eSJO5hPifmP18-jX6t9VUh5crGBUuqdwAyov6d9w==&amp\;ch=tcKyg8HM729bX8oxyv2y2F2qDtyUyzpQaSh6t7TQee3B77tC-tfZKA==" target="_blank"><span style="color:#09A3BA\;"><span style="font-size:12.0pt\;">Register today.</span></span></a></span></span></span></td>\n					</tr>\n				</tbody>\n			</table>\n			</td>\n		</tr>\n	</tbody>\n</table>\n\n<div style="clear:both\;">&nbsp\;</div>\n
LOCATION:
UID:e.9143.830
SEQUENCE:3
DTSTAMP:20260425T162740Z
URL:https://business.abcnalabama.org/events/details/webinar-contractors-and-supply-chain-partners-thinking-and-delivering-win-win-supply-chains-830
END:VEVENT

END:VCALENDAR
