BEGIN:VCALENDAR
VERSION:2.0
PRODID:-//ChamberMaster//Event Calendar 2.0//EN
METHOD:PUBLISH
X-PUBLISHED-TTL:P3D
REFRESH-INTERVAL:P3D
CALSCALE:GREGORIAN
BEGIN:VEVENT
DTSTART:20200401T190000Z
DTEND:20200401T200000Z
X-MICROSOFT-CDO-ALLDAYEVENT:FALSE
SUMMARY:Webinar: Coronavirus Impacts on HR and Employee Benefits
DESCRIPTION:Date: Wednesday\, April 1\n\n			Time: 3 p.m. EDT\n\n			Moderator: Mike Bellaman\, President and CEO\, ABC National\n\n			Speaker: Brian Robertson\, Fringe Benefit Group \n\n			 \n\n			Company owners and human resource managers will receive an overview of pressing employer regulatory and employee benefits issues related to the coronavirus pandemic and legislative response. Topics to be covered include special enrollment periods and well as premium grace periods for the fully insured\, as well as self-funded group health plans and an overview of the Families First Coronavirus Response Act Notice.\n		\n	\n\n \n\n\n	\n		\n			 \n\n			Register today.
X-ALT-DESC;FMTTYPE=text/html:<table border="0" cellpadding="0" cellspacing="0" style="width:100.0%\;border-collapse:collapse\;" width="100%">\n	<tbody>\n		<tr>\n			<td style="padding:7.5pt 15.0pt 7.5pt 15.0pt\;vertical-align:top\;"><strong><span style="color:#3A3A3A\;"><span style="font-family:arial\,sans-serif\;"><span style="font-size:12.0pt\;">Date:</span></span></span></strong><span style="color:#3A3A3A\;"><span style="font-family:arial\,sans-serif\;"><span style="font-size:12.0pt\;"> Wednesday\, April 1</span></span></span><br />\n			<strong><span style="color:#3A3A3A\;"><span style="font-family:arial\,sans-serif\;"><span style="font-size:12.0pt\;">Time:</span></span></span></strong><span style="color:#3A3A3A\;"><span style="font-family:arial\,sans-serif\;"><span style="font-size:12.0pt\;"> 3 p.m. EDT</span></span></span><br />\n			<strong><span style="color:#403F42\;"><span style="font-family:arial\,sans-serif\;"><span style="font-size:12.0pt\;">Moderator:</span></span></span></strong><span style="color:#403F42\;"><span style="font-family:arial\,sans-serif\;"><span style="font-size:12.0pt\;">&nbsp\;Mike Bellaman\, President and CEO\, ABC National</span></span></span><br />\n			<strong><span style="color:#3A3A3A\;"><span style="font-family:arial\,sans-serif\;"><span style="font-size:12.0pt\;">Speaker:</span></span></span></strong> <span style="color:#403F42\;"><span style="font-family:arial\,sans-serif\;"><span style="font-size:12.0pt\;">Brian Robertson\, Fringe Benefit Group&nbsp\;</span></span></span><br />\n			&nbsp\;<br />\n			<span style="color:#403F42\;"><span style="font-family:arial\,sans-serif\;"><span style="font-size:12.0pt\;">Company owners and human resource managers will receive an overview of pressing employer regulatory and employee benefits issues related to the coronavirus pandemic and legislative response.&nbsp\;Topics to be covered include special enrollment periods and well as premium grace periods for the fully insured\, as well as self-funded group health plans and an overview of the Families First Coronavirus Response Act Notice.</span></span></span></td>\n		</tr>\n	</tbody>\n</table>\n&nbsp\;\n\n<table border="0" cellpadding="0" cellspacing="0" style="width:100.0%\;border-collapse:collapse\;min-width:100%\;" width="100%">\n	<tbody>\n		<tr>\n			<td style="padding:7.5pt 15.0pt 7.5pt 15.0pt\;word-wrap:break-word\;vertical-align:top\;">&nbsp\;<br />\n			<span style="color:#403F42\;"><span style="font-family:arial\,sans-serif\;"><span style="font-size:9.0pt\;"><a href="http://r20.rs6.net/tn.jsp?f=001MFAgq6NKPexOEKYVOiFPwDT_lmZ--nAPcKyl8yJeqdJQdVHT6TUkLdXVTQNchsZfw-NOzP5lMI_HMtz2vkhPervOHfYatacEy_HVHc5MBjwmZ1DsGIDuDfhEOpLWEOEgtE5SzKvs_c79U_coZ8pRNJUDs5QNH4rABuyqpT_Cj-QoEpyS4OXjTWgysp_U2DQnzjimf0l6qFs=&amp\;c=kBvN61L5Fh3Jf-eSJO5hPifmP18-jX6t9VUh5crGBUuqdwAyov6d9w==&amp\;ch=tcKyg8HM729bX8oxyv2y2F2qDtyUyzpQaSh6t7TQee3B77tC-tfZKA==" target="_blank"><span style="color:#09A3BA\;"><span style="font-size:12.0pt\;">Register today.</span></span></a></span></span></span></td>\n		</tr>\n	</tbody>\n</table>\n
LOCATION:
UID:e.9143.829
SEQUENCE:3
DTSTAMP:20260425T162810Z
URL:https://business.abcnalabama.org/events/details/webinar-coronavirus-impacts-on-hr-and-employee-benefits-829
END:VEVENT

END:VCALENDAR
