BEGIN:VCALENDAR
VERSION:2.0
PRODID:-//ChamberMaster//Event Calendar 2.0//EN
METHOD:PUBLISH
X-PUBLISHED-TTL:P3D
REFRESH-INTERVAL:P3D
CALSCALE:GREGORIAN
BEGIN:VEVENT
DTSTART:20200324T190000Z
DTEND:20200324T203000Z
X-MICROSOFT-CDO-ALLDAYEVENT:FALSE
SUMMARY:Webinar: COVID-19 and Its Impact on Jobsite Health and Safety
DESCRIPTION:COVID-19 and Its Impact on Jobsite Health and Safety\n		\n		\n			Date: Tuesday\, March 24\n\n			Time: 3 p.m. EDT\n\n			Speakers: Mike Bellaman\, ABC National\; Joel Pickering\, Lend Lease\; Frank Trujillo\, Miller & Long\; Jorge Vasquez\, Marek\; Steve Wiltshire\, ABC National (Moderator: Greg Sizemore\, ABC National)\n		\n	\n\n \n\n\n	\n		\n			ABC National Safety and Health Committee members discuss proactive approaches and share best practices employers and employees can implement to maintain a safe and healthy jobsite during the coronavirus pandemic. \n\n			 \n\n			Register today.
X-ALT-DESC;FMTTYPE=text/html:<table border="0" cellpadding="0" cellspacing="0" style="width:100.0%\;border-collapse:collapse\;" width="100%">\n	<tbody>\n		<tr>\n			<td style="padding:7.5pt 15.0pt 7.5pt 15.0pt\;vertical-align:top\;"><strong><span style="color:#09A3BA\;"><span style="font-family:arial\,sans-serif\;"><span style="font-size:12.0pt\;">COVID-19 and Its Impact on Jobsite Health and Safety</span></span></span></strong></td>\n		</tr>\n		<tr>\n			<td style="padding:7.5pt 15.0pt 7.5pt 15.0pt\;vertical-align:top\;"><strong><span style="color:#3A3A3A\;"><span style="font-family:arial\,sans-serif\;"><span style="font-size:12.0pt\;">Date:</span></span></span></strong><span style="color:#3A3A3A\;"><span style="font-family:arial\,sans-serif\;"><span style="font-size:12.0pt\;"> Tuesday\, March 24</span></span></span><br />\n			<strong><span style="color:#3A3A3A\;"><span style="font-family:arial\,sans-serif\;"><span style="font-size:12.0pt\;">Time:</span></span></span></strong><span style="color:#3A3A3A\;"><span style="font-family:arial\,sans-serif\;"><span style="font-size:12.0pt\;"> 3 p.m. EDT</span></span></span><br />\n			<strong><span style="color:#3A3A3A\;"><span style="font-family:arial\,sans-serif\;"><span style="font-size:12.0pt\;">Speakers:</span></span></span></strong> <span style="color:#353535\;"><span style="font-family:arial\,sans-serif\;"><span style="font-size:12.0pt\;">Mike Bellaman\, ABC National\; Joel Pickering\, Lend Lease\; Frank Trujillo\, Miller &amp\; Long\; Jorge Vasquez\, Marek\; Steve Wiltshire\, ABC National (Moderator: Greg Sizemore\, ABC National)</span></span></span></td>\n		</tr>\n	</tbody>\n</table>\n&nbsp\;\n\n<table border="0" cellpadding="0" cellspacing="0" style="width:100.0%\;border-collapse:collapse\;min-width:100%\;" width="100%">\n	<tbody>\n		<tr>\n			<td style="padding:7.5pt 15.0pt 7.5pt 15.0pt\;word-wrap:break-word\;vertical-align:top\;"><span style="color:#3A3A3A\;"><span style="font-family:arial\,sans-serif\;"><span style="font-size:12.0pt\;">ABC National Safety and Health Committee members discuss proactive approaches and share best practices employers and employees can implement to maintain a safe and healthy jobsite during the coronavirus pandemic.&nbsp\;</span></span></span><br />\n			&nbsp\;<br />\n			<span style="color:#403F42\;"><span style="font-family:arial\,sans-serif\;"><span style="font-size:9.0pt\;"><a href="http://r20.rs6.net/tn.jsp?f=001tq9Oxxs2ftmrWpcbupZCxDmzKz2Frv66JItTAV7RlXutVzuWeXYh6C10mhgf8-gWGTyLpC2Ty4Uv3f_oceOreWX--gggmnMLUkIHtc3SRVFZjSOIbqOxaa0wXcE-6oYeT9oTgsMRtzru_tiY6K2PZkNsGwESw0t9rGO__9qx5UKzId2mptJPDAZk6ZzKThfYSPMFnQQV4LY=&amp\;c=WmRENLupvCjgJM9PT0vzzygsk6dqNcGKPKG3laU7nNvHqsR_YsemQQ==&amp\;ch=rIihQpNTnCpn2gDEfh3qxobDRxFVqH4NH59y8X-dtE0dM5jmCCVl_g==" target="_blank"><span style="color:#09A3BA\;"><span style="font-size:12.0pt\;">Register today.</span></span></a></span></span></span></td>\n		</tr>\n	</tbody>\n</table>\n
LOCATION:
UID:e.9143.826
SEQUENCE:3
DTSTAMP:20260425T175145Z
URL:https://business.abcnalabama.org/events/details/webinar-covid-19-and-its-impact-on-jobsite-health-and-safety-826
END:VEVENT

END:VCALENDAR
