BEGIN:VCALENDAR
VERSION:2.0
PRODID:-//ChamberMaster//Event Calendar 2.0//EN
METHOD:PUBLISH
X-PUBLISHED-TTL:P3D
REFRESH-INTERVAL:P3D
CALSCALE:GREGORIAN
BEGIN:VEVENT
DTSTART:20200414T190000Z
DTEND:20200414T200000Z
X-MICROSOFT-CDO-ALLDAYEVENT:FALSE
SUMMARY:Webinar: COVID-19 and OSHA Compliance
DESCRIPTION:COVID-19 and OSHA Compliance\n		\n		\n			\n			Date: Tuesday\, April 14\n\n			Time: 2 p.m.\n\n			Speaker: Brad Hammock\, Littler Mendelson P.C.\n\n			 \n\n			Join ABC OSHA counsel Brad Hammock for a webinar providing guidance to ABC members and chapter staff on OSHA compliance and enforcement during COVID-19\, including recording and reporting workplace exposures to COVID-19\, respiratory protection and more.\n\n			 \n\n			Register today: \n\n			https://register.gotowebinar.com/register/3960411602586771469
X-ALT-DESC;FMTTYPE=text/html:<table border="0" cellpadding="0" cellspacing="0" style="width:100.0%\;border-collapse:collapse\;" width="100%">\n	<tbody>\n		<tr>\n			<td style="padding:7.5pt 15.0pt 7.5pt 15.0pt\;vertical-align:top\;"><strong><span style="color:#09A3BA\;"><span style="font-family:arial\,sans-serif\;"><span style="font-size:12.0pt\;">COVID-19 and OSHA Compliance</span></span></span></strong></td>\n		</tr>\n		<tr>\n			<td style="padding:7.5pt 15.0pt 7.5pt 15.0pt\;vertical-align:top\;">\n			<p><strong><span style="color:#0A0A0A\;"><span style="font-family:arial\,sans-serif\;"><span style="font-size:12.0pt\;">Date: </span></span></span></strong><span style="color:#0A0A0A\;"><span style="font-family:arial\,sans-serif\;"><span style="font-size:12.0pt\;">Tuesday\, April 14</span></span></span><br />\n			<strong><span style="color:#0A0A0A\;"><span style="font-family:arial\,sans-serif\;"><span style="font-size:12.0pt\;">Time:</span></span></span></strong><span style="color:#0A0A0A\;"><span style="font-family:arial\,sans-serif\;"><span style="font-size:12.0pt\;"> 2 p.m.</span></span></span><br />\n			<strong><span style="color:#0A0A0A\;"><span style="font-family:arial\,sans-serif\;"><span style="font-size:12.0pt\;">Speaker:</span></span></span></strong><span style="color:#0A0A0A\;"><span style="font-family:arial\,sans-serif\;"><span style="font-size:12.0pt\;"> Brad Hammock\, Littler Mendelson P.C.</span></span></span><br />\n			&nbsp\;<br />\n			<span style="color:#0A0A0A\;"><span style="font-family:arial\,sans-serif\;"><span style="font-size:12.0pt\;">Join ABC OSHA counsel Brad Hammock for a webinar providing guidance to ABC members and chapter staff on OSHA compliance and enforcement during COVID-19\, including recording and reporting workplace exposures to COVID-19\, respiratory protection and more.</span></span></span><br />\n			&nbsp\;<br />\n			<span style="font-family:arial\,sans-serif\;"><u><font size="3"><font color="#000118"><a href="http://r20.rs6.net/tn.jsp?f=001ZjjusHFqCj8ZlyMKnsnPh-7OuxDKt4nIQ2urCqacBTJaMcNWnz5i-ETAtOWhCkdhGRUYZluMlY2ta3IgkiRdNFw4r8pnSnN0ENjjuGY1bxJbIstlw37RmgpKep6aHpr1ekOQT9geSuhhoE_24Tm7vVoI9Yltn1cRuvz3TdyZpueobBzCb6hxDb5M1fhTUwiJf4vNu-yeHlg=&amp\;c=J564leAON3MABVxGVXNqlrM0nr3SBH3FEZMZkMLiGPRI7F5ddlPavg==&amp\;ch=18wgh6IHrNCWGO-J2j9FLxMAU1uXRB2qnjiUMlwSYBsWNBkr-kp9EQ==" target="_blank">Register today</a>:&nbsp\;</font></font></u></span></p>\n\n			<p><a href="https://register.gotowebinar.com/register/3960411602586771469">https://register.gotowebinar.com/register/3960411602586771469</a></p>\n			</td>\n		</tr>\n	</tbody>\n</table>\n
LOCATION:
UID:e.9143.842
SEQUENCE:3
DTSTAMP:20260425T162626Z
URL:https://business.abcnalabama.org/events/details/webinar-covid-19-and-osha-compliance-842
END:VEVENT

END:VCALENDAR
