BEGIN:VCALENDAR
VERSION:2.0
PRODID:-//ChamberMaster//Event Calendar 2.0//EN
METHOD:PUBLISH
X-PUBLISHED-TTL:P3D
REFRESH-INTERVAL:P3D
CALSCALE:GREGORIAN
BEGIN:VEVENT
DTSTART:20200701T153000Z
DTEND:20200701T163000Z
X-MICROSOFT-CDO-ALLDAYEVENT:FALSE
SUMMARY:Webinar: COVID-19 in the Workplace—Recent Developments and Compliance Challenges
DESCRIPTION:It has become apparent that COVID-19 is going to dominate employment and labor law issues for the foreseeable future. To address evolving labor and employment law challenges\, Littler has decided to host COVID-19 webinars on the first Friday of each month. The series is designed to keep business leaders\, human resources professionals and in-house counsel current with the best thinking that Littler has to offer during the crisis.\n\n\n\nRegister Now
X-ALT-DESC;FMTTYPE=text/html:<span style="color:#0A0A0A\;"><span style="font-family:arial\,sans-serif\;"><span style="font-size:12.0pt\;">It has become apparent that COVID-19 is going to dominate employment and labor law issues for the foreseeable future. To address evolving labor and employment law challenges\, Littler has decided to host COVID-19 webinars on the first Friday of each month. The series is designed to keep business leaders\, human resources professionals and in-house counsel current with the best thinking that Littler has to offer during the crisis.</span></span></span><br />\n<br />\n<a href="https://abc.org/Education-Training/Academy-Pages/entryid/17527/Default">Register Now</a>
LOCATION:
UID:e.9143.857
SEQUENCE:3
DTSTAMP:20260425T122954Z
URL:https://business.abcnalabama.org/events/details/webinar-covid-19-in-the-workplace-recent-developments-and-compliance-challenges-857
END:VEVENT

END:VCALENDAR
