BEGIN:VCALENDAR
VERSION:2.0
PRODID:-//ChamberMaster//Event Calendar 2.0//EN
METHOD:PUBLISH
X-PUBLISHED-TTL:P3D
REFRESH-INTERVAL:P3D
CALSCALE:GREGORIAN
BEGIN:VEVENT
DTSTART:20230419T190000Z
DTEND:20230419T200000Z
X-MICROSOFT-CDO-ALLDAYEVENT:FALSE
SUMMARY:Webinar: Deep Dive Into Construction Work in Progress
DESCRIPTION:Work in progress is key to construction job costing\, allowing contractors to proactively manage their jobs and businesses. By leveraging WIP reports\, contractors can set their projects and businesses up for success.\n\nSign up to learn:\n\n  What WIP is and why it's essential\n\n  How WIP works with schedule of values\, backlog\, general ledger\, etc.\n\n  How to compare and analyze WIP reports from different time periods to stay on top of jobs\n\n\n\nREGISTER NOW
X-ALT-DESC;FMTTYPE=text/html:<div style="box-sizing: inherit\; margin: 0px 0px 1rem\; padding: 0px\; border: 0px\; font-variant-numeric: inherit\; font-variant-east-asian: inherit\; font-stretch: inherit\; font-size: 14px\; line-height: inherit\; vertical-align: baseline\; color: rgb(83\, 83\, 83)\; font-family: &quot\;Proxima N W01 Reg&quot\; !important\;">Work in progress is key to construction job costing\, allowing contractors to proactively manage their jobs and businesses. By leveraging WIP reports\, contractors can set their projects and businesses up for success.</div>\n\n<div style="box-sizing: inherit\; margin: 0px 0px 1rem\; padding: 0px\; border: 0px\; font-variant-numeric: inherit\; font-variant-east-asian: inherit\; font-stretch: inherit\; font-size: 14px\; line-height: inherit\; vertical-align: baseline\; color: rgb(83\, 83\, 83)\; font-family: &quot\;Proxima N W01 Reg&quot\; !important\;">Sign up to learn:</div>\n\n<div style="box-sizing: inherit\; margin: 0px 0px 0px 25px\; padding: 0px 0px 0px 5px\; border: 0px\; font: inherit\; vertical-align: baseline\; list-style-type: disc !important\;">&bull\; What WIP is and why it&rsquo\;s essential</div>\n\n<div style="box-sizing: inherit\; margin: 0px 0px 0px 25px\; padding: 0px 0px 0px 5px\; border: 0px\; font: inherit\; vertical-align: baseline\; list-style-type: disc !important\;">&bull\; How WIP works with schedule of values\, backlog\, general ledger\, etc.</div>\n\n<div style="box-sizing: inherit\; margin: 0px 0px 0px 25px\; padding: 0px 0px 0px 5px\; border: 0px\; font: inherit\; vertical-align: baseline\; list-style-type: disc !important\;">&bull\; How to compare and analyze WIP reports from different time periods to stay on top of jobs<br />\n<br />\n<a href="https://www.abc.org/Academy/Academy-Pages/entryid/19801">REGISTER NOW</a></div>\n
LOCATION:
UID:e.9143.1101
SEQUENCE:3
DTSTAMP:20260421T223414Z
URL:https://business.abcnalabama.org/events/details/webinar-deep-dive-into-construction-work-in-progress-1101
END:VEVENT

END:VCALENDAR
