BEGIN:VCALENDAR
VERSION:2.0
PRODID:-//ChamberMaster//Event Calendar 2.0//EN
METHOD:PUBLISH
X-PUBLISHED-TTL:P3D
REFRESH-INTERVAL:P3D
CALSCALE:GREGORIAN
BEGIN:VEVENT
DTSTART:20191003T180000Z
DTEND:20191003T190000Z
X-MICROSOFT-CDO-ALLDAYEVENT:FALSE
SUMMARY:Webinar - Disability:IN Certification: Leveraging our Network to Grow Your Business
DESCRIPTION:Date:\n			Thursday\, Oct. 3\, 2019\n			Register Now\n		\n		\n			Time:\n			2 p.m. ET\n		\n		\n			Length:\n			60 minutes\n		\n		\n			Speakers:   \n			Patricia Richards\, Philip DeVleigher and Cami Turcotte\n		\n	\n\n\n\nWebinar Description\n\n \nABC Members Only\nGet an overview of the Disability:IN Supplier Diversity Program\, which certifies businesses owned by persons with disabilities\, including service-disabled veterans. The program provides access to commercial opportunities with Fortune 500 and 1\,000 corporations and tools and resources to help disability-owned business succeed in a competitive marketplace.\n\n\n\nThis Webinar is Designed to\n\n\n	Share information about Disability:IN and the Supplier Diversity Program\n	Expand on disability definition\, qualifiers and other requirements\n	Educate business owners about the value of certification and application processes\n	Provide insight into how to do business with large national and multinational corporations\n\n Who Should Attend\n\n\n	Disability-owned businesses\n	Veterans with disabilities\n	Service-disabled veteran-owned businesses\n\nRegister now
X-ALT-DESC;FMTTYPE=text/html:<table style="width: 100%\;">\n	<tbody>\n		<tr>\n			<td style="text-align: left\; vertical-align: top\;"><strong><span style="color: rgb(128\, 128\, 128)\; font-family: Calibri\;">Date:</span></strong></td>\n			<td style="width: 75%\; text-align: left\; vertical-align: top\;">Thursday\, Oct. 3\, 2019</td>\n			<td class="Heading6" rowspan="5" style="text-align: right\; vertical-align: top\;"><span><a href="https://attendee.gotowebinar.com/register/5265840861794723330" id="RegisterNow" target="_blank"><span><font color="#0066cc">Register Now</font></span></a></span></td>\n		</tr>\n		<tr>\n			<td style="text-align: left\; vertical-align: top\;"><strong><span style="color: rgb(128\, 128\, 128)\; font-family: Calibri\;">Time:</span></strong></td>\n			<td style="width: 75%\; text-align: left\; vertical-align: top\;">2 p.m. ET</td>\n		</tr>\n		<tr>\n			<td style="text-align: left\; vertical-align: top\;"><strong><span style="color: rgb(128\, 128\, 128)\; font-family: Calibri\;">Length:</span></strong></td>\n			<td style="width: 75%\; text-align: left\; vertical-align: top\;">60 minutes</td>\n		</tr>\n		<tr>\n			<td style="text-align: left\; vertical-align: top\;"><strong><span style="color: rgb(128\, 128\, 128)\; font-family: Calibri\;">Speakers:&nbsp\; &nbsp\;</span></strong></td>\n			<td style="width: 75%\; text-align: left\; vertical-align: top\;">Patricia Richards\, Philip DeVleigher and Cami Turcotte</td>\n		</tr>\n	</tbody>\n</table>\n<br />\n<span class="Heading2">Webinar Description</span><br />\n&nbsp\;\n<p style="color: red\;">ABC Members Only</p>\nGet an overview of the Disability:IN Supplier Diversity Program\, which certifies businesses owned by persons with disabilities\, including service-disabled veterans. The program provides access to commercial opportunities with Fortune 500 and 1\,000 corporations and tools and resources to help disability-owned business succeed in a competitive marketplace.<br />\n<br />\n<span class="Heading2">This Webinar is Designed to</span>\n\n<ol>\n	<li>Share information about Disability:IN and the Supplier Diversity Program</li>\n	<li>Expand on disability definition\, qualifiers and other requirements</li>\n	<li>Educate business owners about the value of certification and application processes</li>\n	<li>Provide insight into how to do business with large national and multinational corporations</li>\n</ol>\n<span class="Heading2"> Who Should Attend</span>\n\n<ol>\n	<li>Disability-owned businesses</li>\n	<li>Veterans with disabilities</li>\n	<li>Service-disabled veteran-owned businesses</li>\n</ol>\n<a href="https://www.abc.org/Education-Training/Academy-Pages/entryid/16602/Default">Register now</a><br />\n&nbsp\;
LOCATION:
UID:e.9143.789
SEQUENCE:3
DTSTAMP:20260426T002646Z
URL:https://business.abcnalabama.org/events/details/webinar-disability-in-certification-leveraging-our-network-to-grow-your-business-789
END:VEVENT

END:VCALENDAR
