BEGIN:VCALENDAR
VERSION:2.0
PRODID:-//ChamberMaster//Event Calendar 2.0//EN
METHOD:PUBLISH
X-PUBLISHED-TTL:P3D
REFRESH-INTERVAL:P3D
CALSCALE:GREGORIAN
BEGIN:VEVENT
DTSTART:20200403T140000Z
DTEND:20200403T150000Z
X-MICROSOFT-CDO-ALLDAYEVENT:FALSE
SUMMARY:Webinar: Exclusive ABC North Alabama Member Call: CARES Impact on 401(k) Plans
DESCRIPTION:Friday\, April 3 at 9:00-10:00 am\n\n \n\nThis webinar is for ABC North Alabama Members and is being hosted by your fellow Members\, Mutual of America. During this webinar\, the following topics will be covered:\n\n \n\n	New coronavirus-related distribution option\n	Coronavirus-related loan rules\n	Required Minimum Distribution (RMD) suspensions\n	New deadlines\n	Furloughs vs. Layoffs\n\n \n\nClick here to join the meeting\n\nMeeting Number (access code): 615 910 597\n\nMeeting password: XYnsrws*237\n\nOr join by phone: 1-877-310-7479
X-ALT-DESC;FMTTYPE=text/html:<strong><span style="color:#403F42\;"><span style="font-family:arial\,sans-serif\;"><span style="font-size:10.5pt\;">Friday\, April 3 at 9:00-10:00 am</span></span></span></strong><br />\n&nbsp\;<br />\n<span style="color:#403F42\;"><span style="font-family:arial\,sans-serif\;"><span style="font-size:10.5pt\;">This webinar is for ABC North Alabama Members and is being hosted by your fellow Members\, Mutual of America. During this webinar\, the following topics will be covered:</span></span></span><br />\n&nbsp\;\n<ul>\n	<li><span style="color:#403F42\;"><span style="font-family:arial\,sans-serif\;"><span style="font-size:10.5pt\;">New coronavirus-related distribution option</span></span></span></li>\n	<li><span style="color:#403F42\;"><span style="font-family:arial\,sans-serif\;"><span style="font-size:10.5pt\;">Coronavirus-related loan rules</span></span></span></li>\n	<li><span style="color:#403F42\;"><span style="font-family:arial\,sans-serif\;"><span style="font-size:10.5pt\;">Required Minimum Distribution (RMD) suspensions</span></span></span></li>\n	<li><span style="color:#403F42\;"><span style="font-family:arial\,sans-serif\;"><span style="font-size:10.5pt\;">New deadlines</span></span></span></li>\n	<li><span style="color:#403F42\;"><span style="font-family:arial\,sans-serif\;"><span style="font-size:10.5pt\;">Furloughs vs. Layoffs</span></span></span></li>\n</ul>\n&nbsp\;<br />\n<span style="color:#403F42\;"><span style="font-family:arial\,sans-serif\;"><span style="font-size:10.5pt\;"><a href="http://r20.rs6.net/tn.jsp?f=0016oOCtvHWz7PVIos6GNf3Fr7WuNnSnCq5wiaJzin5WP7odrrHsMlhD8BVW1fE0KRtNjHyHhuFUXuQiK0MLRVhbJ6VWsayv9TgM-w2XqDkKiUyl8skSxPAJLt_RKsq0wVzGdTLRu-blMOwX1_k675HzqFLqhRyA87hW-mEeBtndCoSKIMed1cYypVqaRiNv_H4BVpkbR3A49LG5pSlVXBZDG3Gp7r99ToVjrTs3PJILOAVED7jWw9KLhUF8T2InY3ca_EQJgulLLdZ7pY0x7PC7G9CB9EbgKCpAxYgpAXs7lofPgWwShOxWNwsb2MAY9QlsJ2zRxIGzl2aGOLO3-0KDhgq7Tn3Hus0mxX-_C_Uihb_d5p5WKNMWWyI-Vhf03wVkQCzZyS1DgKrXC7Xyrf6yw==&amp\;c=awlOn8vkWKk6-llA7ixTDnrjCqZ8vTgRB6APkywyTDCXOcyJQSpyLw==&amp\;ch=eLJT7gHJ-DNYlm3Oxqak7VQe48gamkdC2BUymAk_6LAsh9HFhRdegA==" target="_blank"><span style="color:#09A3BA\;">Click here to join the meeting</span></a></span></span></span><br />\n<span style="color:#403F42\;"><span style="font-family:arial\,sans-serif\;"><span style="font-size:10.5pt\;">Meeting Number (access code): 615 910 597</span></span></span><br />\n<span style="color:#403F42\;"><span style="font-family:arial\,sans-serif\;"><span style="font-size:10.5pt\;">Meeting password: XYnsrws*237</span></span></span><br />\n<span style="color:#403F42\;"><span style="font-family:arial\,sans-serif\;"><span style="font-size:10.5pt\;">Or join by phone: 1-877-310-7479</span></span></span>
LOCATION:
UID:e.9143.833
SEQUENCE:3
DTSTAMP:20260425T163442Z
URL:https://business.abcnalabama.org/events/details/webinar-exclusive-abc-north-alabama-member-call-cares-impact-on-401-k-plans-833
END:VEVENT

END:VCALENDAR
