BEGIN:VCALENDAR
VERSION:2.0
PRODID:-//ChamberMaster//Event Calendar 2.0//EN
METHOD:PUBLISH
X-PUBLISHED-TTL:P3D
REFRESH-INTERVAL:P3D
CALSCALE:GREGORIAN
BEGIN:VEVENT
DTSTART:20200504T180000Z
DTEND:20200504T190000Z
X-MICROSOFT-CDO-ALLDAYEVENT:FALSE
SUMMARY:Webinar: How to Maximize Your Use of FindContractors.com
DESCRIPTION:Date:\n			Monday\, May 4\n			 \n		\n		\n			Time:\n			2 p.m. ET\n		\n		\n			Length:\n			60 minutes\n		\n		\n			Speakers:   \n			Mike Bellaman\, President & CEO\, ABC National\n		\n	\n\nWEBINAR DESCRIPTION\n\nFindContractors.com is an excellent tool to help ABC members find and do business with other members. Members can search for an ABC contractor\, supplier or other construction professional by name\, chapter\, location\, sales volume or type of construction. Plus\, it's easy to find members that have earned an Excellence in Construction  award\, participate in the STEP safety management system and Accredited Quality Contractor program\, have designations and have signed the Drug- and Alcohol-Free Workplace Pledge. You can also update your membership information.\n\nAttend this webinar to learn how to maximize your use of this comprehensive tool!\n\nWHO SHOULD ATTEND:\n\n\n	  ABC members\n	  ABC chapter staff\n\n\nRegister Here
X-ALT-DESC;FMTTYPE=text/html:<table style="box-sizing: inherit\; color: rgb(83\, 83\, 83)\; font-family: Calibri\, Helvetica\, Arial\, sans-serif\; font-size: 14px\; border-collapse: collapse\; letter-spacing: normal\; orphans: 2\; text-indent: 0px\; text-transform: none\; widows: 2\; word-spacing: 0px\; -webkit-text-stroke-width: 0px\; background-color: rgb(255\, 255\, 255)\; text-decoration-style: initial\; text-decoration-color: initial\; width: 573px\;">\n	<tbody style="box-sizing: inherit\;">\n		<tr style="box-sizing: inherit\;">\n			<td style="box-sizing: inherit\; color: rgb(83\, 83\, 83)\; font-family: Calibri\, Helvetica\, Arial\, sans-serif\; font-size: 14px\; text-align: left\; vertical-align: top\;"><strong style="box-sizing: inherit\; margin: 0px\; padding: 0px\; border: 0px\; font-style: inherit\; font-variant: inherit\; font-weight: bolder\; font-stretch: inherit\; font-size: inherit\; line-height: inherit\; font-family: inherit\; vertical-align: baseline\;"><span style="box-sizing: inherit\; margin: 0px\; padding: 0px\; border: 0px\; font-style: inherit\; font-variant: inherit\; font-weight: inherit\; font-stretch: inherit\; font-size: inherit\; line-height: inherit\; font-family: Calibri\; vertical-align: baseline\; color: rgb(128\, 128\, 128)\;">Date:</span></strong></td>\n			<td style="box-sizing: inherit\; color: rgb(83\, 83\, 83)\; font-family: Calibri\, Helvetica\, Arial\, sans-serif\; font-size: 14px\; width: 388px\; text-align: left\; vertical-align: top\;">Monday\, May 4</td>\n			<td class="Heading6" rowspan="4" style="box-sizing: inherit\; color: rgb(247\, 49\, 54)\; font-family: Calibri\, Helvetica\, Arial\, sans-serif\; font-size: 14px\; margin: 0px 0px 5px\; font-weight: bold\; text-transform: uppercase\; text-align: right\; vertical-align: top\;">&nbsp\;</td>\n		</tr>\n		<tr style="box-sizing: inherit\;">\n			<td style="box-sizing: inherit\; color: rgb(83\, 83\, 83)\; font-family: Calibri\, Helvetica\, Arial\, sans-serif\; font-size: 14px\; text-align: left\; vertical-align: top\;"><strong style="box-sizing: inherit\; margin: 0px\; padding: 0px\; border: 0px\; font-style: inherit\; font-variant: inherit\; font-weight: bolder\; font-stretch: inherit\; font-size: inherit\; line-height: inherit\; font-family: inherit\; vertical-align: baseline\;"><span style="box-sizing: inherit\; margin: 0px\; padding: 0px\; border: 0px\; font-style: inherit\; font-variant: inherit\; font-weight: inherit\; font-stretch: inherit\; font-size: inherit\; line-height: inherit\; font-family: Calibri\; vertical-align: baseline\; color: rgb(128\, 128\, 128)\;">Time:</span></strong></td>\n			<td style="box-sizing: inherit\; color: rgb(83\, 83\, 83)\; font-family: Calibri\, Helvetica\, Arial\, sans-serif\; font-size: 14px\; width: 388px\; text-align: left\; vertical-align: top\;">2 p.m. ET</td>\n		</tr>\n		<tr style="box-sizing: inherit\;">\n			<td style="box-sizing: inherit\; color: rgb(83\, 83\, 83)\; font-family: Calibri\, Helvetica\, Arial\, sans-serif\; font-size: 14px\; text-align: left\; vertical-align: top\;"><strong style="box-sizing: inherit\; margin: 0px\; padding: 0px\; border: 0px\; font-style: inherit\; font-variant: inherit\; font-weight: bolder\; font-stretch: inherit\; font-size: inherit\; line-height: inherit\; font-family: inherit\; vertical-align: baseline\;"><span style="box-sizing: inherit\; margin: 0px\; padding: 0px\; border: 0px\; font-style: inherit\; font-variant: inherit\; font-weight: inherit\; font-stretch: inherit\; font-size: inherit\; line-height: inherit\; font-family: Calibri\; vertical-align: baseline\; color: rgb(128\, 128\, 128)\;">Length:</span></strong></td>\n			<td style="box-sizing: inherit\; color: rgb(83\, 83\, 83)\; font-family: Calibri\, Helvetica\, Arial\, sans-serif\; font-size: 14px\; width: 388px\; text-align: left\; vertical-align: top\;">60 minutes</td>\n		</tr>\n		<tr style="box-sizing: inherit\;">\n			<td style="box-sizing: inherit\; color: rgb(83\, 83\, 83)\; font-family: Calibri\, Helvetica\, Arial\, sans-serif\; font-size: 14px\; text-align: left\; vertical-align: top\;"><strong style="box-sizing: inherit\; margin: 0px\; padding: 0px\; border: 0px\; font-style: inherit\; font-variant: inherit\; font-weight: bolder\; font-stretch: inherit\; font-size: inherit\; line-height: inherit\; font-family: inherit\; vertical-align: baseline\;"><span style="box-sizing: inherit\; margin: 0px\; padding: 0px\; border: 0px\; font-style: inherit\; font-variant: inherit\; font-weight: inherit\; font-stretch: inherit\; font-size: inherit\; line-height: inherit\; font-family: Calibri\; vertical-align: baseline\; color: rgb(128\, 128\, 128)\;">Speakers:&nbsp\; &nbsp\;</span></strong></td>\n			<td style="box-sizing: inherit\; color: rgb(83\, 83\, 83)\; font-family: Calibri\, Helvetica\, Arial\, sans-serif\; font-size: 14px\; width: 388px\; text-align: left\; vertical-align: top\;">Mike Bellaman\, President &amp\; CEO\, ABC National</td>\n		</tr>\n	</tbody>\n</table>\n<span class="Heading2" style="box-sizing: inherit\; margin: 0px 0px 5px\; padding: 0px\; border: 0px\; font-style: normal\; font-variant-ligatures: normal\; font-variant-caps: normal\; font-variant-numeric: inherit\; font-variant-east-asian: inherit\; font-weight: bold\; font-stretch: inherit\; font-size: 14px\; line-height: inherit\; font-family: Calibri\, Helvetica\, Arial\, sans-serif\; vertical-align: baseline\; text-transform: uppercase\; color: rgb(128\, 128\, 128)\; letter-spacing: normal\; orphans: 2\; text-align: start\; text-indent: 0px\; white-space: normal\; widows: 2\; word-spacing: 0px\; -webkit-text-stroke-width: 0px\; background-color: rgb(255\, 255\, 255)\; text-decoration-style: initial\; text-decoration-color: initial\;">WEBINAR DESCRIPTION</span>\n\n<p style="box-sizing: inherit\; margin: 0px 0px 1rem\; padding: 0px\; border: 0px\; font-style: normal\; font-variant-ligatures: normal\; font-variant-caps: normal\; font-variant-numeric: inherit\; font-variant-east-asian: inherit\; font-weight: 400\; font-stretch: inherit\; font-size: 14px\; line-height: inherit\; font-family: Calibri\, Helvetica\, Arial\, sans-serif\; vertical-align: baseline\; color: rgb(83\, 83\, 83)\; letter-spacing: normal\; orphans: 2\; text-align: start\; text-indent: 0px\; text-transform: none\; white-space: normal\; widows: 2\; word-spacing: 0px\; -webkit-text-stroke-width: 0px\; background-color: rgb(255\, 255\, 255)\; text-decoration-style: initial\; text-decoration-color: initial\;">FindContractors.com is an excellent tool to help ABC members find and do business with other members. Members can search for an ABC contractor\, supplier or other construction professional by name\, chapter\, location\, sales volume or type of construction. Plus\, it&#39\;s easy to find members that have earned an Excellence in Construction&reg\; award\, participate in the STEP safety management system and Accredited Quality Contractor program\, have designations and have signed the Drug- and Alcohol-Free Workplace Pledge. You can also update your membership information.</p>\n\n<p style="box-sizing: inherit\; margin: 0px 0px 1rem\; padding: 0px\; border: 0px\; font-style: normal\; font-variant-ligatures: normal\; font-variant-caps: normal\; font-variant-numeric: inherit\; font-variant-east-asian: inherit\; font-weight: 400\; font-stretch: inherit\; font-size: 14px\; line-height: inherit\; font-family: Calibri\, Helvetica\, Arial\, sans-serif\; vertical-align: baseline\; color: rgb(83\, 83\, 83)\; letter-spacing: normal\; orphans: 2\; text-align: start\; text-indent: 0px\; text-transform: none\; white-space: normal\; widows: 2\; word-spacing: 0px\; -webkit-text-stroke-width: 0px\; background-color: rgb(255\, 255\, 255)\; text-decoration-style: initial\; text-decoration-color: initial\;">Attend this webinar to learn how to maximize your use of this comprehensive tool!</p>\n\n<p style="box-sizing: inherit\; margin: 0px 0px 1rem\; padding: 0px\; border: 0px\; font-style: normal\; font-variant-ligatures: normal\; font-variant-caps: normal\; font-variant-numeric: inherit\; font-variant-east-asian: inherit\; font-weight: 400\; font-stretch: inherit\; font-size: 14px\; line-height: inherit\; font-family: Calibri\, Helvetica\, Arial\, sans-serif\; vertical-align: baseline\; color: rgb(83\, 83\, 83)\; letter-spacing: normal\; orphans: 2\; text-align: start\; text-indent: 0px\; text-transform: none\; white-space: normal\; widows: 2\; word-spacing: 0px\; -webkit-text-stroke-width: 0px\; background-color: rgb(255\, 255\, 255)\; text-decoration-style: initial\; text-decoration-color: initial\;"><strong style="box-sizing: inherit\; margin: 0px\; padding: 0px\; border: 0px\; font-style: inherit\; font-variant: inherit\; font-weight: bolder\; font-stretch: inherit\; font-size: inherit\; line-height: inherit\; font-family: inherit\; vertical-align: baseline\;">WHO SHOULD ATTEND:</strong></p>\n\n<ul style="box-sizing: inherit\; margin: 0px 0px 1rem 5px\; padding: 0px\; border: 0px\; font-style: normal\; font-variant-ligatures: normal\; font-variant-caps: normal\; font-variant-numeric: inherit\; font-variant-east-asian: inherit\; font-weight: 400\; font-stretch: inherit\; font-size: 14px\; line-height: inherit\; font-family: Calibri\, Helvetica\, Arial\, sans-serif\; vertical-align: baseline\; list-style: outside disc\; color: rgb(83\, 83\, 83)\; letter-spacing: normal\; orphans: 2\; text-align: start\; text-indent: 0px\; text-transform: none\; white-space: normal\; widows: 2\; word-spacing: 0px\; -webkit-text-stroke-width: 0px\; background-color: rgb(255\, 255\, 255)\; text-decoration-style: initial\; text-decoration-color: initial\;">\n	<li style="box-sizing: inherit\; margin: 0px\; padding: 0px\; border: 0px\; font: inherit\; vertical-align: baseline\; list-style-type: none !important\;">&bull\; ABC members</li>\n	<li style="box-sizing: inherit\; margin: 0px\; padding: 0px\; border: 0px\; font: inherit\; vertical-align: baseline\; list-style-type: none !important\;">&bull\; ABC chapter staff</li>\n</ul>\n\n<div style="box-sizing: inherit\; margin: 0px\; padding: 0px\; border: 0px\; font: inherit\; vertical-align: baseline\; list-style-type: none !important\;"><a href="https://abc.org/Education-Training/Academy-Pages/entryid/16967/Default">Register Here</a></div>\n
LOCATION:
UID:e.9143.819
SEQUENCE:3
DTSTAMP:20260425T151039Z
URL:https://business.abcnalabama.org/events/details/webinar-how-to-maximize-your-use-of-findcontractors-com-819
END:VEVENT

END:VCALENDAR
