BEGIN:VCALENDAR
VERSION:2.0
PRODID:-//ChamberMaster//Event Calendar 2.0//EN
METHOD:PUBLISH
X-PUBLISHED-TTL:P3D
REFRESH-INTERVAL:P3D
CALSCALE:GREGORIAN
BEGIN:VEVENT
DTSTART:20200331T190000Z
DTEND:20200331T200000Z
X-MICROSOFT-CDO-ALLDAYEVENT:FALSE
SUMMARY:Webinar: Insights and Strategies to Help Contractors Respond to COVID-19
DESCRIPTION:Date: Tuesday\, March 31\n\n			Time: 2 p.m. \n\n			Speakers: Jack A. Callahan\, CPA \, CohnReznick LLP\; Cristi Lewis\, CPA\, CohnReznick LLP\n\n			 \n\n			 \n\n			COVID-19 has thrown world markets into a tailspin\, and it's time for construction to reposition and survive. This session will help contractors of all sizes understand critical considerations\, including contractual issues\, cash flow and overhead management\, as well as where to look for opportunities for well-positioned\, well-capitalized companies.\n\n			 \n\n			 \n\n			Register today.
X-ALT-DESC;FMTTYPE=text/html:<table border="0" cellpadding="0" cellspacing="0" style="width:100.0%\;border-collapse:collapse\;" width="100%">\n	<tbody>\n		<tr>\n			<td style="padding:7.5pt 15.0pt 7.5pt 15.0pt\;vertical-align:top\;"><strong><span style="color:#4B4B4B\;"><span style="font-family:arial\,sans-serif\;"><span style="font-size:12.0pt\;">Date:</span></span></span></strong><span style="color:#4B4B4B\;"><span style="font-family:arial\,sans-serif\;"><span style="font-size:12.0pt\;"> Tuesday\, March 31</span></span></span><br />\n			<strong><span style="color:#4B4B4B\;"><span style="font-family:arial\,sans-serif\;"><span style="font-size:12.0pt\;">Time:</span></span></span></strong><span style="color:#4B4B4B\;"><span style="font-family:arial\,sans-serif\;"><span style="font-size:12.0pt\;"> 2 p.m.&nbsp\;</span></span></span><br />\n			<strong><span style="color:#403F42\;"><span style="font-family:arial\,sans-serif\;"><span style="font-size:12.0pt\;">Speakers: </span></span></span></strong><span style="color:#3A3A3A\;"><span style="font-family:arial\,sans-serif\;"><span style="font-size:12.0pt\;">Jack A. Callahan\, CPA \, CohnReznick LLP\; Cristi Lewis\, CPA\, CohnReznick LLP</span></span></span><br />\n			&nbsp\;<br />\n			&nbsp\;<br />\n			<span style="color:#403F42\;"><span style="font-family:arial\,sans-serif\;"><span style="font-size:12.0pt\;">COVID-19 has thrown world markets into a tailspin\, and it&rsquo\;s time for construction to reposition and survive. This session will help contractors of all sizes understand critical considerations\, including contractual issues\, cash flow and overhead management\, as well as where to look for opportunities for well-positioned\, well-capitalized companies.</span></span></span><br />\n			&nbsp\;<br />\n			&nbsp\;<br />\n			<span style="color:#403F42\;"><span style="font-family:arial\,sans-serif\;"><span style="font-size:9.0pt\;"><a href="http://r20.rs6.net/tn.jsp?f=001MFAgq6NKPexOEKYVOiFPwDT_lmZ--nAPcKyl8yJeqdJQdVHT6TUkLdXVTQNchsZfHihTW3RIpAVQJ3Qn_CPr4pvZ3zplmH3Ey7_RhmNQ4BQExswkgkd2Nw-7CtG5VKdRgqqNVxnaeOz_C4f-sa-tQDl2jWymNJxpnOPFPwyTbCrov9C6Ncf5Htvzm5_33YsbquFRNeLxVWw=&amp\;c=kBvN61L5Fh3Jf-eSJO5hPifmP18-jX6t9VUh5crGBUuqdwAyov6d9w==&amp\;ch=tcKyg8HM729bX8oxyv2y2F2qDtyUyzpQaSh6t7TQee3B77tC-tfZKA==" target="_blank"><span style="color:#09A3BA\;"><span style="font-size:12.0pt\;">Register today.</span></span></a></span></span></span></td>\n		</tr>\n	</tbody>\n</table>\n
LOCATION:
UID:e.9143.828
SEQUENCE:3
DTSTAMP:20260425T180148Z
URL:https://business.abcnalabama.org/events/details/webinar-insights-and-strategies-to-help-contractors-respond-to-covid-19-828
END:VEVENT

END:VCALENDAR
