BEGIN:VCALENDAR
VERSION:2.0
PRODID:-//ChamberMaster//Event Calendar 2.0//EN
METHOD:PUBLISH
X-PUBLISHED-TTL:P3D
REFRESH-INTERVAL:P3D
CALSCALE:GREGORIAN
BEGIN:VEVENT
DTSTART:20200625T170000Z
DTEND:20200625T180000Z
X-MICROSOFT-CDO-ALLDAYEVENT:FALSE
SUMMARY:Webinar: Moving Projects Forward During COVID-19 With Collaboration Tools Like Procore and Zoom
DESCRIPTION:Collaboration has become critical during the coronavirus pandemic\, and the use of communication tools has changed drastically in the past few months\, making a big impact on how contractors run their businesses. See how Procore and Big-D Construction have integrated Zoom to find new ways to collaborate effectively and efficiently.\n\n\n\nRegister Now
X-ALT-DESC;FMTTYPE=text/html:<p><span style="font-size:12.0pt\;font-family:&quot\;Arial&quot\;\,sans-serif\;&#10\;mso-fareast-font-family:&quot\;Times New Roman&quot\;\;color:#0A0A0A">Collaboration has become critical during the coronavirus pandemic\, and the use of communication tools has changed drastically in the past few months\, making a big impact on how contractors run their businesses. See how Procore and Big-D Construction have integrated Zoom to find new ways to collaborate effectively and efficiently.<br />\n<br />\n<a href="https://abc.org/Education-Training/Academy-Pages/entryid/17730/Default">Register Now</a></span></p>\n
LOCATION:
UID:e.9143.854
SEQUENCE:3
DTSTAMP:20260425T135945Z
URL:https://business.abcnalabama.org/events/details/webinar-moving-projects-forward-during-covid-19-with-collaboration-tools-like-procore-and-zoom-854
END:VEVENT

END:VCALENDAR
