BEGIN:VCALENDAR
VERSION:2.0
PRODID:-//ChamberMaster//Event Calendar 2.0//EN
METHOD:PUBLISH
X-PUBLISHED-TTL:P3D
REFRESH-INTERVAL:P3D
CALSCALE:GREGORIAN
BEGIN:VEVENT
DTSTART:20200409T190000Z
DTEND:20200409T200000Z
X-MICROSOFT-CDO-ALLDAYEVENT:FALSE
SUMMARY:Webinar: • New Federal Paid Leave and Stimulus Laws and the Impact of the COVID-19 Virus on the Construction Workplace
DESCRIPTION:Thursday\, April 9\, 3 p.m. ET\n\nTwo major laws dealing with the COVID-19 virus\, along with dozens of state and local orders\, are severely affecting the construction industry. As of April 1\, the Families First Coronavirus Response Act mandates new paid leave for employees\, while the CARES Act offers federal stimulus to help employers retain their employees in the face of mounting layoffs. ABC general counsel Maury Baskin will describe the latest guidance from the U.S. Department of Labor\, the Centers for Disease Control and Prevention\, the Occupational Safety and Health Administration\, the Equal Employment Opportunity Commission\, the National Labor Relations Board and state and local agencies to help contractors understand the new rules governing all construction workplaces.\n\nSpeaker: Maury Baskin\, Littler Mendelson P.C\n\nRegistration: https://attendee.gotowebinar.com/register/7610127201052969740
X-ALT-DESC;FMTTYPE=text/html:<p style="margin-left:.25in"><span style="font-size:10.0pt\;\nfont-family:&quot\;Arial&quot\;\,sans-serif">Thursday\, April 9\, 3 p.m. ET</span></p>\n\n<p style="margin-left:.25in"><span style="font-size:10.0pt\;\nfont-family:&quot\;Arial&quot\;\,sans-serif\;color:black\;letter-spacing:.1pt\;background:white">Two major laws dealing with the COVID-19 virus\, along with dozens of state and local orders\, are severely affecting the construction industry. As of April 1\, the Families First Coronavirus Response Act mandates new paid leave for employees\, while the CARES Act offers federal stimulus to help employers retain their employees in the face of mounting layoffs. ABC general counsel Maury Baskin will describe the latest guidance from the U.S. Department of Labor\, the Centers for Disease Control and Prevention\, the Occupational Safety and Health Administration\, the Equal Employment Opportunity Commission\, the National Labor Relations Board and state and local agencies to help contractors understand the new rules governing all construction workplaces.</span></p>\n\n<p style="margin-left:.25in"><span style="font-size:10.0pt\;\nfont-family:&quot\;Arial&quot\;\,sans-serif\;color:black\;letter-spacing:.1pt\;background:white">Speaker:</span><b><span style="font-size:10.5pt\;font-family:&quot\;Arial&quot\;\,sans-serif\;color:black\;letter-spacing:\n.1pt\;background:white">&nbsp\;</span></b><span style="font-size:10.5pt\;\nfont-family:&quot\;Arial&quot\;\,sans-serif\;color:black\;letter-spacing:.1pt\;background:white">Maury Baskin\, Littler Mendelson P.C</span></p>\n\n<p style="margin-left:.25in"><span style="font-size:10.0pt\;\nfont-family:&quot\;Arial&quot\;\,sans-serif\;color:black\;letter-spacing:.1pt\;background:white">Registration: </span><a href="https://attendee.gotowebinar.com/register/7610127201052969740" target="_blank"><span style="font-size:10.0pt\;font-family:&quot\;Arial&quot\;\,sans-serif">https://attendee.gotowebinar.com/register/7610127201052969740</span></a><span style="font-size:10.0pt\;font-family:&quot\;Arial&quot\;\,sans-serif"> </span></p>\n
LOCATION:
UID:e.9143.834
SEQUENCE:3
DTSTAMP:20260425T163701Z
URL:https://business.abcnalabama.org/events/details/webinar-new-federal-paid-leave-and-stimulus-laws-and-the-impact-of-the-covid-19-virus-on-the-construction-workplace-834
END:VEVENT

END:VCALENDAR
