BEGIN:VCALENDAR
VERSION:2.0
PRODID:-//ChamberMaster//Event Calendar 2.0//EN
METHOD:PUBLISH
X-PUBLISHED-TTL:P3D
REFRESH-INTERVAL:P3D
CALSCALE:GREGORIAN
BEGIN:VEVENT
DTSTART:20200324T160000Z
DTEND:20200324T173000Z
X-MICROSOFT-CDO-ALLDAYEVENT:FALSE
SUMMARY:Webinar: Practical Issues for Employers in Navigating the New Federal Emergency Paid FMLA and Sick Leave Mandates
DESCRIPTION:Practical Issues for Employers in Navigating the New Federal Emergency Paid FMLA and Sick Leave Mandates\n\n			Littler\n		\n		\n			Date: Tuesday March 24\n\n			Time: 12 p.m. EDT\n\n			Speakers: James A. Paretti Jr.\, Littler Mendelson P.C.\; Jeff Nowak\, Littler Mendelson P.C.\; Alexis C. Knapp\, Littler Mendelson P.C.\n\n			 \n\n			In a 90-minute webinar\, Littler attorneys Alexis Knapp\, Jeff Nowak and Jim Paretti will offer an analysis of the new FMLA and paid sick leave provisions of the law and deliver practical counsel for employers navigating the requirements of the law.\n\n			 \n\n			 \n\n			Register today.
X-ALT-DESC;FMTTYPE=text/html:<table border="0" cellpadding="0" cellspacing="0" style="width:100.0%\;border-collapse:collapse\;" width="100%">\n	<tbody>\n		<tr>\n			<td style="padding:7.5pt 15.0pt 7.5pt 15.0pt\;vertical-align:top\;"><strong><span style="color:#09A3BA\;"><span style="font-family:arial\,sans-serif\;"><span style="font-size:12.0pt\;">Practical Issues for Employers in Navigating the New Federal Emergency Paid FMLA and Sick Leave Mandates</span></span></span></strong><br />\n			<strong><em><span style="color:#09A3BA\;"><span style="font-family:arial\,sans-serif\;"><span style="font-size:9.0pt\;">Littler</span></span></span></em></strong></td>\n		</tr>\n		<tr>\n			<td style="padding:7.5pt 15.0pt 7.5pt 15.0pt\;vertical-align:top\;"><strong><span style="color:#4B4B4B\;"><span style="font-family:arial\,sans-serif\;"><span style="font-size:12.0pt\;">Date:</span></span></span></strong><span style="color:#4B4B4B\;"><span style="font-family:arial\,sans-serif\;"><span style="font-size:12.0pt\;"> Tuesday March 24</span></span></span><br />\n			<strong><span style="color:#4B4B4B\;"><span style="font-family:arial\,sans-serif\;"><span style="font-size:12.0pt\;">Time:</span></span></span></strong><span style="color:#4B4B4B\;"><span style="font-family:arial\,sans-serif\;"><span style="font-size:12.0pt\;"> 12 p.m. EDT</span></span></span><br />\n			<strong><span style="color:#4B4B4B\;"><span style="font-family:arial\,sans-serif\;"><span style="font-size:12.0pt\;">Speakers:</span></span></span></strong><span style="color:#4B4B4B\;"><span style="font-family:arial\,sans-serif\;"><span style="font-size:12.0pt\;"> James A. Paretti Jr.\, Littler Mendelson P.C.\; Jeff Nowak\, Littler Mendelson P.C.\; Alexis C. Knapp\, Littler Mendelson P.C.</span></span></span><br />\n			&nbsp\;<br />\n			<span style="color:#4B4B4B\;"><span style="font-family:arial\,sans-serif\;"><span style="font-size:12.0pt\;">In a 90-minute webinar\, Littler attorneys Alexis Knapp\, Jeff Nowak and Jim Paretti will offer an analysis of the new FMLA and paid sick leave provisions of the law and deliver practical counsel for employers navigating the requirements of the law.</span></span></span><br />\n			&nbsp\;<br />\n			&nbsp\;<br />\n			<span style="color:#403F42\;"><span style="font-family:arial\,sans-serif\;"><span style="font-size:9.0pt\;"><a href="http://r20.rs6.net/tn.jsp?f=001tq9Oxxs2ftmrWpcbupZCxDmzKz2Frv66JItTAV7RlXutVzuWeXYh6OyLSyPYToz4L0NSgl6R1rnS_RswKP8UHWuq77BLb8RR-NUfU28PnrKPZ6-OO7mjvPmAPBc5YOMyeDVgGQsBzIfadFMPwssfLLQ89w6zSwkRGzT8G_6RQal6br21lkT87TiXcvFK2RvRRMhYA-ClOFUv5-LrKEV9KBfpQmr_aK-6-nWxMWNGPNMDbWaZs8Um4Dtu9RzoPv_A-yBkXiA0t9KpYi4IqwSKyA==&amp\;c=WmRENLupvCjgJM9PT0vzzygsk6dqNcGKPKG3laU7nNvHqsR_YsemQQ==&amp\;ch=rIihQpNTnCpn2gDEfh3qxobDRxFVqH4NH59y8X-dtE0dM5jmCCVl_g==" target="_blank"><span style="color:#09A3BA\;"><span style="font-size:12.0pt\;">Register today.</span></span></a></span></span></span></td>\n		</tr>\n	</tbody>\n</table>\n
LOCATION:
UID:e.9143.825
SEQUENCE:3
DTSTAMP:20260425T193047Z
URL:https://business.abcnalabama.org/events/details/webinar-practical-issues-for-employers-in-navigating-the-new-federal-emergency-paid-fmla-and-sick-leave-mandates-825
END:VEVENT

END:VCALENDAR
