BEGIN:VCALENDAR
VERSION:2.0
PRODID:-//ChamberMaster//Event Calendar 2.0//EN
METHOD:PUBLISH
X-PUBLISHED-TTL:P3D
REFRESH-INTERVAL:P3D
CALSCALE:GREGORIAN
BEGIN:VEVENT
DTSTART:20200623T190000Z
DTEND:20200623T200000Z
X-MICROSOFT-CDO-ALLDAYEVENT:FALSE
SUMMARY:Webinar: Proven Workforce Strategies to Protect Contractors During Ramp-Up
DESCRIPTION:In a market that remains plagued with uncertainties\, supplementing a leaner workforce with skilled contracted labor can give contractors of all sizes greater confidence. Join a conversation between Tradesmen International and Poole Anderson Construction as they discuss tried-and-true staffing strategies ABC contractor members are adopting as the economy rebounds. Learn how to position your business for short- and long-term profit margin gain and take control of labor-related costs to significantly reduce your bottom line. Plus\, hear from a contractor using Tradesmen International's CORE+Flex  staffing strategy. All webinar attendees will be eligible to receive a no-charge labor productivity analysis.\nRegister Now
X-ALT-DESC;FMTTYPE=text/html:<p><span style="font-size:12.0pt\;font-family:&quot\;Arial&quot\;\,sans-serif\;&#10\;mso-fareast-font-family:&quot\;Times New Roman&quot\;\;color:#0A0A0A">In a market that remains plagued with uncertainties\, supplementing a leaner workforce with skilled contracted labor can give contractors of all sizes greater confidence. Join a conversation between Tradesmen International and Poole Anderson Construction as they discuss tried-and-true staffing strategies ABC contractor members are adopting as the economy rebounds. Learn how to position your business for short- and long-term profit margin gain and take control of labor-related costs to significantly reduce your bottom line. Plus\, hear from a contractor using Tradesmen International&rsquo\;s CORE+Flex&reg\; staffing strategy. All webinar attendees will be eligible to receive a no-charge labor productivity analysis.</span></p>\n<a href="https://abc.org/Education-Training/Academy-Pages/entryid/17654/Default">Register Now</a>
LOCATION:
UID:e.9143.853
SEQUENCE:3
DTSTAMP:20260425T135533Z
URL:https://business.abcnalabama.org/events/details/webinar-proven-workforce-strategies-to-protect-contractors-during-ramp-up-853
END:VEVENT

END:VCALENDAR
